| Back to Multiple platform build/check report for BioC 3.14 |
|
This page was generated on 2022-04-13 12:05:13 -0400 (Wed, 13 Apr 2022).
| Hostname | OS | Arch (*) | R version | Installed pkgs |
|---|---|---|---|---|
| nebbiolo2 | Linux (Ubuntu 20.04.4 LTS) | x86_64 | 4.1.3 (2022-03-10) -- "One Push-Up" | 4324 |
| tokay2 | Windows Server 2012 R2 Standard | x64 | 4.1.3 (2022-03-10) -- "One Push-Up" | 4077 |
| machv2 | macOS 10.14.6 Mojave | x86_64 | 4.1.3 (2022-03-10) -- "One Push-Up" | 4137 |
| Click on any hostname to see more info about the system (e.g. compilers) (*) as reported by 'uname -p', except on Windows and Mac OS X | ||||
|
To the developers/maintainers of the coMET package: - Please allow up to 24 hours (and sometimes 48 hours) for your latest push to git@git.bioconductor.org:packages/coMET.git to reflect on this report. See How and When does the builder pull? When will my changes propagate? for more information. - Make sure to use the following settings in order to reproduce any error or warning you see on this page. |
| Package 375/2083 | Hostname | OS / Arch | INSTALL | BUILD | CHECK | BUILD BIN | ||||||||
| coMET 1.26.0 (landing page) Tiphaine Martin
| nebbiolo2 | Linux (Ubuntu 20.04.4 LTS) / x86_64 | OK | OK | OK | |||||||||
| tokay2 | Windows Server 2012 R2 Standard / x64 | OK | OK | OK | OK | |||||||||
| machv2 | macOS 10.14.6 Mojave / x86_64 | OK | OK | OK | OK | |||||||||
| Package: coMET |
| Version: 1.26.0 |
| Command: /home/biocbuild/bbs-3.14-bioc/R/bin/R CMD check --install=check:coMET.install-out.txt --library=/home/biocbuild/bbs-3.14-bioc/R/library --no-vignettes --timings coMET_1.26.0.tar.gz |
| StartedAt: 2022-04-12 06:55:12 -0400 (Tue, 12 Apr 2022) |
| EndedAt: 2022-04-12 07:02:30 -0400 (Tue, 12 Apr 2022) |
| EllapsedTime: 438.4 seconds |
| RetCode: 0 |
| Status: OK |
| CheckDir: coMET.Rcheck |
| Warnings: 0 |
##############################################################################
##############################################################################
###
### Running command:
###
### /home/biocbuild/bbs-3.14-bioc/R/bin/R CMD check --install=check:coMET.install-out.txt --library=/home/biocbuild/bbs-3.14-bioc/R/library --no-vignettes --timings coMET_1.26.0.tar.gz
###
##############################################################################
##############################################################################
* using log directory ‘/home/biocbuild/bbs-3.14-bioc/meat/coMET.Rcheck’
* using R version 4.1.3 (2022-03-10)
* using platform: x86_64-pc-linux-gnu (64-bit)
* using session charset: UTF-8
* using option ‘--no-vignettes’
* checking for file ‘coMET/DESCRIPTION’ ... OK
* checking extension type ... Package
* this is package ‘coMET’ version ‘1.26.0’
* checking package namespace information ... OK
* checking package dependencies ... OK
* checking if this is a source package ... OK
* checking if there is a namespace ... OK
* checking for hidden files and directories ... OK
* checking for portable file names ... OK
* checking for sufficient/correct file permissions ... OK
* checking whether package ‘coMET’ can be installed ... OK
* checking installed package size ... NOTE
installed size is 19.3Mb
sub-directories of 1Mb or more:
data 7.9Mb
extdata 10.7Mb
* checking package directory ... OK
* checking ‘build’ directory ... OK
* checking DESCRIPTION meta-information ... OK
* checking top-level files ... NOTE
File
LICENSE
is not mentioned in the DESCRIPTION file.
* checking for left-over files ... OK
* checking index information ... OK
* checking package subdirectories ... OK
* checking R files for non-ASCII characters ... OK
* checking R files for syntax errors ... OK
* checking whether the package can be loaded ... OK
* checking whether the package can be loaded with stated dependencies ... OK
* checking whether the package can be unloaded cleanly ... OK
* checking whether the namespace can be loaded with stated dependencies ... OK
* checking whether the namespace can be unloaded cleanly ... OK
* checking dependencies in R code ... OK
* checking S3 generic/method consistency ... OK
* checking replacement functions ... OK
* checking foreign function calls ... OK
* checking R code for possible problems ... NOTE
draw.plot.annotation : <anonymous>: no visible global function
definition for 'ggplotGrob'
draw.plot.annotation: no visible global function definition for
'viewTracks'
draw.plot.annotation: no visible global function definition for
'trackList'
eQTL: no visible binding for global variable 'chromosome_stop'
eQTL: no visible binding for global variable 'chromosome_start'
eQTL: no visible binding for global variable 'chromosome_name'
eQTL_GTEx: no visible binding for global variable 'snp_pos'
eQTL_GTEx: no visible binding for global variable 'snp_chrom'
eQTL_GTEx: no visible binding for global variable 'gene_start'
eQTL_GTEx: no visible binding for global variable 'gene_stop'
eQTL_GTEx: no visible binding for global variable 'gene_chr'
geneExpression_GTEx: no visible global function definition for 'as'
metQTL: no visible binding for global variable 'chromosome_stop'
metQTL: no visible binding for global variable 'chromosome_start'
metQTL: no visible binding for global variable 'chromosome_name'
psiQTL_GTEx: no visible binding for global variable 'pos_snp'
psiQTL_GTEx: no visible binding for global variable 'chr_snp'
psiQTL_GTEx: no visible binding for global variable 'pos_middle_exon'
psiQTL_GTEx: no visible binding for global variable 'chr_exon'
Undefined global functions or variables:
as chr_exon chr_snp chromosome_name chromosome_start chromosome_stop
gene_chr gene_start gene_stop ggplotGrob pos_middle_exon pos_snp
snp_chrom snp_pos trackList viewTracks
Consider adding
importFrom("methods", "as")
to your NAMESPACE file (and ensure that your DESCRIPTION Imports field
contains 'methods').
* checking Rd files ... OK
* checking Rd metadata ... OK
* checking Rd cross-references ... OK
* checking for missing documentation entries ... OK
* checking for code/documentation mismatches ... OK
* checking Rd \usage sections ... OK
* checking Rd contents ... OK
* checking for unstated dependencies in examples ... OK
* checking contents of ‘data’ directory ... OK
* checking data for non-ASCII characters ... OK
* checking data for ASCII and uncompressed saves ... OK
* checking files in ‘vignettes’ ... OK
* checking examples ... OK
Examples with CPU (user + system) or elapsed time > 5s
user system elapsed
comet.web 9.091 0.696 36.030
coMET-package 5.828 0.604 13.991
* checking for unstated dependencies in ‘tests’ ... OK
* checking tests ...
Running ‘runTests.R’
OK
* checking for unstated dependencies in vignettes ... OK
* checking package vignettes in ‘inst/doc’ ... OK
* checking running R code from vignettes ... SKIPPED
* checking re-building of vignette outputs ... SKIPPED
* checking PDF version of manual ... OK
* DONE
Status: 3 NOTEs
See
‘/home/biocbuild/bbs-3.14-bioc/meat/coMET.Rcheck/00check.log’
for details.
coMET.Rcheck/00install.out
############################################################################## ############################################################################## ### ### Running command: ### ### /home/biocbuild/bbs-3.14-bioc/R/bin/R CMD INSTALL coMET ### ############################################################################## ############################################################################## * installing to library ‘/home/biocbuild/bbs-3.14-bioc/R/library’ * installing *source* package ‘coMET’ ... ** using staged installation ** R ** data ** inst ** byte-compile and prepare package for lazy loading ** help *** installing help indices ** building package indices ** installing vignettes ** testing if installed package can be loaded from temporary location ** testing if installed package can be loaded from final location ** testing if installed package keeps a record of temporary installation path * DONE (coMET)
coMET.Rcheck/tests/runTests.Rout
R version 4.1.3 (2022-03-10) -- "One Push-Up"
Copyright (C) 2022 The R Foundation for Statistical Computing
Platform: x86_64-pc-linux-gnu (64-bit)
R is free software and comes with ABSOLUTELY NO WARRANTY.
You are welcome to redistribute it under certain conditions.
Type 'license()' or 'licence()' for distribution details.
R is a collaborative project with many contributors.
Type 'contributors()' for more information and
'citation()' on how to cite R or R packages in publications.
Type 'demo()' for some demos, 'help()' for on-line help, or
'help.start()' for an HTML browser interface to help.
Type 'q()' to quit R.
> require("coMET") || stop("unable to load Package:coMET")
Loading required package: coMET
Loading required package: grid
Loading required package: biomaRt
Loading required package: Gviz
Loading required package: S4Vectors
Loading required package: stats4
Loading required package: BiocGenerics
Attaching package: 'BiocGenerics'
The following objects are masked from 'package:stats':
IQR, mad, sd, var, xtabs
The following objects are masked from 'package:base':
Filter, Find, Map, Position, Reduce, anyDuplicated, append,
as.data.frame, basename, cbind, colnames, dirname, do.call,
duplicated, eval, evalq, get, grep, grepl, intersect, is.unsorted,
lapply, mapply, match, mget, order, paste, pmax, pmax.int, pmin,
pmin.int, rank, rbind, rownames, sapply, setdiff, sort, table,
tapply, union, unique, unsplit, which.max, which.min
Attaching package: 'S4Vectors'
The following objects are masked from 'package:base':
I, expand.grid, unname
Loading required package: IRanges
Loading required package: GenomicRanges
Loading required package: GenomeInfoDb
Loading required package: psych
Attaching package: 'psych'
The following object is masked from 'package:GenomicRanges':
distance
The following objects are masked from 'package:IRanges':
distance, reflect
[1] TRUE
> BiocGenerics:::testPackage("coMET")
RUNIT TEST PROTOCOL -- Tue Apr 12 07:02:26 2022
***********************************************
Number of test functions: 1
Number of errors: 0
Number of failures: 0
1 Test Suite :
coMET RUnit Tests - 1 test function, 0 errors, 0 failures
Number of test functions: 1
Number of errors: 0
Number of failures: 0
>
> proc.time()
user system elapsed
13.830 0.646 14.457
coMET.Rcheck/coMET-Ex.timings
| name | user | system | elapsed | |
| COSMIC_UCSC | 1.993 | 0.144 | 2.138 | |
| ChIPTF_ENCODE | 0.613 | 0.048 | 0.661 | |
| ClinVarCnv_UCSC | 0.438 | 0.072 | 0.510 | |
| ClinVarMain_UCSC | 0.435 | 0.012 | 0.448 | |
| CoreillCNV_UCSC | 0.439 | 0.020 | 0.458 | |
| DNAse_UCSC | 0.475 | 0.004 | 0.479 | |
| DNaseI_FANTOM | 0.491 | 0.004 | 0.495 | |
| DNaseI_RoadMap | 0.193 | 0.000 | 0.194 | |
| GAD_UCSC | 0.421 | 0.004 | 0.425 | |
| GWAScatalog_UCSC | 0.366 | 0.000 | 0.366 | |
| GeneReviews_UCSC | 0.578 | 0.000 | 0.578 | |
| HiCdata2matrix | 0.028 | 0.000 | 0.028 | |
| HistoneAll_UCSC | 4.144 | 0.028 | 4.172 | |
| HistoneOne_UCSC | 0.350 | 0.003 | 0.353 | |
| ISCA_UCSC | 0.442 | 0.004 | 0.446 | |
| TFBS_FANTOM | 0.327 | 0.004 | 0.332 | |
| bindingMotifsBiomart_ENSEMBL | 0.128 | 0.000 | 0.128 | |
| chrUCSC2ENSEMBL | 0.001 | 0.000 | 0.000 | |
| chromHMM_RoadMap | 0.653 | 0.048 | 0.701 | |
| chromatinHMMAll_UCSC | 4.550 | 0.032 | 4.582 | |
| chromatinHMMOne_UCSC | 0.572 | 0.000 | 0.571 | |
| coMET-package | 5.828 | 0.604 | 13.991 | |
| comet | 3.054 | 0.104 | 3.158 | |
| comet.list | 0.645 | 0.044 | 0.689 | |
| comet.web | 9.091 | 0.696 | 36.030 | |
| cpgIslands_UCSC | 0.169 | 0.012 | 0.181 | |
| dgfootprints_RoadMap | 0.871 | 0.068 | 0.939 | |
| eQTL | 1.455 | 0.108 | 1.563 | |
| eQTL_GTEx | 1.262 | 0.024 | 1.285 | |
| gcContent_UCSC | 1.437 | 0.220 | 1.657 | |
| genesName_ENSEMBL | 0.003 | 0.000 | 0.003 | |
| genes_ENSEMBL | 0.783 | 0.008 | 0.792 | |
| imprintedGenes_GTEx | 3.974 | 0.104 | 4.078 | |
| interestGenes_ENSEMBL | 0.694 | 0.020 | 0.714 | |
| interestTranscript_ENSEMBL | 1.886 | 0.144 | 2.031 | |
| knownGenes_UCSC | 0.864 | 0.020 | 0.884 | |
| metQTL | 1.064 | 0.020 | 1.084 | |
| miRNATargetRegionsBiomart_ENSEMBL | 0.05 | 0.00 | 0.05 | |
| otherRegulatoryRegionsBiomart_ENSEMBL | 0.091 | 0.000 | 0.091 | |
| psiQTL_GTEx | 1.011 | 0.008 | 1.018 | |
| refGenes_UCSC | 0.830 | 0.008 | 0.838 | |
| regulationBiomart_ENSEMBL | 0.328 | 0.000 | 0.329 | |
| regulatoryEvidenceBiomart_ENSEMBL | 0.129 | 0.000 | 0.129 | |
| regulatoryFeaturesBiomart_ENSEMBL | 0.122 | 0.008 | 0.130 | |
| regulatorySegmentsBiomart_ENSEMBL | 0.129 | 0.000 | 0.128 | |
| repeatMasker_UCSC | 0.540 | 0.000 | 0.539 | |
| segmentalDups_UCSC | 0.415 | 0.004 | 0.419 | |
| snpBiomart_ENSEMBL | 0.516 | 0.008 | 0.524 | |
| snpLocations_UCSC | 1.114 | 0.004 | 1.121 | |
| structureBiomart_ENSEMBL | 0.442 | 0.000 | 0.442 | |
| transcript_ENSEMBL | 1.419 | 0.016 | 1.435 | |
| xenorefGenes_UCSC | 0.618 | 0.000 | 0.618 | |