| Back to Multiple platform build/check report for BioC 3.14 |
|
This page was generated on 2022-04-13 12:07:49 -0400 (Wed, 13 Apr 2022).
| Hostname | OS | Arch (*) | R version | Installed pkgs |
|---|---|---|---|---|
| nebbiolo2 | Linux (Ubuntu 20.04.4 LTS) | x86_64 | 4.1.3 (2022-03-10) -- "One Push-Up" | 4324 |
| tokay2 | Windows Server 2012 R2 Standard | x64 | 4.1.3 (2022-03-10) -- "One Push-Up" | 4077 |
| machv2 | macOS 10.14.6 Mojave | x86_64 | 4.1.3 (2022-03-10) -- "One Push-Up" | 4137 |
| Click on any hostname to see more info about the system (e.g. compilers) (*) as reported by 'uname -p', except on Windows and Mac OS X | ||||
|
To the developers/maintainers of the coMET package: - Please allow up to 24 hours (and sometimes 48 hours) for your latest push to git@git.bioconductor.org:packages/coMET.git to reflect on this report. See How and When does the builder pull? When will my changes propagate? for more information. - Make sure to use the following settings in order to reproduce any error or warning you see on this page. |
| Package 375/2083 | Hostname | OS / Arch | INSTALL | BUILD | CHECK | BUILD BIN | ||||||||
| coMET 1.26.0 (landing page) Tiphaine Martin
| nebbiolo2 | Linux (Ubuntu 20.04.4 LTS) / x86_64 | OK | OK | OK | |||||||||
| tokay2 | Windows Server 2012 R2 Standard / x64 | OK | OK | OK | OK | |||||||||
| machv2 | macOS 10.14.6 Mojave / x86_64 | OK | OK | OK | OK | |||||||||
| Package: coMET |
| Version: 1.26.0 |
| Command: /Library/Frameworks/R.framework/Resources/bin/R CMD check --install=check:coMET.install-out.txt --library=/Library/Frameworks/R.framework/Resources/library --no-vignettes --timings coMET_1.26.0.tar.gz |
| StartedAt: 2022-04-12 11:51:04 -0400 (Tue, 12 Apr 2022) |
| EndedAt: 2022-04-12 12:02:45 -0400 (Tue, 12 Apr 2022) |
| EllapsedTime: 701.1 seconds |
| RetCode: 0 |
| Status: OK |
| CheckDir: coMET.Rcheck |
| Warnings: 0 |
##############################################################################
##############################################################################
###
### Running command:
###
### /Library/Frameworks/R.framework/Resources/bin/R CMD check --install=check:coMET.install-out.txt --library=/Library/Frameworks/R.framework/Resources/library --no-vignettes --timings coMET_1.26.0.tar.gz
###
##############################################################################
##############################################################################
* using log directory ‘/Users/biocbuild/bbs-3.14-bioc/meat/coMET.Rcheck’
* using R version 4.1.3 (2022-03-10)
* using platform: x86_64-apple-darwin17.0 (64-bit)
* using session charset: UTF-8
* using option ‘--no-vignettes’
* checking for file ‘coMET/DESCRIPTION’ ... OK
* checking extension type ... Package
* this is package ‘coMET’ version ‘1.26.0’
* checking package namespace information ... OK
* checking package dependencies ... OK
* checking if this is a source package ... OK
* checking if there is a namespace ... OK
* checking for hidden files and directories ... OK
* checking for portable file names ... OK
* checking for sufficient/correct file permissions ... OK
* checking whether package ‘coMET’ can be installed ... OK
* checking installed package size ... NOTE
installed size is 19.3Mb
sub-directories of 1Mb or more:
data 7.9Mb
extdata 10.7Mb
* checking package directory ... OK
* checking ‘build’ directory ... OK
* checking DESCRIPTION meta-information ... OK
* checking top-level files ... NOTE
File
LICENSE
is not mentioned in the DESCRIPTION file.
* checking for left-over files ... OK
* checking index information ... OK
* checking package subdirectories ... OK
* checking R files for non-ASCII characters ... OK
* checking R files for syntax errors ... OK
* checking whether the package can be loaded ... OK
* checking whether the package can be loaded with stated dependencies ... OK
* checking whether the package can be unloaded cleanly ... OK
* checking whether the namespace can be loaded with stated dependencies ... OK
* checking whether the namespace can be unloaded cleanly ... OK
* checking dependencies in R code ... OK
* checking S3 generic/method consistency ... OK
* checking replacement functions ... OK
* checking foreign function calls ... OK
* checking R code for possible problems ... NOTE
draw.plot.annotation : <anonymous>: no visible global function
definition for 'ggplotGrob'
draw.plot.annotation: no visible global function definition for
'viewTracks'
draw.plot.annotation: no visible global function definition for
'trackList'
eQTL: no visible binding for global variable 'chromosome_stop'
eQTL: no visible binding for global variable 'chromosome_start'
eQTL: no visible binding for global variable 'chromosome_name'
eQTL_GTEx: no visible binding for global variable 'snp_pos'
eQTL_GTEx: no visible binding for global variable 'snp_chrom'
eQTL_GTEx: no visible binding for global variable 'gene_start'
eQTL_GTEx: no visible binding for global variable 'gene_stop'
eQTL_GTEx: no visible binding for global variable 'gene_chr'
geneExpression_GTEx: no visible global function definition for 'as'
metQTL: no visible binding for global variable 'chromosome_stop'
metQTL: no visible binding for global variable 'chromosome_start'
metQTL: no visible binding for global variable 'chromosome_name'
psiQTL_GTEx: no visible binding for global variable 'pos_snp'
psiQTL_GTEx: no visible binding for global variable 'chr_snp'
psiQTL_GTEx: no visible binding for global variable 'pos_middle_exon'
psiQTL_GTEx: no visible binding for global variable 'chr_exon'
Undefined global functions or variables:
as chr_exon chr_snp chromosome_name chromosome_start chromosome_stop
gene_chr gene_start gene_stop ggplotGrob pos_middle_exon pos_snp
snp_chrom snp_pos trackList viewTracks
Consider adding
importFrom("methods", "as")
to your NAMESPACE file (and ensure that your DESCRIPTION Imports field
contains 'methods').
* checking Rd files ... OK
* checking Rd metadata ... OK
* checking Rd cross-references ... OK
* checking for missing documentation entries ... OK
* checking for code/documentation mismatches ... OK
* checking Rd \usage sections ... OK
* checking Rd contents ... OK
* checking for unstated dependencies in examples ... OK
* checking contents of ‘data’ directory ... OK
* checking data for non-ASCII characters ... OK
* checking data for ASCII and uncompressed saves ... OK
* checking sizes of PDF files under ‘inst/doc’ ... OK
* checking files in ‘vignettes’ ... OK
* checking examples ... OK
Examples with CPU (user + system) or elapsed time > 5s
user system elapsed
comet.web 15.343 0.207 39.019
coMET-package 9.433 0.135 15.082
chromatinHMMAll_UCSC 8.194 0.061 8.259
imprintedGenes_GTEx 8.077 0.040 8.126
HistoneAll_UCSC 8.067 0.014 8.083
comet 5.885 0.048 5.936
* checking for unstated dependencies in ‘tests’ ... OK
* checking tests ...
Running ‘runTests.R’
OK
* checking for unstated dependencies in vignettes ... OK
* checking package vignettes in ‘inst/doc’ ... OK
* checking running R code from vignettes ... SKIPPED
* checking re-building of vignette outputs ... SKIPPED
* checking PDF version of manual ... OK
* DONE
Status: 3 NOTEs
See
‘/Users/biocbuild/bbs-3.14-bioc/meat/coMET.Rcheck/00check.log’
for details.
coMET.Rcheck/00install.out
############################################################################## ############################################################################## ### ### Running command: ### ### /Library/Frameworks/R.framework/Resources/bin/R CMD INSTALL coMET ### ############################################################################## ############################################################################## * installing to library ‘/Library/Frameworks/R.framework/Versions/4.1/Resources/library’ * installing *source* package ‘coMET’ ... ** using staged installation ** R ** data ** inst ** byte-compile and prepare package for lazy loading ** help *** installing help indices ** building package indices ** installing vignettes ** testing if installed package can be loaded from temporary location ** testing if installed package can be loaded from final location ** testing if installed package keeps a record of temporary installation path * DONE (coMET)
coMET.Rcheck/tests/runTests.Rout
R version 4.1.3 (2022-03-10) -- "One Push-Up"
Copyright (C) 2022 The R Foundation for Statistical Computing
Platform: x86_64-apple-darwin17.0 (64-bit)
R is free software and comes with ABSOLUTELY NO WARRANTY.
You are welcome to redistribute it under certain conditions.
Type 'license()' or 'licence()' for distribution details.
R is a collaborative project with many contributors.
Type 'contributors()' for more information and
'citation()' on how to cite R or R packages in publications.
Type 'demo()' for some demos, 'help()' for on-line help, or
'help.start()' for an HTML browser interface to help.
Type 'q()' to quit R.
> require("coMET") || stop("unable to load Package:coMET")
Loading required package: coMET
Loading required package: grid
Loading required package: biomaRt
Loading required package: Gviz
Loading required package: S4Vectors
Loading required package: stats4
Loading required package: BiocGenerics
Attaching package: 'BiocGenerics'
The following objects are masked from 'package:stats':
IQR, mad, sd, var, xtabs
The following objects are masked from 'package:base':
Filter, Find, Map, Position, Reduce, anyDuplicated, append,
as.data.frame, basename, cbind, colnames, dirname, do.call,
duplicated, eval, evalq, get, grep, grepl, intersect, is.unsorted,
lapply, mapply, match, mget, order, paste, pmax, pmax.int, pmin,
pmin.int, rank, rbind, rownames, sapply, setdiff, sort, table,
tapply, union, unique, unsplit, which.max, which.min
Attaching package: 'S4Vectors'
The following objects are masked from 'package:base':
I, expand.grid, unname
Loading required package: IRanges
Loading required package: GenomicRanges
Loading required package: GenomeInfoDb
Loading required package: psych
Attaching package: 'psych'
The following object is masked from 'package:GenomicRanges':
distance
The following objects are masked from 'package:IRanges':
distance, reflect
[1] TRUE
> BiocGenerics:::testPackage("coMET")
RUNIT TEST PROTOCOL -- Tue Apr 12 12:02:33 2022
***********************************************
Number of test functions: 1
Number of errors: 0
Number of failures: 0
1 Test Suite :
coMET RUnit Tests - 1 test function, 0 errors, 0 failures
Number of test functions: 1
Number of errors: 0
Number of failures: 0
>
> proc.time()
user system elapsed
21.791 0.884 22.667
coMET.Rcheck/coMET-Ex.timings
| name | user | system | elapsed | |
| COSMIC_UCSC | 2.658 | 0.038 | 2.698 | |
| ChIPTF_ENCODE | 1.293 | 0.080 | 1.375 | |
| ClinVarCnv_UCSC | 0.876 | 0.090 | 0.966 | |
| ClinVarMain_UCSC | 0.860 | 0.004 | 0.865 | |
| CoreillCNV_UCSC | 0.759 | 0.005 | 0.764 | |
| DNAse_UCSC | 0.886 | 0.011 | 0.899 | |
| DNaseI_FANTOM | 0.776 | 0.011 | 0.788 | |
| DNaseI_RoadMap | 0.347 | 0.006 | 0.352 | |
| GAD_UCSC | 0.899 | 0.007 | 0.907 | |
| GWAScatalog_UCSC | 0.741 | 0.006 | 0.746 | |
| GeneReviews_UCSC | 1.129 | 0.014 | 1.149 | |
| HiCdata2matrix | 0.043 | 0.005 | 0.049 | |
| HistoneAll_UCSC | 8.067 | 0.014 | 8.083 | |
| HistoneOne_UCSC | 0.774 | 0.006 | 0.780 | |
| ISCA_UCSC | 0.976 | 0.006 | 0.982 | |
| TFBS_FANTOM | 0.521 | 0.005 | 0.525 | |
| bindingMotifsBiomart_ENSEMBL | 0.212 | 0.011 | 0.224 | |
| chrUCSC2ENSEMBL | 0.000 | 0.000 | 0.001 | |
| chromHMM_RoadMap | 1.124 | 0.019 | 1.143 | |
| chromatinHMMAll_UCSC | 8.194 | 0.061 | 8.259 | |
| chromatinHMMOne_UCSC | 1.121 | 0.007 | 1.128 | |
| coMET-package | 9.433 | 0.135 | 15.082 | |
| comet | 5.885 | 0.048 | 5.936 | |
| comet.list | 1.524 | 0.024 | 1.549 | |
| comet.web | 15.343 | 0.207 | 39.019 | |
| cpgIslands_UCSC | 0.328 | 0.004 | 0.333 | |
| dgfootprints_RoadMap | 1.414 | 0.019 | 1.434 | |
| eQTL | 2.324 | 0.030 | 2.356 | |
| eQTL_GTEx | 2.355 | 0.023 | 2.380 | |
| gcContent_UCSC | 1.577 | 0.009 | 1.586 | |
| genesName_ENSEMBL | 0.005 | 0.003 | 0.008 | |
| genes_ENSEMBL | 1.593 | 0.006 | 1.600 | |
| imprintedGenes_GTEx | 8.077 | 0.040 | 8.126 | |
| interestGenes_ENSEMBL | 1.364 | 0.006 | 1.372 | |
| interestTranscript_ENSEMBL | 2.542 | 0.020 | 2.565 | |
| knownGenes_UCSC | 1.817 | 0.008 | 1.826 | |
| metQTL | 2.105 | 0.026 | 2.135 | |
| miRNATargetRegionsBiomart_ENSEMBL | 0.099 | 0.003 | 0.103 | |
| otherRegulatoryRegionsBiomart_ENSEMBL | 0.196 | 0.006 | 0.203 | |
| psiQTL_GTEx | 1.860 | 0.009 | 1.870 | |
| refGenes_UCSC | 1.724 | 0.008 | 1.733 | |
| regulationBiomart_ENSEMBL | 0.586 | 0.004 | 0.590 | |
| regulatoryEvidenceBiomart_ENSEMBL | 0.272 | 0.009 | 0.281 | |
| regulatoryFeaturesBiomart_ENSEMBL | 0.247 | 0.011 | 0.258 | |
| regulatorySegmentsBiomart_ENSEMBL | 0.202 | 0.009 | 0.212 | |
| repeatMasker_UCSC | 1.206 | 0.005 | 1.212 | |
| segmentalDups_UCSC | 0.729 | 0.004 | 0.733 | |
| snpBiomart_ENSEMBL | 0.883 | 0.005 | 0.889 | |
| snpLocations_UCSC | 2.051 | 0.010 | 2.063 | |
| structureBiomart_ENSEMBL | 0.750 | 0.003 | 0.753 | |
| transcript_ENSEMBL | 2.877 | 0.010 | 2.889 | |
| xenorefGenes_UCSC | 1.191 | 0.004 | 1.196 | |