| Back to Multiple platform build/check report for BioC 3.14 |
|
This page was generated on 2022-04-13 12:06:18 -0400 (Wed, 13 Apr 2022).
| Hostname | OS | Arch (*) | R version | Installed pkgs |
|---|---|---|---|---|
| nebbiolo2 | Linux (Ubuntu 20.04.4 LTS) | x86_64 | 4.1.3 (2022-03-10) -- "One Push-Up" | 4324 |
| tokay2 | Windows Server 2012 R2 Standard | x64 | 4.1.3 (2022-03-10) -- "One Push-Up" | 4077 |
| machv2 | macOS 10.14.6 Mojave | x86_64 | 4.1.3 (2022-03-10) -- "One Push-Up" | 4137 |
| Click on any hostname to see more info about the system (e.g. compilers) (*) as reported by 'uname -p', except on Windows and Mac OS X | ||||
|
To the developers/maintainers of the cellmigRation package: - Please allow up to 24 hours (and sometimes 48 hours) for your latest push to git@git.bioconductor.org:packages/cellmigRation.git to reflect on this report. See How and When does the builder pull? When will my changes propagate? for more information. - Make sure to use the following settings in order to reproduce any error or warning you see on this page. |
| Package 270/2083 | Hostname | OS / Arch | INSTALL | BUILD | CHECK | BUILD BIN | ||||||||
| cellmigRation 1.2.0 (landing page) Waldir Leoncio
| nebbiolo2 | Linux (Ubuntu 20.04.4 LTS) / x86_64 | OK | OK | OK | |||||||||
| tokay2 | Windows Server 2012 R2 Standard / x64 | OK | OK | OK | OK | |||||||||
| machv2 | macOS 10.14.6 Mojave / x86_64 | OK | OK | OK | OK | |||||||||
| Package: cellmigRation |
| Version: 1.2.0 |
| Command: rm -rf cellmigRation.buildbin-libdir && mkdir cellmigRation.buildbin-libdir && C:\Users\biocbuild\bbs-3.14-bioc\R\bin\R.exe CMD INSTALL --merge-multiarch --build --library=cellmigRation.buildbin-libdir cellmigRation_1.2.0.tar.gz |
| StartedAt: 2022-04-13 05:48:04 -0400 (Wed, 13 Apr 2022) |
| EndedAt: 2022-04-13 05:48:54 -0400 (Wed, 13 Apr 2022) |
| EllapsedTime: 50.5 seconds |
| RetCode: 0 |
| Status: OK |
| PackageFile: cellmigRation_1.2.0.zip |
| PackageFileSize: 1.687 MiB |
##############################################################################
##############################################################################
###
### Running command:
###
### rm -rf cellmigRation.buildbin-libdir && mkdir cellmigRation.buildbin-libdir && C:\Users\biocbuild\bbs-3.14-bioc\R\bin\R.exe CMD INSTALL --merge-multiarch --build --library=cellmigRation.buildbin-libdir cellmigRation_1.2.0.tar.gz
###
##############################################################################
##############################################################################
install for i386
* installing *source* package 'cellmigRation' ...
** using staged installation
** R
** data
** inst
** byte-compile and prepare package for lazy loading
** help
*** installing help indices
converting help for package 'cellmigRation'
finding HTML links ... done
AddDimension html
CellMig-class html
CellMigPCA html
CellMigPCAclust html
CellMigPCAclustALL html
CellTracker html
CellTrackerMainLoop html
CentroidArray html
CentroidValidation html
ComputeTracksStats html
DetectRadii html
DiAutoCor html
DiRatio html
DiRatioPlot html
EstimateDiameterRange html
FMI html
FianlizeOptiParams html
FilterTrackedCells html
FinRes html
ForwardMigration html
GenAllCombos html
LinearConv2 html
LoadTiff html
MSD html
MakeHypercube html
MigrationStats html
NextOdd html
NonParallel4OptimizeParams html
NonParallelTrackLoop html
OptimizeParams html
OptimizeParamsMainLoop html
Parallel4OptimizeParams html
ParallelTrackLoop html
PerAndSpeed html
PlotTracksSeparately html
PostProcessTracking html
Prep4OptimizeParams html
ThreeConditions html
TrackCellsDataset html
TrajectoryDataset html
ValidateTrackingArgs html
VeAutoCor html
VisualizeCntr html
VisualizeImg html
VisualizeStackCentroids html
WSADataset html
aggregateFR html
aggregateTrackedCells html
bpass html
cellmigRation-package html
circshift html
cntrd html
fixDA html
fixExpName html
fixFM1 html
fixFM2 html
fixFM3 html
fixFM4 html
fixFM5 html
fixFM6 html
fixID1 html
fixID2 html
fixID3 html
fixID4 html
fixID5 html
fixID6 html
fixMSD html
fixPER1 html
fixPER2 html
fixPER3 html
getAvailableAggrMetrics html
getCellImages html
getCellMigSlot html
getCellTrackMeta html
getCellTrackStats html
getCellTracks html
getCellsMeta html
getCellsStats html
getDACtable html
getDiRatio html
getFMItable html
getForMigtable html
getImageCentroids html
getImageStacks html
getMSDtable html
getOptimizedParameters html
getOptimizedParams html
getPerAndSpeed html
getPopulationStats html
getProcessedImages html
getProcessingStatus html
getResults html
getTracks html
getVACtable html
initializeTrackParams html
innerBondRaster html
internalPermutation html
matfix html
nontrivialBondTracking html
pkfnd html
plot3DAllTracks html
plot3DTracks html
plotAllTracks html
plotSampleTracks html
preProcCellMig html
rmPreProcessing html
runTrackingPermutation html
setAnalyticParams html
setCellMigSlot html
setCellTracks html
setCellsMeta html
setExpName html
setOptimizedParams html
setProcessedImages html
setProcessingStatus html
setTrackedCellsMeta html
setTrackedCentroids html
setTrackedPositions html
setTrackingStats html
sinkAway html
subNetworkTracking html
track html
trackHypercubeBuild html
trackSlideProcessing html
trackSlideWrapUp html
trackedCells-class html
trivialBondRaster html
trivialBondTracking html
visualizeCellTracks html
visualizeTrcks html
warnMessage html
wsaPreProcessing html
** building package indices
** installing vignettes
** testing if installed package can be loaded from temporary location
** testing if installed package can be loaded from final location
** testing if installed package keeps a record of temporary installation path
install for x64
* installing *source* package 'cellmigRation' ...
** testing if installed package can be loaded
* MD5 sums
packaged installation of 'cellmigRation' as cellmigRation_1.2.0.zip
* DONE (cellmigRation)