| Back to Multiple platform build/check report for BioC 3.14 |
|
This page was generated on 2022-04-13 12:05:09 -0400 (Wed, 13 Apr 2022).
| Hostname | OS | Arch (*) | R version | Installed pkgs |
|---|---|---|---|---|
| nebbiolo2 | Linux (Ubuntu 20.04.4 LTS) | x86_64 | 4.1.3 (2022-03-10) -- "One Push-Up" | 4324 |
| tokay2 | Windows Server 2012 R2 Standard | x64 | 4.1.3 (2022-03-10) -- "One Push-Up" | 4077 |
| machv2 | macOS 10.14.6 Mojave | x86_64 | 4.1.3 (2022-03-10) -- "One Push-Up" | 4137 |
| Click on any hostname to see more info about the system (e.g. compilers) (*) as reported by 'uname -p', except on Windows and Mac OS X | ||||
|
To the developers/maintainers of the cellmigRation package: - Please allow up to 24 hours (and sometimes 48 hours) for your latest push to git@git.bioconductor.org:packages/cellmigRation.git to reflect on this report. See How and When does the builder pull? When will my changes propagate? for more information. - Make sure to use the following settings in order to reproduce any error or warning you see on this page. |
| Package 270/2083 | Hostname | OS / Arch | INSTALL | BUILD | CHECK | BUILD BIN | ||||||||
| cellmigRation 1.2.0 (landing page) Waldir Leoncio
| nebbiolo2 | Linux (Ubuntu 20.04.4 LTS) / x86_64 | OK | OK | OK | |||||||||
| tokay2 | Windows Server 2012 R2 Standard / x64 | OK | OK | OK | OK | |||||||||
| machv2 | macOS 10.14.6 Mojave / x86_64 | OK | OK | OK | OK | |||||||||
| Package: cellmigRation |
| Version: 1.2.0 |
| Command: /home/biocbuild/bbs-3.14-bioc/R/bin/R CMD check --install=check:cellmigRation.install-out.txt --library=/home/biocbuild/bbs-3.14-bioc/R/library --no-vignettes --timings cellmigRation_1.2.0.tar.gz |
| StartedAt: 2022-04-12 06:44:36 -0400 (Tue, 12 Apr 2022) |
| EndedAt: 2022-04-12 06:46:16 -0400 (Tue, 12 Apr 2022) |
| EllapsedTime: 100.6 seconds |
| RetCode: 0 |
| Status: OK |
| CheckDir: cellmigRation.Rcheck |
| Warnings: 0 |
############################################################################## ############################################################################## ### ### Running command: ### ### /home/biocbuild/bbs-3.14-bioc/R/bin/R CMD check --install=check:cellmigRation.install-out.txt --library=/home/biocbuild/bbs-3.14-bioc/R/library --no-vignettes --timings cellmigRation_1.2.0.tar.gz ### ############################################################################## ############################################################################## * using log directory ‘/home/biocbuild/bbs-3.14-bioc/meat/cellmigRation.Rcheck’ * using R version 4.1.3 (2022-03-10) * using platform: x86_64-pc-linux-gnu (64-bit) * using session charset: UTF-8 * using option ‘--no-vignettes’ * checking for file ‘cellmigRation/DESCRIPTION’ ... OK * checking extension type ... Package * this is package ‘cellmigRation’ version ‘1.2.0’ * package encoding: UTF-8 * checking package namespace information ... OK * checking package dependencies ... OK * checking if this is a source package ... OK * checking if there is a namespace ... OK * checking for hidden files and directories ... OK * checking for portable file names ... OK * checking for sufficient/correct file permissions ... OK * checking whether package ‘cellmigRation’ can be installed ... OK * checking installed package size ... OK * checking package directory ... OK * checking ‘build’ directory ... OK * checking DESCRIPTION meta-information ... OK * checking top-level files ... OK * checking for left-over files ... OK * checking index information ... OK * checking package subdirectories ... OK * checking R files for non-ASCII characters ... OK * checking R files for syntax errors ... OK * checking whether the package can be loaded ... OK * checking whether the package can be loaded with stated dependencies ... OK * checking whether the package can be unloaded cleanly ... OK * checking whether the namespace can be loaded with stated dependencies ... OK * checking whether the namespace can be unloaded cleanly ... OK * checking dependencies in R code ... OK * checking S3 generic/method consistency ... OK * checking replacement functions ... OK * checking foreign function calls ... OK * checking R code for possible problems ... OK * checking Rd files ... OK * checking Rd metadata ... OK * checking Rd cross-references ... OK * checking for missing documentation entries ... OK * checking for code/documentation mismatches ... OK * checking Rd \usage sections ... OK * checking Rd contents ... OK * checking for unstated dependencies in examples ... OK * checking contents of ‘data’ directory ... OK * checking data for non-ASCII characters ... OK * checking data for ASCII and uncompressed saves ... OK * checking files in ‘vignettes’ ... OK * checking examples ... OK * checking for unstated dependencies in ‘tests’ ... OK * checking tests ... Running ‘runTests.R’ OK * checking for unstated dependencies in vignettes ... OK * checking package vignettes in ‘inst/doc’ ... OK * checking running R code from vignettes ... SKIPPED * checking re-building of vignette outputs ... SKIPPED * checking PDF version of manual ... OK * DONE Status: OK
cellmigRation.Rcheck/00install.out
############################################################################## ############################################################################## ### ### Running command: ### ### /home/biocbuild/bbs-3.14-bioc/R/bin/R CMD INSTALL cellmigRation ### ############################################################################## ############################################################################## * installing to library ‘/home/biocbuild/bbs-3.14-bioc/R/library’ * installing *source* package ‘cellmigRation’ ... ** using staged installation ** R ** data ** inst ** byte-compile and prepare package for lazy loading ** help *** installing help indices ** building package indices ** installing vignettes ** testing if installed package can be loaded from temporary location ** testing if installed package can be loaded from final location ** testing if installed package keeps a record of temporary installation path * DONE (cellmigRation)
cellmigRation.Rcheck/tests/runTests.Rout
R version 4.1.3 (2022-03-10) -- "One Push-Up"
Copyright (C) 2022 The R Foundation for Statistical Computing
Platform: x86_64-pc-linux-gnu (64-bit)
R is free software and comes with ABSOLUTELY NO WARRANTY.
You are welcome to redistribute it under certain conditions.
Type 'license()' or 'licence()' for distribution details.
R is a collaborative project with many contributors.
Type 'contributors()' for more information and
'citation()' on how to cite R or R packages in publications.
Type 'demo()' for some demos, 'help()' for on-line help, or
'help.start()' for an HTML browser interface to help.
Type 'q()' to quit R.
> BiocGenerics:::testPackage("cellmigRation")
RUNIT TEST PROTOCOL -- Tue Apr 12 06:46:12 2022
***********************************************
Number of test functions: 7
Number of errors: 0
Number of failures: 0
1 Test Suite :
cellmigRation RUnit Tests - 7 test functions, 0 errors, 0 failures
Number of test functions: 7
Number of errors: 0
Number of failures: 0
>
> proc.time()
user system elapsed
2.809 0.201 2.996
cellmigRation.Rcheck/cellmigRation-Ex.timings
| name | user | system | elapsed | |
| AddDimension | 0.002 | 0.000 | 0.002 | |
| CellMig-class | 0.028 | 0.004 | 0.031 | |
| CellMigPCA | 1.252 | 0.072 | 1.323 | |
| CellMigPCAclust | 0.008 | 0.000 | 0.009 | |
| CellMigPCAclustALL | 0.575 | 0.000 | 0.575 | |
| CellTracker | 0.02 | 0.00 | 0.02 | |
| CellTrackerMainLoop | 0.005 | 0.010 | 0.031 | |
| CentroidArray | 0.018 | 0.004 | 0.022 | |
| CentroidValidation | 0.407 | 0.016 | 0.423 | |
| ComputeTracksStats | 0.021 | 0.004 | 0.025 | |
| DetectRadii | 0.002 | 0.000 | 0.002 | |
| DiAutoCor | 1.18 | 0.02 | 1.20 | |
| DiRatio | 0.010 | 0.008 | 0.018 | |
| DiRatioPlot | 0.031 | 0.004 | 0.035 | |
| EstimateDiameterRange | 0.012 | 0.004 | 0.015 | |
| FMI | 0.441 | 0.012 | 0.453 | |
| FianlizeOptiParams | 0.001 | 0.000 | 0.001 | |
| FilterTrackedCells | 0.002 | 0.000 | 0.003 | |
| FinRes | 0.604 | 0.000 | 0.604 | |
| ForwardMigration | 0.874 | 0.004 | 0.878 | |
| GenAllCombos | 0.003 | 0.000 | 0.003 | |
| LinearConv2 | 0.018 | 0.000 | 0.018 | |
| LoadTiff | 0.001 | 0.000 | 0.001 | |
| MSD | 1.596 | 0.032 | 1.628 | |
| MakeHypercube | 0.001 | 0.000 | 0.001 | |
| MigrationStats | 0.001 | 0.000 | 0.001 | |
| NextOdd | 0.001 | 0.000 | 0.000 | |
| NonParallel4OptimizeParams | 0.001 | 0.000 | 0.000 | |
| NonParallelTrackLoop | 0 | 0 | 0 | |
| OptimizeParams | 0.016 | 0.000 | 0.017 | |
| OptimizeParamsMainLoop | 0.004 | 0.010 | 0.028 | |
| Parallel4OptimizeParams | 0.000 | 0.000 | 0.001 | |
| ParallelTrackLoop | 0.001 | 0.000 | 0.001 | |
| PerAndSpeed | 0.264 | 0.008 | 0.273 | |
| PlotTracksSeparately | 0.009 | 0.000 | 0.009 | |
| PostProcessTracking | 0 | 0 | 0 | |
| Prep4OptimizeParams | 0.093 | 0.004 | 0.098 | |
| ThreeConditions | 0.009 | 0.004 | 0.013 | |
| TrackCellsDataset | 0.016 | 0.000 | 0.017 | |
| TrajectoryDataset | 0.025 | 0.000 | 0.025 | |
| ValidateTrackingArgs | 0.001 | 0.000 | 0.000 | |
| VeAutoCor | 0.917 | 0.032 | 0.948 | |
| VisualizeCntr | 0.003 | 0.000 | 0.002 | |
| VisualizeImg | 0.005 | 0.000 | 0.005 | |
| VisualizeStackCentroids | 0.064 | 0.000 | 0.064 | |
| WSADataset | 0.008 | 0.000 | 0.007 | |
| aggregateFR | 0.534 | 0.004 | 0.538 | |
| aggregateTrackedCells | 0.018 | 0.004 | 0.021 | |
| bpass | 0.053 | 0.000 | 0.053 | |
| circshift | 0.000 | 0.000 | 0.001 | |
| cntrd | 0.59 | 0.00 | 0.59 | |
| fixDA | 0 | 0 | 0 | |
| fixExpName | 0.000 | 0.000 | 0.001 | |
| fixFM1 | 0.001 | 0.000 | 0.000 | |
| fixFM2 | 0 | 0 | 0 | |
| fixFM3 | 0 | 0 | 0 | |
| fixFM4 | 0 | 0 | 0 | |
| fixFM5 | 0.000 | 0.000 | 0.001 | |
| fixFM6 | 0 | 0 | 0 | |
| fixID1 | 0 | 0 | 0 | |
| fixMSD | 0.000 | 0.000 | 0.001 | |
| fixPER1 | 0.000 | 0.001 | 0.000 | |
| fixPER2 | 0 | 0 | 0 | |
| fixPER3 | 0.000 | 0.000 | 0.001 | |
| getAvailableAggrMetrics | 0.802 | 0.002 | 0.804 | |
| getCellImages | 0.228 | 0.188 | 0.417 | |
| getCellMigSlot | 0.274 | 0.112 | 0.386 | |
| getCellTrackMeta | 0.009 | 0.008 | 0.018 | |
| getCellTrackStats | 0.02 | 0.00 | 0.02 | |
| getCellTracks | 0.018 | 0.000 | 0.018 | |
| getCellsMeta | 0.030 | 0.004 | 0.034 | |
| getCellsStats | 0.019 | 0.000 | 0.019 | |
| getDACtable | 1.688 | 0.004 | 1.692 | |
| getDiRatio | 0.017 | 0.000 | 0.017 | |
| getFMItable | 0.419 | 0.001 | 0.420 | |
| getForMigtable | 0.524 | 0.002 | 0.525 | |
| getImageCentroids | 0.023 | 0.000 | 0.023 | |
| getImageStacks | 0.066 | 0.004 | 0.070 | |
| getMSDtable | 3.284 | 0.032 | 3.317 | |
| getOptimizedParameters | 0.016 | 0.000 | 0.016 | |
| getOptimizedParams | 0.017 | 0.000 | 0.018 | |
| getPerAndSpeed | 0.272 | 0.010 | 0.283 | |
| getPopulationStats | 0.013 | 0.006 | 0.017 | |
| getProcessedImages | 0.191 | 0.216 | 0.407 | |
| getProcessingStatus | 0.016 | 0.000 | 0.016 | |
| getResults | 0.579 | 0.008 | 0.588 | |
| getTracks | 0.018 | 0.000 | 0.018 | |
| getVACtable | 0.955 | 0.000 | 0.955 | |
| initializeTrackParams | 0.000 | 0.001 | 0.000 | |
| innerBondRaster | 0.000 | 0.001 | 0.002 | |
| internalPermutation | 0.000 | 0.000 | 0.001 | |
| matfix | 0.000 | 0.001 | 0.001 | |
| nontrivialBondTracking | 0.000 | 0.001 | 0.001 | |
| pkfnd | 0.618 | 0.006 | 0.623 | |
| plot3DAllTracks | 0.138 | 0.028 | 0.168 | |
| plot3DTracks | 0.008 | 0.000 | 0.008 | |
| plotAllTracks | 0.020 | 0.000 | 0.021 | |
| plotSampleTracks | 0.015 | 0.000 | 0.015 | |
| preProcCellMig | 0.008 | 0.000 | 0.008 | |
| rmPreProcessing | 0.092 | 0.000 | 0.093 | |
| runTrackingPermutation | 0.001 | 0.000 | 0.002 | |
| setAnalyticParams | 0.009 | 0.008 | 0.018 | |
| setCellMigSlot | 0.027 | 0.000 | 0.028 | |
| setCellTracks | 0.017 | 0.000 | 0.018 | |
| setCellsMeta | 0.010 | 0.008 | 0.018 | |
| setExpName | 0.024 | 0.004 | 0.027 | |
| setOptimizedParams | 0.024 | 0.004 | 0.028 | |
| setProcessedImages | 0.013 | 0.004 | 0.017 | |
| setProcessingStatus | 0.017 | 0.000 | 0.017 | |
| setTrackedCellsMeta | 0.017 | 0.000 | 0.017 | |
| setTrackedCentroids | 0.018 | 0.000 | 0.019 | |
| setTrackedPositions | 0.012 | 0.008 | 0.019 | |
| setTrackingStats | 0.016 | 0.004 | 0.020 | |
| sinkAway | 0.000 | 0.000 | 0.001 | |
| subNetworkTracking | 0.001 | 0.000 | 0.002 | |
| track | 0.006 | 0.004 | 0.011 | |
| trackHypercubeBuild | 0.000 | 0.000 | 0.001 | |
| trackSlideProcessing | 0.000 | 0.000 | 0.001 | |
| trackSlideWrapUp | 0.000 | 0.001 | 0.000 | |
| trivialBondRaster | 0.000 | 0.002 | 0.002 | |
| trivialBondTracking | 0 | 0 | 0 | |
| visualizeCellTracks | 0.08 | 0.00 | 0.08 | |
| visualizeTrcks | 0.024 | 0.000 | 0.024 | |
| warnMessage | 0 | 0 | 0 | |
| wsaPreProcessing | 0.047 | 0.000 | 0.047 | |