| Back to Multiple platform build/check report for BioC 3.14 |
|
This page was generated on 2022-04-13 12:06:18 -0400 (Wed, 13 Apr 2022).
| Hostname | OS | Arch (*) | R version | Installed pkgs |
|---|---|---|---|---|
| nebbiolo2 | Linux (Ubuntu 20.04.4 LTS) | x86_64 | 4.1.3 (2022-03-10) -- "One Push-Up" | 4324 |
| tokay2 | Windows Server 2012 R2 Standard | x64 | 4.1.3 (2022-03-10) -- "One Push-Up" | 4077 |
| machv2 | macOS 10.14.6 Mojave | x86_64 | 4.1.3 (2022-03-10) -- "One Push-Up" | 4137 |
| Click on any hostname to see more info about the system (e.g. compilers) (*) as reported by 'uname -p', except on Windows and Mac OS X | ||||
|
To the developers/maintainers of the cellHTS2 package: - Please allow up to 24 hours (and sometimes 48 hours) for your latest push to git@git.bioconductor.org:packages/cellHTS2.git to reflect on this report. See How and When does the builder pull? When will my changes propagate? for more information. - Make sure to use the following settings in order to reproduce any error or warning you see on this page. |
| Package 266/2083 | Hostname | OS / Arch | INSTALL | BUILD | CHECK | BUILD BIN | ||||||||
| cellHTS2 2.58.0 (landing page) Joseph Barry
| nebbiolo2 | Linux (Ubuntu 20.04.4 LTS) / x86_64 | OK | OK | OK | |||||||||
| tokay2 | Windows Server 2012 R2 Standard / x64 | OK | OK | OK | OK | |||||||||
| machv2 | macOS 10.14.6 Mojave / x86_64 | OK | OK | OK | OK | |||||||||
| Package: cellHTS2 |
| Version: 2.58.0 |
| Command: C:\cygwin\bin\curl.exe -O http://155.52.207.166/BBS/3.14/bioc/src/contrib/cellHTS2_2.58.0.tar.gz && rm -rf cellHTS2.buildbin-libdir && mkdir cellHTS2.buildbin-libdir && C:\Users\biocbuild\bbs-3.14-bioc\R\bin\R.exe CMD INSTALL --merge-multiarch --build --library=cellHTS2.buildbin-libdir cellHTS2_2.58.0.tar.gz && C:\Users\biocbuild\bbs-3.14-bioc\R\bin\R.exe CMD INSTALL cellHTS2_2.58.0.zip && rm cellHTS2_2.58.0.tar.gz cellHTS2_2.58.0.zip |
| StartedAt: 2022-04-12 05:58:12 -0400 (Tue, 12 Apr 2022) |
| EndedAt: 2022-04-12 06:01:27 -0400 (Tue, 12 Apr 2022) |
| EllapsedTime: 195.5 seconds |
| RetCode: 0 |
| Status: OK |
##############################################################################
##############################################################################
###
### Running command:
###
### C:\cygwin\bin\curl.exe -O http://155.52.207.166/BBS/3.14/bioc/src/contrib/cellHTS2_2.58.0.tar.gz && rm -rf cellHTS2.buildbin-libdir && mkdir cellHTS2.buildbin-libdir && C:\Users\biocbuild\bbs-3.14-bioc\R\bin\R.exe CMD INSTALL --merge-multiarch --build --library=cellHTS2.buildbin-libdir cellHTS2_2.58.0.tar.gz && C:\Users\biocbuild\bbs-3.14-bioc\R\bin\R.exe CMD INSTALL cellHTS2_2.58.0.zip && rm cellHTS2_2.58.0.tar.gz cellHTS2_2.58.0.zip
###
##############################################################################
##############################################################################
% Total % Received % Xferd Average Speed Time Time Time Current
Dload Upload Total Spent Left Speed
0 0 0 0 0 0 0 0 --:--:-- --:--:-- --:--:-- 0
29 1651k 29 492k 0 0 1089k 0 0:00:01 --:--:-- 0:00:01 1090k
100 1651k 100 1651k 0 0 1575k 0 0:00:01 0:00:01 --:--:-- 1577k
install for i386
* installing *source* package 'cellHTS2' ...
** using staged installation
** R
** data
** inst
** byte-compile and prepare package for lazy loading
** help
*** installing help indices
converting help for package 'cellHTS2'
finding HTML links ... done
Bscore html
Data html
ROC-class html
ROC html
annotate html
batch html
bdgpbiomart html
buildCellHTS2 html
cellHTS-class html
cellHTS2 html
configurationAsScreenPlot html
configure html
convertOldCellHTS html
convertWellCoordinates html
data-KcViab html
data-KcViabSmall html
data-dualCh html
data-oldKcViabSmall html
getDynamicRange html
getEnVisionRawData html
getMeasureRepAgreement html
getTopTable html
getZfactor html
gseaModule html
imageScreen html
intensityFiles html
normalizePlates html
oneRowPerId html
plate html
plateEffects html
plotSpatialEffects html
readHTAnalystData html
readPlateList html
rsa html
scoreReplicates html
scores2calls html
setSettings html
spatialNormalization html
state html
summarizeChannels html
summarizeReplicates html
templateDescriptionFile html
updateCellHTS html
wellAnno html
write.tabdel html
writeReport html
writeTab html
** building package indices
** installing vignettes
** testing if installed package can be loaded from temporary location
** testing if installed package can be loaded from final location
** testing if installed package keeps a record of temporary installation path
install for x64
* installing *source* package 'cellHTS2' ...
** testing if installed package can be loaded
* MD5 sums
packaged installation of 'cellHTS2' as cellHTS2_2.58.0.zip
* DONE (cellHTS2)
* installing to library 'C:/Users/biocbuild/bbs-3.14-bioc/R/library'
package 'cellHTS2' successfully unpacked and MD5 sums checked