| Back to Multiple platform build/check report for BioC 3.14 |
|
This page was generated on 2022-04-13 12:07:45 -0400 (Wed, 13 Apr 2022).
| Hostname | OS | Arch (*) | R version | Installed pkgs |
|---|---|---|---|---|
| nebbiolo2 | Linux (Ubuntu 20.04.4 LTS) | x86_64 | 4.1.3 (2022-03-10) -- "One Push-Up" | 4324 |
| tokay2 | Windows Server 2012 R2 Standard | x64 | 4.1.3 (2022-03-10) -- "One Push-Up" | 4077 |
| machv2 | macOS 10.14.6 Mojave | x86_64 | 4.1.3 (2022-03-10) -- "One Push-Up" | 4137 |
| Click on any hostname to see more info about the system (e.g. compilers) (*) as reported by 'uname -p', except on Windows and Mac OS X | ||||
|
To the developers/maintainers of the cellHTS2 package: - Please allow up to 24 hours (and sometimes 48 hours) for your latest push to git@git.bioconductor.org:packages/cellHTS2.git to reflect on this report. See How and When does the builder pull? When will my changes propagate? for more information. - Make sure to use the following settings in order to reproduce any error or warning you see on this page. |
| Package 266/2083 | Hostname | OS / Arch | INSTALL | BUILD | CHECK | BUILD BIN | ||||||||
| cellHTS2 2.58.0 (landing page) Joseph Barry
| nebbiolo2 | Linux (Ubuntu 20.04.4 LTS) / x86_64 | OK | OK | OK | |||||||||
| tokay2 | Windows Server 2012 R2 Standard / x64 | OK | OK | OK | OK | |||||||||
| machv2 | macOS 10.14.6 Mojave / x86_64 | OK | OK | OK | OK | |||||||||
| Package: cellHTS2 |
| Version: 2.58.0 |
| Command: /Library/Frameworks/R.framework/Resources/bin/R CMD check --install=check:cellHTS2.install-out.txt --library=/Library/Frameworks/R.framework/Resources/library --no-vignettes --timings cellHTS2_2.58.0.tar.gz |
| StartedAt: 2022-04-12 11:17:18 -0400 (Tue, 12 Apr 2022) |
| EndedAt: 2022-04-12 11:23:33 -0400 (Tue, 12 Apr 2022) |
| EllapsedTime: 375.6 seconds |
| RetCode: 0 |
| Status: OK |
| CheckDir: cellHTS2.Rcheck |
| Warnings: 0 |
##############################################################################
##############################################################################
###
### Running command:
###
### /Library/Frameworks/R.framework/Resources/bin/R CMD check --install=check:cellHTS2.install-out.txt --library=/Library/Frameworks/R.framework/Resources/library --no-vignettes --timings cellHTS2_2.58.0.tar.gz
###
##############################################################################
##############################################################################
* using log directory ‘/Users/biocbuild/bbs-3.14-bioc/meat/cellHTS2.Rcheck’
* using R version 4.1.3 (2022-03-10)
* using platform: x86_64-apple-darwin17.0 (64-bit)
* using session charset: UTF-8
* using option ‘--no-vignettes’
* checking for file ‘cellHTS2/DESCRIPTION’ ... OK
* this is package ‘cellHTS2’ version ‘2.58.0’
* checking package namespace information ... OK
* checking package dependencies ... NOTE
Depends: includes the non-default packages:
'RColorBrewer', 'Biobase', 'genefilter', 'splots', 'vsn', 'hwriter',
'locfit', 'grid'
Adding so many packages to the search path is excessive and importing
selectively is preferable.
* checking if this is a source package ... OK
* checking if there is a namespace ... OK
* checking for hidden files and directories ... OK
* checking for portable file names ... OK
* checking for sufficient/correct file permissions ... OK
* checking whether package ‘cellHTS2’ can be installed ... OK
* checking installed package size ... NOTE
installed size is 5.6Mb
sub-directories of 1Mb or more:
KcViab 2.0Mb
R 2.0Mb
* checking package directory ... OK
* checking ‘build’ directory ... OK
* checking DESCRIPTION meta-information ... OK
* checking top-level files ... OK
* checking for left-over files ... OK
* checking index information ... OK
* checking package subdirectories ... OK
* checking R files for non-ASCII characters ... OK
* checking R files for syntax errors ... OK
* checking whether the package can be loaded ... OK
* checking whether the package can be loaded with stated dependencies ... OK
* checking whether the package can be unloaded cleanly ... OK
* checking whether the namespace can be loaded with stated dependencies ... OK
* checking whether the namespace can be unloaded cleanly ... OK
* checking dependencies in R code ... NOTE
Package in Depends field not imported from: ‘genefilter’
These packages need to be imported from (in the NAMESPACE file)
for when this namespace is loaded but not attached.
Unexported object imported by a ':::' call: ‘Biobase:::.showAnnotatedDataFrame’
See the note in ?`:::` about the use of this operator.
* checking S3 generic/method consistency ... OK
* checking replacement functions ... OK
* checking foreign function calls ... OK
* checking R code for possible problems ... NOTE
plotPlate: no visible global function definition for ‘dev.cur’
plotPlate: no visible global function definition for ‘plot.new’
Undefined global functions or variables:
dev.cur plot.new
Consider adding
importFrom("grDevices", "dev.cur")
importFrom("graphics", "plot.new")
to your NAMESPACE file.
* checking Rd files ... OK
* checking Rd metadata ... OK
* checking Rd cross-references ... NOTE
Unknown packages ‘cellHTS’, ‘prada’ in Rd xrefs
* checking for missing documentation entries ... OK
* checking for code/documentation mismatches ... OK
* checking Rd \usage sections ... OK
* checking Rd contents ... OK
* checking for unstated dependencies in examples ... OK
* checking contents of ‘data’ directory ... OK
* checking data for non-ASCII characters ... OK
* checking data for ASCII and uncompressed saves ... OK
* checking sizes of PDF files under ‘inst/doc’ ... OK
* checking files in ‘vignettes’ ... OK
* checking examples ... OK
* checking for unstated dependencies in ‘tests’ ... OK
* checking tests ...
Running ‘test.R’
OK
* checking for unstated dependencies in vignettes ... OK
* checking package vignettes in ‘inst/doc’ ... OK
* checking running R code from vignettes ... SKIPPED
* checking re-building of vignette outputs ... SKIPPED
* checking PDF version of manual ... OK
* DONE
Status: 5 NOTEs
See
‘/Users/biocbuild/bbs-3.14-bioc/meat/cellHTS2.Rcheck/00check.log’
for details.
cellHTS2.Rcheck/00install.out
############################################################################## ############################################################################## ### ### Running command: ### ### /Library/Frameworks/R.framework/Resources/bin/R CMD INSTALL cellHTS2 ### ############################################################################## ############################################################################## * installing to library ‘/Library/Frameworks/R.framework/Versions/4.1/Resources/library’ * installing *source* package ‘cellHTS2’ ... ** using staged installation ** R ** data ** inst ** byte-compile and prepare package for lazy loading ** help *** installing help indices ** building package indices ** installing vignettes ** testing if installed package can be loaded from temporary location ** testing if installed package can be loaded from final location ** testing if installed package keeps a record of temporary installation path * DONE (cellHTS2)
cellHTS2.Rcheck/tests/test.Rout
R version 4.1.3 (2022-03-10) -- "One Push-Up"
Copyright (C) 2022 The R Foundation for Statistical Computing
Platform: x86_64-apple-darwin17.0 (64-bit)
R is free software and comes with ABSOLUTELY NO WARRANTY.
You are welcome to redistribute it under certain conditions.
Type 'license()' or 'licence()' for distribution details.
R is a collaborative project with many contributors.
Type 'contributors()' for more information and
'citation()' on how to cite R or R packages in publications.
Type 'demo()' for some demos, 'help()' for on-line help, or
'help.start()' for an HTML browser interface to help.
Type 'q()' to quit R.
> ## cat tests/test.R | R --vanilla
> ## cellHTS2 crash test on various conditions
> library(cellHTS2)
Loading required package: RColorBrewer
Loading required package: Biobase
Loading required package: BiocGenerics
Attaching package: 'BiocGenerics'
The following objects are masked from 'package:stats':
IQR, mad, sd, var, xtabs
The following objects are masked from 'package:base':
Filter, Find, Map, Position, Reduce, anyDuplicated, append,
as.data.frame, basename, cbind, colnames, dirname, do.call,
duplicated, eval, evalq, get, grep, grepl, intersect, is.unsorted,
lapply, mapply, match, mget, order, paste, pmax, pmax.int, pmin,
pmin.int, rank, rbind, rownames, sapply, setdiff, sort, table,
tapply, union, unique, unsplit, which.max, which.min
Welcome to Bioconductor
Vignettes contain introductory material; view with
'browseVignettes()'. To cite Bioconductor, see
'citation("Biobase")', and for packages 'citation("pkgname")'.
Loading required package: genefilter
Loading required package: splots
Loading required package: vsn
Loading required package: hwriter
Loading required package: locfit
locfit 1.5-9.5 2022-03-01
Loading required package: grid
> path <- system.file("testscreen", package="cellHTS2")
>
> testPlatelist=function(platelist, normalize=TRUE)
+ {
+ x <- readPlateList(platelist, name="test", path=path)
+ x <- configure(x, descripFile="description.txt", confFile="plateconf.txt",
+ logFile="screenlog.txt", path=path)
+
+ if (normalize)
+ {
+ ## normalize results
+ xn <- normalizePlates(x, scale="multiplicative", log=FALSE, method="median",
+ varianceAdjust="none")
+
+ ## score and summarize replicates
+ xsc <- scoreReplicates(xn, sign="-", method="zscore")
+ xsc <- summarizeReplicates(xsc, summary="mean")
+ }
+
+ ## write reports
+ outdir <- file.path(tempdir(),platelist,'raw')
+ mainScriptFile <- system.file("scripts/dummy.R", package="cellHTS2")
+ writeReport(raw=x, force=TRUE, plotPlateArgs = TRUE,imageScreenArgs = list(zrange=c( -4, 8), ar=1),
+ map=TRUE, outdir=outdir, mainScriptFile=mainScriptFile)
+ if (interactive()) browseURL(file.path(outdir,'index.html'))
+ if (normalize)
+ {
+ outdir <- file.path(tempdir(),platelist,'norm')
+ writeReport(raw=x, normalized=xn, scored=xsc, force=TRUE, plotPlateArgs = TRUE,
+ imageScreenArgs = list(zrange=c( -4, 8), ar=1), map=TRUE, outdir=outdir,
+ mainScriptFile=mainScriptFile)
+ if (interactive()) browseURL(file.path(outdir,'index.html'))
+ }
+ }
>
> ######
> ## 2 plates, 2 replicates, 1 channel
> testPlatelist('platelist221.txt')
cellHTS2 is busy creating HTML pages for 'test'.
Found raw data.
State:
configured=TRUE, annotated=FALSE
0% done (step 1 of 6)
33% done (step 2 of 6)
38% done (step 3 of 6)
42% done (step 3 of 6)
52% done (step 4 of 6)
88% done (step 5 of 6)
100% done (step 5 of 6)
100% done (step 5 of 6)
100% done (step 6 of 6)
Report was successfully generated in folder /tmp/RtmpuBUxDL/platelist221.txt/raw/index.html
cellHTS2 is busy creating HTML pages for 'test'.
Found raw, normalized and scored data.
State:
configured=TRUE, annotated=FALSE
0% done (step 1 of 8)
17% done (step 2 of 8)
19% done (step 3 of 8)
22% done (step 3 of 8)
27% done (step 4 of 8)
46% done (step 5 of 8)
92% done (step 6 of 8)
94% done (step 7 of 8)
100% done (step 8 of 8)
Report was successfully generated in folder /tmp/RtmpuBUxDL/platelist221.txt/norm/index.html
Warning messages:
1: The plotPlateArgs argument is deprecated. Please use the settings infrastructure as explained in '?setSettings'.
2: The imageScreenArgs argument is deprecated. Please use the settings infrastructure as explained in '?setSettings'.
3: The plotPlateArgs argument is deprecated. Please use the settings infrastructure as explained in '?setSettings'.
4: The imageScreenArgs argument is deprecated. Please use the settings infrastructure as explained in '?setSettings'.
5: In sprintf("Left: raw, right: normalized", r) :
one argument not used by format 'Left: raw, right: normalized'
6: In sprintf("Left: raw, right: normalized", r) :
one argument not used by format 'Left: raw, right: normalized'
>
> ######
> ## 2 plates, 1 replicate, 2 channels
> testPlatelist('platelist212.txt', normalize=FALSE)
cellHTS2 is busy creating HTML pages for 'test'.
Found raw data.
State:
configured=TRUE, annotated=FALSE
0% done (step 1 of 6)
33% done (step 2 of 6)
38% done (step 3 of 6)
42% done (step 3 of 6)
52% done (step 4 of 6)
88% done (step 5 of 6)
100% done (step 5 of 6)
100% done (step 5 of 6)
100% done (step 6 of 6)
Report was successfully generated in folder /tmp/RtmpuBUxDL/platelist212.txt/raw/index.html
Warning messages:
1: The plotPlateArgs argument is deprecated. Please use the settings infrastructure as explained in '?setSettings'.
2: The imageScreenArgs argument is deprecated. Please use the settings infrastructure as explained in '?setSettings'.
>
> ######
> ## 2 plates, 1 replicate, 3 channels
> testPlatelist('platelist213.txt', normalize=FALSE)
cellHTS2 is busy creating HTML pages for 'test'.
Found raw data.
State:
configured=TRUE, annotated=FALSE
0% done (step 1 of 6)
26% done (step 2 of 6)
31% done (step 3 of 6)
37% done (step 3 of 6)
48% done (step 4 of 6)
91% done (step 5 of 6)
100% done (step 5 of 6)
100% done (step 5 of 6)
100% done (step 6 of 6)
Report was successfully generated in folder /tmp/RtmpuBUxDL/platelist213.txt/raw/index.html
Warning messages:
1: The plotPlateArgs argument is deprecated. Please use the settings infrastructure as explained in '?setSettings'.
2: The imageScreenArgs argument is deprecated. Please use the settings infrastructure as explained in '?setSettings'.
>
> ######
> ## 2 plates, 2 replicates, 2 channels
> testPlatelist('platelist222.txt', normalize=FALSE)
cellHTS2 is busy creating HTML pages for 'test'.
Found raw data.
State:
configured=TRUE, annotated=FALSE
0% done (step 1 of 6)
21% done (step 2 of 6)
27% done (step 3 of 6)
33% done (step 3 of 6)
46% done (step 4 of 6)
92% done (step 5 of 6)
100% done (step 5 of 6)
100% done (step 5 of 6)
100% done (step 6 of 6)
Report was successfully generated in folder /tmp/RtmpuBUxDL/platelist222.txt/raw/index.html
Warning messages:
1: The plotPlateArgs argument is deprecated. Please use the settings infrastructure as explained in '?setSettings'.
2: The imageScreenArgs argument is deprecated. Please use the settings infrastructure as explained in '?setSettings'.
>
> ######
> ## 2 plates, 1 replicates, 1 channel
> testPlatelist('platelist211.txt')
cellHTS2 is busy creating HTML pages for 'test'.
Found raw data.
State:
configured=TRUE, annotated=FALSE
0% done (step 1 of 6)
46% done (step 2 of 6)
49% done (step 3 of 6)
52% done (step 3 of 6)
59% done (step 4 of 6)
84% done (step 5 of 6)
100% done (step 5 of 6)
100% done (step 5 of 6)
100% done (step 6 of 6)
Report was successfully generated in folder /tmp/RtmpuBUxDL/platelist211.txt/raw/index.html
cellHTS2 is busy creating HTML pages for 'test'.
Found raw, normalized and scored data.
State:
configured=TRUE, annotated=FALSE
0% done (step 1 of 8)
28% done (step 2 of 8)
30% done (step 3 of 8)
31% done (step 3 of 8)
36% done (step 4 of 8)
51% done (step 5 of 8)
88% done (step 6 of 8)
90% done (step 7 of 8)
100% done (step 8 of 8)
Report was successfully generated in folder /tmp/RtmpuBUxDL/platelist211.txt/norm/index.html
Warning messages:
1: The plotPlateArgs argument is deprecated. Please use the settings infrastructure as explained in '?setSettings'.
2: The imageScreenArgs argument is deprecated. Please use the settings infrastructure as explained in '?setSettings'.
3: The plotPlateArgs argument is deprecated. Please use the settings infrastructure as explained in '?setSettings'.
4: The imageScreenArgs argument is deprecated. Please use the settings infrastructure as explained in '?setSettings'.
5: In sprintf("Left: raw, right: normalized", r) :
one argument not used by format 'Left: raw, right: normalized'
>
> ######
> ## 2 plates, 3 replicates, 3 channels
> testPlatelist('platelist233.txt', normalize=FALSE)
cellHTS2 is busy creating HTML pages for 'test'.
Found raw data.
State:
configured=TRUE, annotated=FALSE
0% done (step 1 of 6)
11% done (step 2 of 6)
18% done (step 3 of 6)
25% done (step 3 of 6)
40% done (step 4 of 6)
96% done (step 5 of 6)
100% done (step 5 of 6)
100% done (step 5 of 6)
100% done (step 6 of 6)
Report was successfully generated in folder /tmp/RtmpuBUxDL/platelist233.txt/raw/index.html
Warning messages:
1: The plotPlateArgs argument is deprecated. Please use the settings infrastructure as explained in '?setSettings'.
2: The imageScreenArgs argument is deprecated. Please use the settings infrastructure as explained in '?setSettings'.
>
> proc.time()
user system elapsed
46.797 1.775 48.737
cellHTS2.Rcheck/cellHTS2-Ex.timings
| name | user | system | elapsed | |
| Bscore | 4.093 | 0.079 | 4.174 | |
| ROC-class | 0.348 | 0.031 | 0.379 | |
| ROC | 1.464 | 0.007 | 1.472 | |
| annotate | 1.163 | 0.012 | 1.182 | |
| bdgpbiomart | 0.264 | 0.008 | 0.273 | |
| buildCellHTS2 | 0.414 | 0.001 | 0.417 | |
| cellHTS-class | 1.144 | 0.044 | 1.188 | |
| configurationAsScreenPlot | 2.012 | 0.013 | 2.027 | |
| configure | 1.553 | 0.006 | 1.559 | |
| convertOldCellHTS | 0.924 | 0.024 | 0.948 | |
| convertWellCoordinates | 0.001 | 0.001 | 0.001 | |
| data-KcViab | 0.224 | 0.003 | 0.228 | |
| data-KcViabSmall | 0.016 | 0.002 | 0.018 | |
| data-dualCh | 0.015 | 0.003 | 0.017 | |
| data-oldKcViabSmall | 0.014 | 0.003 | 0.016 | |
| getDynamicRange | 0.736 | 0.005 | 0.741 | |
| getEnVisionRawData | 0.044 | 0.002 | 0.047 | |
| getMeasureRepAgreement | 0.595 | 0.003 | 0.598 | |
| getTopTable | 1.709 | 0.010 | 1.723 | |
| getZfactor | 0.458 | 0.003 | 0.462 | |
| imageScreen | 1.388 | 0.006 | 1.395 | |
| normalizePlates | 1.865 | 0.006 | 1.872 | |
| oneRowPerId | 0.005 | 0.000 | 0.005 | |
| plotSpatialEffects | 2.481 | 0.015 | 2.500 | |
| readHTAnalystData | 0.974 | 0.003 | 0.979 | |
| readPlateList | 0.797 | 0.007 | 0.806 | |
| rsa | 1.130 | 0.005 | 1.136 | |
| scoreReplicates | 1.300 | 0.004 | 1.306 | |
| scores2calls | 1.323 | 0.009 | 1.334 | |
| setSettings | 0.007 | 0.015 | 0.022 | |
| spatialNormalization | 2.040 | 0.013 | 2.055 | |
| summarizeChannels | 2.379 | 0.006 | 2.387 | |
| summarizeReplicates | 1.195 | 0.004 | 1.200 | |
| templateDescriptionFile | 0.001 | 0.002 | 0.003 | |
| updateCellHTS | 0.148 | 0.003 | 0.151 | |
| write.tabdel | 0.096 | 0.004 | 0.100 | |
| writeReport | 0.012 | 0.002 | 0.015 | |
| writeTab | 0.022 | 0.002 | 0.024 | |