| Back to Multiple platform build/check report for BioC 3.14 |
|
This page was generated on 2022-04-13 12:06:17 -0400 (Wed, 13 Apr 2022).
| Hostname | OS | Arch (*) | R version | Installed pkgs |
|---|---|---|---|---|
| nebbiolo2 | Linux (Ubuntu 20.04.4 LTS) | x86_64 | 4.1.3 (2022-03-10) -- "One Push-Up" | 4324 |
| tokay2 | Windows Server 2012 R2 Standard | x64 | 4.1.3 (2022-03-10) -- "One Push-Up" | 4077 |
| machv2 | macOS 10.14.6 Mojave | x86_64 | 4.1.3 (2022-03-10) -- "One Push-Up" | 4137 |
| Click on any hostname to see more info about the system (e.g. compilers) (*) as reported by 'uname -p', except on Windows and Mac OS X | ||||
|
To the developers/maintainers of the canceR package: - Please allow up to 24 hours (and sometimes 48 hours) for your latest push to git@git.bioconductor.org:packages/canceR.git to reflect on this report. See How and When does the builder pull? When will my changes propagate? for more information. - Make sure to use the following settings in order to reproduce any error or warning you see on this page. |
| Package 240/2083 | Hostname | OS / Arch | INSTALL | BUILD | CHECK | BUILD BIN | ||||||||
| canceR 1.28.04 (landing page) Karim Mezhoud
| nebbiolo2 | Linux (Ubuntu 20.04.4 LTS) / x86_64 | OK | OK | OK | |||||||||
| tokay2 | Windows Server 2012 R2 Standard / x64 | OK | OK | OK | OK | |||||||||
| machv2 | macOS 10.14.6 Mojave / x86_64 | OK | OK | OK | OK | |||||||||
| Package: canceR |
| Version: 1.28.04 |
| Command: C:\Users\biocbuild\bbs-3.14-bioc\R\bin\R.exe CMD check --force-multiarch --install=check:canceR.install-out.txt --library=C:\Users\biocbuild\bbs-3.14-bioc\R\library --no-vignettes --timings canceR_1.28.04.tar.gz |
| StartedAt: 2022-04-12 16:47:33 -0400 (Tue, 12 Apr 2022) |
| EndedAt: 2022-04-12 16:52:55 -0400 (Tue, 12 Apr 2022) |
| EllapsedTime: 321.7 seconds |
| RetCode: 0 |
| Status: OK |
| CheckDir: canceR.Rcheck |
| Warnings: 0 |
############################################################################## ############################################################################## ### ### Running command: ### ### C:\Users\biocbuild\bbs-3.14-bioc\R\bin\R.exe CMD check --force-multiarch --install=check:canceR.install-out.txt --library=C:\Users\biocbuild\bbs-3.14-bioc\R\library --no-vignettes --timings canceR_1.28.04.tar.gz ### ############################################################################## ############################################################################## * using log directory 'C:/Users/biocbuild/bbs-3.14-bioc/meat/canceR.Rcheck' * using R version 4.1.3 (2022-03-10) * using platform: x86_64-w64-mingw32 (64-bit) * using session charset: ISO8859-1 * using option '--no-vignettes' * checking for file 'canceR/DESCRIPTION' ... OK * checking extension type ... Package * this is package 'canceR' version '1.28.04' * package encoding: UTF-8 * checking package namespace information ... OK * checking package dependencies ... OK * checking if this is a source package ... OK * checking if there is a namespace ... OK * checking for hidden files and directories ... OK * checking for portable file names ... OK * checking whether package 'canceR' can be installed ... OK * checking installed package size ... OK * checking package directory ... OK * checking 'build' directory ... OK * checking DESCRIPTION meta-information ... OK * checking top-level files ... OK * checking for left-over files ... OK * checking index information ... OK * checking package subdirectories ... OK * checking R files for non-ASCII characters ... OK * checking R files for syntax errors ... OK * loading checks for arch 'i386' ** checking whether the package can be loaded ... OK ** checking whether the package can be loaded with stated dependencies ... OK ** checking whether the package can be unloaded cleanly ... OK ** checking whether the namespace can be loaded with stated dependencies ... OK ** checking whether the namespace can be unloaded cleanly ... OK * loading checks for arch 'x64' ** checking whether the package can be loaded ... OK ** checking whether the package can be loaded with stated dependencies ... OK ** checking whether the package can be unloaded cleanly ... OK ** checking whether the namespace can be loaded with stated dependencies ... OK ** checking whether the namespace can be unloaded cleanly ... OK * checking dependencies in R code ... OK * checking S3 generic/method consistency ... OK * checking replacement functions ... OK * checking foreign function calls ... OK * checking R code for possible problems ... OK * checking Rd files ... OK * checking Rd metadata ... OK * checking Rd cross-references ... OK * checking for missing documentation entries ... OK * checking for code/documentation mismatches ... OK * checking Rd \usage sections ... OK * checking Rd contents ... OK * checking for unstated dependencies in examples ... OK * checking files in 'vignettes' ... OK * checking examples ... ** running examples for arch 'i386' ... OK ** running examples for arch 'x64' ... OK * checking for unstated dependencies in 'tests' ... OK * checking tests ... ** running tests for arch 'i386' ... Running 'testthat.R' OK ** running tests for arch 'x64' ... Running 'testthat.R' OK * checking for unstated dependencies in vignettes ... OK * checking package vignettes in 'inst/doc' ... OK * checking running R code from vignettes ... SKIPPED * checking re-building of vignette outputs ... SKIPPED * checking PDF version of manual ... OK * DONE Status: OK
canceR.Rcheck/00install.out
##############################################################################
##############################################################################
###
### Running command:
###
### C:\cygwin\bin\curl.exe -O http://155.52.207.166/BBS/3.14/bioc/src/contrib/canceR_1.28.04.tar.gz && rm -rf canceR.buildbin-libdir && mkdir canceR.buildbin-libdir && C:\Users\biocbuild\bbs-3.14-bioc\R\bin\R.exe CMD INSTALL --merge-multiarch --build --library=canceR.buildbin-libdir canceR_1.28.04.tar.gz && C:\Users\biocbuild\bbs-3.14-bioc\R\bin\R.exe CMD INSTALL canceR_1.28.04.zip && rm canceR_1.28.04.tar.gz canceR_1.28.04.zip
###
##############################################################################
##############################################################################
% Total % Received % Xferd Average Speed Time Time Time Current
Dload Upload Total Spent Left Speed
0 0 0 0 0 0 0 0 --:--:-- --:--:-- --:--:-- 0
2 17.1M 2 448k 0 0 941k 0 0:00:18 --:--:-- 0:00:18 941k
13 17.1M 13 2430k 0 0 1647k 0 0:00:10 0:00:01 0:00:09 1646k
23 17.1M 23 4106k 0 0 1639k 0 0:00:10 0:00:02 0:00:08 1639k
37 17.1M 37 6521k 0 0 1863k 0 0:00:09 0:00:03 0:00:06 1863k
55 17.1M 55 9713k 0 0 2158k 0 0:00:08 0:00:04 0:00:04 2158k
79 17.1M 79 13.5M 0 0 2534k 0 0:00:06 0:00:05 0:00:01 2685k
100 17.1M 100 17.1M 0 0 2831k 0 0:00:06 0:00:06 --:--:-- 3200k
install for i386
* installing *source* package 'canceR' ...
** using staged installation
** R
** inst
** byte-compile and prepare package for lazy loading
** help
*** installing help indices
converting help for package 'canceR'
finding HTML links ... done
GSEA.Analyze.Sets html
GSEA.ConsPlot html
GSEA.EnrichmentScore html
GSEA.EnrichmentScore2 html
GSEA.Gct2Frame html
GSEA.Gct2Frame2 html
GSEA.GeneRanking html
GSEA.HeatMapPlot html
GSEA.HeatMapPlot2 html
GSEA.NormalizeCols html
GSEA.NormalizeRows html
GSEA html
GSEA.ReadClsFile html
GSEA.Res2Frame html
GSEA.Threshold html
GSEA.VarFilter html
GSEA.write.gct html
Match_GeneList_MSigDB html
OLD.GSEA.EnrichmentScore html
Run.GSEA html
about html
canceR html
canceR_Issue html
canceR_Vignette html
cbind.na html
dialogGeneClassifier html
dialogMetOption html
dialogMut html
dialogOptionCircos html
dialogOptionGSEAlm html
dialogOptionPhenoTest html
dialogPlotOption_SkinCor html
dialogSamplingGSEA html
dialogSelectFiles_GSEA html
dialogSpecificMut html
dialogSummary_GSEA html
dialoggetGeneListMSigDB html
displayInTable html
getCases html
getCasesGenProfs html
getCircos html
getClinicData_MultipleCases html
getClinicalDataMatrix html
getCor_ExpCNAMet html
getGCTCLSExample html
getGCT_CLSfiles html
getGSEAlm_Diseases html
getGSEAlm_Variables html
getGenProfs html
getGeneExpMatrix html
getGeneList html
getGeneListExample html
getGeneListFromMSigDB html
getGenesClassifier html
getGenesTree_MultipleCases html
getGenesTree_SingleCase html
getInTable html
getListProfData html
getMSigDB html
getMSigDBExample html
getMSigDBfile html
getMegaProfData html
getMetDataMultipleGenes html
getMutData html
getPhenoTest html
getProfilesDataMultipleGenes html
getProfilesDataSingleGene html
getSpecificMut html
getSummaryGSEA html
getSurvival html
getTextWin html
geteSet html
modalDialog html
myGlobalEnv html
plotModel html
plot_1Gene_2GenProfs html
plot_2Genes_1GenProf html
rbind.na html
setWorkspace html
testCheckedCaseGenProf html
** building package indices
** installing vignettes
** testing if installed package can be loaded from temporary location
** testing if installed package can be loaded from final location
** testing if installed package keeps a record of temporary installation path
install for x64
* installing *source* package 'canceR' ...
** testing if installed package can be loaded
* MD5 sums
packaged installation of 'canceR' as canceR_1.28.04.zip
* DONE (canceR)
* installing to library 'C:/Users/biocbuild/bbs-3.14-bioc/R/library'
package 'canceR' successfully unpacked and MD5 sums checked
|
canceR.Rcheck/tests_i386/testthat.Rout
R version 4.1.3 (2022-03-10) -- "One Push-Up"
Copyright (C) 2022 The R Foundation for Statistical Computing
Platform: i386-w64-mingw32/i386 (32-bit)
R is free software and comes with ABSOLUTELY NO WARRANTY.
You are welcome to redistribute it under certain conditions.
Type 'license()' or 'licence()' for distribution details.
R is a collaborative project with many contributors.
Type 'contributors()' for more information and
'citation()' on how to cite R or R packages in publications.
Type 'demo()' for some demos, 'help()' for on-line help, or
'help.start()' for an HTML browser interface to help.
Type 'q()' to quit R.
> library(testthat)
> library(canceR)
Loading required package: tcltk
Loading required package: cgdsr
Please send questions to cbioportal@googlegroups.com
>
> test_check("canceR")
getCancerStudies... OK
getCaseLists (1/2) ... OK
getCaseLists (2/2) ... OK
getGeneticProfiles (1/2) ... OK
getGeneticProfiles (2/2) ... OK
getClinicalData (1/1) ... OK
getProfileData (1/6) ... OK
getProfileData (2/6) ... OK
getProfileData (3/6) ... OK
getProfileData (4/6) ... OK
getProfileData (5/6) ... OK
getProfileData (6/6) ... OK
[ FAIL 0 | WARN 0 | SKIP 1 | PASS 0 ]
== Skipped tests ===============================================================
* empty test (1)
[ FAIL 0 | WARN 0 | SKIP 1 | PASS 0 ]
>
> proc.time()
user system elapsed
11.59 1.26 16.48
|
canceR.Rcheck/tests_x64/testthat.Rout
R version 4.1.3 (2022-03-10) -- "One Push-Up"
Copyright (C) 2022 The R Foundation for Statistical Computing
Platform: x86_64-w64-mingw32/x64 (64-bit)
R is free software and comes with ABSOLUTELY NO WARRANTY.
You are welcome to redistribute it under certain conditions.
Type 'license()' or 'licence()' for distribution details.
R is a collaborative project with many contributors.
Type 'contributors()' for more information and
'citation()' on how to cite R or R packages in publications.
Type 'demo()' for some demos, 'help()' for on-line help, or
'help.start()' for an HTML browser interface to help.
Type 'q()' to quit R.
> library(testthat)
> library(canceR)
Loading required package: tcltk
Loading required package: cgdsr
Please send questions to cbioportal@googlegroups.com
>
> test_check("canceR")
getCancerStudies... OK
getCaseLists (1/2) ... OK
getCaseLists (2/2) ... OK
getGeneticProfiles (1/2) ... OK
getGeneticProfiles (2/2) ... OK
getClinicalData (1/1) ... OK
getProfileData (1/6) ... OK
getProfileData (2/6) ... OK
getProfileData (3/6) ... OK
getProfileData (4/6) ... OK
getProfileData (5/6) ... OK
getProfileData (6/6) ... OK
[ FAIL 0 | WARN 0 | SKIP 1 | PASS 0 ]
== Skipped tests ===============================================================
* empty test (1)
[ FAIL 0 | WARN 0 | SKIP 1 | PASS 0 ]
>
> proc.time()
user system elapsed
10.50 0.67 11.90
|
|
canceR.Rcheck/examples_i386/canceR-Ex.timings
|
canceR.Rcheck/examples_x64/canceR-Ex.timings
|