| Back to Multiple platform build/check report for BioC 3.14 |
|
This page was generated on 2022-04-13 12:05:09 -0400 (Wed, 13 Apr 2022).
| Hostname | OS | Arch (*) | R version | Installed pkgs |
|---|---|---|---|---|
| nebbiolo2 | Linux (Ubuntu 20.04.4 LTS) | x86_64 | 4.1.3 (2022-03-10) -- "One Push-Up" | 4324 |
| tokay2 | Windows Server 2012 R2 Standard | x64 | 4.1.3 (2022-03-10) -- "One Push-Up" | 4077 |
| machv2 | macOS 10.14.6 Mojave | x86_64 | 4.1.3 (2022-03-10) -- "One Push-Up" | 4137 |
| Click on any hostname to see more info about the system (e.g. compilers) (*) as reported by 'uname -p', except on Windows and Mac OS X | ||||
|
To the developers/maintainers of the canceR package: - Please allow up to 24 hours (and sometimes 48 hours) for your latest push to git@git.bioconductor.org:packages/canceR.git to reflect on this report. See How and When does the builder pull? When will my changes propagate? for more information. - Make sure to use the following settings in order to reproduce any error or warning you see on this page. |
| Package 240/2083 | Hostname | OS / Arch | INSTALL | BUILD | CHECK | BUILD BIN | ||||||||
| canceR 1.28.04 (landing page) Karim Mezhoud
| nebbiolo2 | Linux (Ubuntu 20.04.4 LTS) / x86_64 | OK | OK | OK | |||||||||
| tokay2 | Windows Server 2012 R2 Standard / x64 | OK | OK | OK | OK | |||||||||
| machv2 | macOS 10.14.6 Mojave / x86_64 | OK | OK | OK | OK | |||||||||
| Package: canceR |
| Version: 1.28.04 |
| Command: /home/biocbuild/bbs-3.14-bioc/R/bin/R CMD check --install=check:canceR.install-out.txt --library=/home/biocbuild/bbs-3.14-bioc/R/library --no-vignettes --timings canceR_1.28.04.tar.gz |
| StartedAt: 2022-04-12 06:40:39 -0400 (Tue, 12 Apr 2022) |
| EndedAt: 2022-04-12 06:43:52 -0400 (Tue, 12 Apr 2022) |
| EllapsedTime: 193.6 seconds |
| RetCode: 0 |
| Status: OK |
| CheckDir: canceR.Rcheck |
| Warnings: 0 |
############################################################################## ############################################################################## ### ### Running command: ### ### /home/biocbuild/bbs-3.14-bioc/R/bin/R CMD check --install=check:canceR.install-out.txt --library=/home/biocbuild/bbs-3.14-bioc/R/library --no-vignettes --timings canceR_1.28.04.tar.gz ### ############################################################################## ############################################################################## * using log directory ‘/home/biocbuild/bbs-3.14-bioc/meat/canceR.Rcheck’ * using R version 4.1.3 (2022-03-10) * using platform: x86_64-pc-linux-gnu (64-bit) * using session charset: UTF-8 * using option ‘--no-vignettes’ * checking for file ‘canceR/DESCRIPTION’ ... OK * checking extension type ... Package * this is package ‘canceR’ version ‘1.28.04’ * package encoding: UTF-8 * checking package namespace information ... OK * checking package dependencies ... OK * checking if this is a source package ... OK * checking if there is a namespace ... OK * checking for hidden files and directories ... OK * checking for portable file names ... OK * checking for sufficient/correct file permissions ... OK * checking whether package ‘canceR’ can be installed ... OK * checking installed package size ... OK * checking package directory ... OK * checking ‘build’ directory ... OK * checking DESCRIPTION meta-information ... OK * checking top-level files ... OK * checking for left-over files ... OK * checking index information ... OK * checking package subdirectories ... OK * checking R files for non-ASCII characters ... OK * checking R files for syntax errors ... OK * checking whether the package can be loaded ... OK * checking whether the package can be loaded with stated dependencies ... OK * checking whether the package can be unloaded cleanly ... OK * checking whether the namespace can be loaded with stated dependencies ... OK * checking whether the namespace can be unloaded cleanly ... OK * checking dependencies in R code ... OK * checking S3 generic/method consistency ... OK * checking replacement functions ... OK * checking foreign function calls ... OK * checking R code for possible problems ... OK * checking Rd files ... OK * checking Rd metadata ... OK * checking Rd cross-references ... OK * checking for missing documentation entries ... OK * checking for code/documentation mismatches ... OK * checking Rd \usage sections ... OK * checking Rd contents ... OK * checking for unstated dependencies in examples ... OK * checking files in ‘vignettes’ ... OK * checking examples ... OK * checking for unstated dependencies in ‘tests’ ... OK * checking tests ... Running ‘testthat.R’ OK * checking for unstated dependencies in vignettes ... OK * checking package vignettes in ‘inst/doc’ ... OK * checking running R code from vignettes ... SKIPPED * checking re-building of vignette outputs ... SKIPPED * checking PDF version of manual ... OK * DONE Status: OK
canceR.Rcheck/00install.out
############################################################################## ############################################################################## ### ### Running command: ### ### /home/biocbuild/bbs-3.14-bioc/R/bin/R CMD INSTALL canceR ### ############################################################################## ############################################################################## * installing to library ‘/home/biocbuild/bbs-3.14-bioc/R/library’ * installing *source* package ‘canceR’ ... ** using staged installation ** R ** inst ** byte-compile and prepare package for lazy loading ** help *** installing help indices ** building package indices ** installing vignettes ** testing if installed package can be loaded from temporary location ** testing if installed package can be loaded from final location ** testing if installed package keeps a record of temporary installation path * DONE (canceR)
canceR.Rcheck/tests/testthat.Rout
R version 4.1.3 (2022-03-10) -- "One Push-Up"
Copyright (C) 2022 The R Foundation for Statistical Computing
Platform: x86_64-pc-linux-gnu (64-bit)
R is free software and comes with ABSOLUTELY NO WARRANTY.
You are welcome to redistribute it under certain conditions.
Type 'license()' or 'licence()' for distribution details.
R is a collaborative project with many contributors.
Type 'contributors()' for more information and
'citation()' on how to cite R or R packages in publications.
Type 'demo()' for some demos, 'help()' for on-line help, or
'help.start()' for an HTML browser interface to help.
Type 'q()' to quit R.
> library(testthat)
> library(canceR)
Loading required package: tcltk
Loading required package: cgdsr
Please send questions to cbioportal@googlegroups.com
>
> test_check("canceR")
getCancerStudies... OK
getCaseLists (1/2) ... OK
getCaseLists (2/2) ... OK
getGeneticProfiles (1/2) ... OK
getGeneticProfiles (2/2) ... OK
getClinicalData (1/1) ... OK
getProfileData (1/6) ... OK
getProfileData (2/6) ... OK
getProfileData (3/6) ... OK
getProfileData (4/6) ... OK
getProfileData (5/6) ... OK
getProfileData (6/6) ... OK
[ FAIL 0 | WARN 0 | SKIP 1 | PASS 0 ]
══ Skipped tests ═══════════════════════════════════════════════════════════════
• empty test (1)
[ FAIL 0 | WARN 0 | SKIP 1 | PASS 0 ]
>
> proc.time()
user system elapsed
8.913 0.928 10.175
canceR.Rcheck/canceR-Ex.timings
| name | user | system | elapsed | |
| GSEA.Analyze.Sets | 0 | 0 | 0 | |
| GSEA.ConsPlot | 0 | 0 | 0 | |
| GSEA.EnrichmentScore | 0 | 0 | 0 | |
| GSEA.EnrichmentScore2 | 0.000 | 0.000 | 0.001 | |
| GSEA.Gct2Frame | 0 | 0 | 0 | |
| GSEA.Gct2Frame2 | 0 | 0 | 0 | |
| GSEA.GeneRanking | 0 | 0 | 0 | |
| GSEA.HeatMapPlot | 0 | 0 | 0 | |
| GSEA.HeatMapPlot2 | 0.001 | 0.000 | 0.000 | |
| GSEA.NormalizeCols | 0.001 | 0.000 | 0.001 | |
| GSEA.NormalizeRows | 0 | 0 | 0 | |
| GSEA | 0 | 0 | 0 | |
| GSEA.ReadClsFile | 0.000 | 0.000 | 0.001 | |
| GSEA.Res2Frame | 0.000 | 0.000 | 0.001 | |
| GSEA.Threshold | 0.000 | 0.000 | 0.001 | |
| GSEA.VarFilter | 0 | 0 | 0 | |
| GSEA.write.gct | 0.000 | 0.001 | 0.000 | |
| Match_GeneList_MSigDB | 0.000 | 0.001 | 0.001 | |
| OLD.GSEA.EnrichmentScore | 0.000 | 0.000 | 0.001 | |
| Run.GSEA | 0.000 | 0.000 | 0.001 | |
| about | 0 | 0 | 0 | |
| canceR | 0 | 0 | 0 | |
| canceR_Issue | 0 | 0 | 0 | |
| canceR_Vignette | 0 | 0 | 0 | |
| cbind.na | 0 | 0 | 0 | |
| dialogGeneClassifier | 0 | 0 | 0 | |
| dialogMetOption | 0.001 | 0.000 | 0.000 | |
| dialogMut | 0 | 0 | 0 | |
| dialogOptionCircos | 0.000 | 0.000 | 0.001 | |
| dialogOptionGSEAlm | 0 | 0 | 0 | |
| dialogOptionPhenoTest | 0 | 0 | 0 | |
| dialogPlotOption_SkinCor | 0.001 | 0.000 | 0.000 | |
| dialogSamplingGSEA | 0 | 0 | 0 | |
| dialogSelectFiles_GSEA | 0 | 0 | 0 | |
| dialogSpecificMut | 0.001 | 0.000 | 0.001 | |
| dialogSummary_GSEA | 0.001 | 0.000 | 0.001 | |
| dialoggetGeneListMSigDB | 0 | 0 | 0 | |
| displayInTable | 0.000 | 0.000 | 0.001 | |
| getCases | 0.066 | 0.012 | 0.202 | |
| getCasesGenProfs | 0.000 | 0.000 | 0.001 | |
| getCircos | 0 | 0 | 0 | |
| getClinicData_MultipleCases | 0.000 | 0.001 | 0.000 | |
| getClinicalDataMatrix | 0 | 0 | 0 | |
| getCor_ExpCNAMet | 0.000 | 0.000 | 0.001 | |
| getGCTCLSExample | 0.001 | 0.000 | 0.000 | |
| getGCT_CLSfiles | 0.001 | 0.000 | 0.000 | |
| getGSEAlm_Diseases | 0.001 | 0.000 | 0.000 | |
| getGSEAlm_Variables | 0.000 | 0.000 | 0.001 | |
| getGenProfs | 0.079 | 0.001 | 0.198 | |
| getGeneExpMatrix | 0 | 0 | 0 | |
| getGeneList | 0 | 0 | 0 | |
| getGeneListExample | 0 | 0 | 0 | |
| getGeneListFromMSigDB | 0.001 | 0.000 | 0.000 | |
| getGenesClassifier | 0 | 0 | 0 | |
| getGenesTree_MultipleCases | 0 | 0 | 0 | |
| getGenesTree_SingleCase | 0 | 0 | 0 | |
| getInTable | 0 | 0 | 0 | |
| getListProfData | 0.000 | 0.000 | 0.001 | |
| getMSigDB | 0 | 0 | 0 | |
| getMSigDBExample | 0.001 | 0.000 | 0.001 | |
| getMSigDBfile | 0.000 | 0.000 | 0.001 | |
| getMegaProfData | 0.001 | 0.000 | 0.001 | |
| getMetDataMultipleGenes | 0.001 | 0.000 | 0.000 | |
| getMutData | 0.001 | 0.000 | 0.001 | |
| getPhenoTest | 0.001 | 0.000 | 0.001 | |
| getProfilesDataMultipleGenes | 0.001 | 0.000 | 0.000 | |
| getProfilesDataSingleGene | 0.001 | 0.000 | 0.000 | |
| getSpecificMut | 0.000 | 0.000 | 0.001 | |
| getSummaryGSEA | 0.001 | 0.000 | 0.001 | |
| getSurvival | 0 | 0 | 0 | |
| getTextWin | 0 | 0 | 0 | |
| geteSet | 0 | 0 | 0 | |
| modalDialog | 0.001 | 0.000 | 0.001 | |
| myGlobalEnv | 0.000 | 0.000 | 0.001 | |
| plotModel | 0.000 | 0.000 | 0.001 | |
| plot_1Gene_2GenProfs | 0.001 | 0.000 | 0.001 | |
| plot_2Genes_1GenProf | 0.001 | 0.000 | 0.001 | |
| rbind.na | 0.000 | 0.000 | 0.001 | |
| setWorkspace | 0.001 | 0.000 | 0.001 | |
| testCheckedCaseGenProf | 0.001 | 0.000 | 0.002 | |