| Back to Multiple platform build/check report for BioC 3.14 |
|
This page was generated on 2022-04-13 12:06:13 -0400 (Wed, 13 Apr 2022).
| Hostname | OS | Arch (*) | R version | Installed pkgs |
|---|---|---|---|---|
| nebbiolo2 | Linux (Ubuntu 20.04.4 LTS) | x86_64 | 4.1.3 (2022-03-10) -- "One Push-Up" | 4324 |
| tokay2 | Windows Server 2012 R2 Standard | x64 | 4.1.3 (2022-03-10) -- "One Push-Up" | 4077 |
| machv2 | macOS 10.14.6 Mojave | x86_64 | 4.1.3 (2022-03-10) -- "One Push-Up" | 4137 |
| Click on any hostname to see more info about the system (e.g. compilers) (*) as reported by 'uname -p', except on Windows and Mac OS X | ||||
|
To the developers/maintainers of the benchdamic package: - Please allow up to 24 hours (and sometimes 48 hours) for your latest push to git@git.bioconductor.org:packages/benchdamic.git to reflect on this report. See How and When does the builder pull? When will my changes propagate? for more information. - Make sure to use the following settings in order to reproduce any error or warning you see on this page. |
| Package 139/2083 | Hostname | OS / Arch | INSTALL | BUILD | CHECK | BUILD BIN | ||||||||
| benchdamic 1.0.0 (landing page) Matteo Calgaro
| nebbiolo2 | Linux (Ubuntu 20.04.4 LTS) / x86_64 | OK | OK | OK | |||||||||
| tokay2 | Windows Server 2012 R2 Standard / x64 | OK | OK | OK | OK | |||||||||
| machv2 | macOS 10.14.6 Mojave / x86_64 | OK | OK | OK | OK | |||||||||
| Package: benchdamic |
| Version: 1.0.0 |
| Command: C:\Users\biocbuild\bbs-3.14-bioc\R\bin\R.exe CMD check --force-multiarch --install=check:benchdamic.install-out.txt --library=C:\Users\biocbuild\bbs-3.14-bioc\R\library --no-vignettes --timings benchdamic_1.0.0.tar.gz |
| StartedAt: 2022-04-12 16:07:32 -0400 (Tue, 12 Apr 2022) |
| EndedAt: 2022-04-12 16:21:39 -0400 (Tue, 12 Apr 2022) |
| EllapsedTime: 847.2 seconds |
| RetCode: 0 |
| Status: OK |
| CheckDir: benchdamic.Rcheck |
| Warnings: 0 |
##############################################################################
##############################################################################
###
### Running command:
###
### C:\Users\biocbuild\bbs-3.14-bioc\R\bin\R.exe CMD check --force-multiarch --install=check:benchdamic.install-out.txt --library=C:\Users\biocbuild\bbs-3.14-bioc\R\library --no-vignettes --timings benchdamic_1.0.0.tar.gz
###
##############################################################################
##############################################################################
* using log directory 'C:/Users/biocbuild/bbs-3.14-bioc/meat/benchdamic.Rcheck'
* using R version 4.1.3 (2022-03-10)
* using platform: x86_64-w64-mingw32 (64-bit)
* using session charset: ISO8859-1
* using option '--no-vignettes'
* checking for file 'benchdamic/DESCRIPTION' ... OK
* checking extension type ... Package
* this is package 'benchdamic' version '1.0.0'
* package encoding: UTF-8
* checking package namespace information ... OK
* checking package dependencies ... OK
* checking if this is a source package ... OK
* checking if there is a namespace ... OK
* checking for hidden files and directories ... OK
* checking for portable file names ... OK
* checking whether package 'benchdamic' can be installed ... OK
* checking installed package size ... OK
* checking package directory ... OK
* checking 'build' directory ... OK
* checking DESCRIPTION meta-information ... OK
* checking top-level files ... OK
* checking for left-over files ... OK
* checking index information ... OK
* checking package subdirectories ... OK
* checking R files for non-ASCII characters ... OK
* checking R files for syntax errors ... OK
* loading checks for arch 'i386'
** checking whether the package can be loaded ... OK
** checking whether the package can be loaded with stated dependencies ... OK
** checking whether the package can be unloaded cleanly ... OK
** checking whether the namespace can be loaded with stated dependencies ... OK
** checking whether the namespace can be unloaded cleanly ... OK
* loading checks for arch 'x64'
** checking whether the package can be loaded ... OK
** checking whether the package can be loaded with stated dependencies ... OK
** checking whether the package can be unloaded cleanly ... OK
** checking whether the namespace can be loaded with stated dependencies ... OK
** checking whether the namespace can be unloaded cleanly ... OK
* checking dependencies in R code ... OK
* checking S3 generic/method consistency ... OK
* checking replacement functions ... OK
* checking foreign function calls ... OK
* checking R code for possible problems ... OK
* checking Rd files ... OK
* checking Rd metadata ... OK
* checking Rd cross-references ... OK
* checking for missing documentation entries ... OK
* checking for code/documentation mismatches ... OK
* checking Rd \usage sections ... OK
* checking Rd contents ... OK
* checking for unstated dependencies in examples ... OK
* checking contents of 'data' directory ... OK
* checking data for non-ASCII characters ... OK
* checking LazyData ... OK
* checking data for ASCII and uncompressed saves ... OK
* checking files in 'vignettes' ... OK
* checking examples ...
** running examples for arch 'i386' ... OK
Examples with CPU (user + system) or elapsed time > 5s
user system elapsed
createConcordance 8.20 0.14 8.34
DA_DESeq2 5.93 0.86 6.78
plotConcordance 5.94 0.00 5.94
areaCAT 5.03 0.09 5.12
DA_corncob 1.67 0.05 12.18
** running examples for arch 'x64' ... OK
Examples with CPU (user + system) or elapsed time > 5s
user system elapsed
createConcordance 8.89 0.05 8.94
plotConcordance 6.86 0.00 6.86
areaCAT 6.39 0.05 6.44
DA_DESeq2 6.06 0.05 6.11
* checking for unstated dependencies in 'tests' ... OK
* checking tests ...
** running tests for arch 'i386' ...
Running 'testthat.R'
OK
** running tests for arch 'x64' ...
Running 'testthat.R'
OK
* checking for unstated dependencies in vignettes ... OK
* checking package vignettes in 'inst/doc' ... OK
* checking running R code from vignettes ... SKIPPED
* checking re-building of vignette outputs ... SKIPPED
* checking PDF version of manual ... OK
* DONE
Status: OK
benchdamic.Rcheck/00install.out
##############################################################################
##############################################################################
###
### Running command:
###
### C:\cygwin\bin\curl.exe -O http://155.52.207.166/BBS/3.14/bioc/src/contrib/benchdamic_1.0.0.tar.gz && rm -rf benchdamic.buildbin-libdir && mkdir benchdamic.buildbin-libdir && C:\Users\biocbuild\bbs-3.14-bioc\R\bin\R.exe CMD INSTALL --merge-multiarch --build --library=benchdamic.buildbin-libdir benchdamic_1.0.0.tar.gz && C:\Users\biocbuild\bbs-3.14-bioc\R\bin\R.exe CMD INSTALL benchdamic_1.0.0.zip && rm benchdamic_1.0.0.tar.gz benchdamic_1.0.0.zip
###
##############################################################################
##############################################################################
% Total % Received % Xferd Average Speed Time Time Time Current
Dload Upload Total Spent Left Speed
0 0 0 0 0 0 0 0 --:--:-- --:--:-- --:--:-- 0
92 221k 92 205k 0 0 499k 0 --:--:-- --:--:-- --:--:-- 498k
100 221k 100 221k 0 0 321k 0 --:--:-- --:--:-- --:--:-- 321k
install for i386
* installing *source* package 'benchdamic' ...
** using staged installation
** R
** data
*** moving datasets to lazyload DB
** byte-compile and prepare package for lazy loading
No methods found in package 'RSQLite' for request: 'dbListFields' when loading 'lumi'
** help
*** installing help indices
converting help for package 'benchdamic'
finding HTML links ... done
DA_ALDEx2 html
DA_DESeq2 html
DA_MAST html
DA_Seurat html
DA_corncob html
DA_edgeR html
DA_limma html
DA_metagenomeSeq html
RMSE html
addKnowledge html
areaCAT html
checkNormalization html
createColors html
createConcordance html
createEnrichment html
createMocks html
createPositives html
createSplits html
createTIEC html
enrichmentTest html
extractDA html
extractStatistics html
fitDM html
finding level-2 HTML links ... done
fitHURDLE html
fitModels html
fitNB html
fitZIG html
fitZINB html
getDA html
getPositives html
getStatistics html
iterative_ordering html
meanDifferences html
microbial_metabolism html
norm_CSS html
norm_DESeq2 html
norm_TSS html
norm_edgeR html
plotConcordance html
plotConcordanceDendrogram html
plotConcordanceHeatmap html
plotContingency html
plotEnrichment html
plotFPR html
plotKS html
plotMD html
plotMutualFindings html
plotPositives html
plotQQ html
plotRMSE html
prepareObserved html
ps_plaque_16S html
ps_stool_16S html
runDA html
runMocks html
runNormalizations html
runSplits html
setNormalizations html
set_ALDEx2 html
set_DESeq2 html
set_MAST html
set_Seurat html
set_corncob html
set_edgeR html
set_limma html
set_metagenomeSeq html
weights_ZINB html
** building package indices
** installing vignettes
** testing if installed package can be loaded from temporary location
No methods found in package 'RSQLite' for request: 'dbListFields' when loading 'lumi'
** testing if installed package can be loaded from final location
No methods found in package 'RSQLite' for request: 'dbListFields' when loading 'lumi'
** testing if installed package keeps a record of temporary installation path
install for x64
* installing *source* package 'benchdamic' ...
** testing if installed package can be loaded
No methods found in package 'RSQLite' for request: 'dbListFields' when loading 'lumi'
* MD5 sums
packaged installation of 'benchdamic' as benchdamic_1.0.0.zip
* DONE (benchdamic)
* installing to library 'C:/Users/biocbuild/bbs-3.14-bioc/R/library'
package 'benchdamic' successfully unpacked and MD5 sums checked
|
benchdamic.Rcheck/tests_i386/testthat.Rout
R version 4.1.3 (2022-03-10) -- "One Push-Up"
Copyright (C) 2022 The R Foundation for Statistical Computing
Platform: i386-w64-mingw32/i386 (32-bit)
R is free software and comes with ABSOLUTELY NO WARRANTY.
You are welcome to redistribute it under certain conditions.
Type 'license()' or 'licence()' for distribution details.
R is a collaborative project with many contributors.
Type 'contributors()' for more information and
'citation()' on how to cite R or R packages in publications.
Type 'demo()' for some demos, 'help()' for on-line help, or
'help.start()' for an HTML browser interface to help.
Type 'q()' to quit R.
> library(testthat)
> library(benchdamic)
Setting options('download.file.method.GEOquery'='auto')
Setting options('GEOquery.inmemory.gpl'=FALSE)
No methods found in package 'RSQLite' for request: 'dbListFields' when loading 'lumi'
>
> test_check("benchdamic")
it= 0, nll=95.15, log10(eps+1)=Inf, stillActive=88
it= 1, nll=94.77, log10(eps+1)=0.04, stillActive=58
it= 2, nll=92.76, log10(eps+1)=0.05, stillActive=48
it= 3, nll=91.25, log10(eps+1)=0.06, stillActive=37
it= 4, nll=89.92, log10(eps+1)=0.06, stillActive=32
it= 5, nll=88.71, log10(eps+1)=0.09, stillActive=31
it= 6, nll=89.24, log10(eps+1)=0.10, stillActive=14
it= 7, nll=90.16, log10(eps+1)=0.07, stillActive=8
it= 8, nll=90.35, log10(eps+1)=0.04, stillActive=7
it= 9, nll=91.03, log10(eps+1)=0.02, stillActive=5
it=10, nll=91.43, log10(eps+1)=0.01, stillActive=3
it=11, nll=91.45, log10(eps+1)=0.02, stillActive=3
it=12, nll=91.45, log10(eps+1)=0.02, stillActive=3
it=13, nll=91.52, log10(eps+1)=0.01, stillActive=2
it=14, nll=91.53, log10(eps+1)=0.01, stillActive=2
it=15, nll=91.50, log10(eps+1)=0.03, stillActive=2
it=16, nll=91.45, log10(eps+1)=0.03, stillActive=2
it=17, nll=91.38, log10(eps+1)=0.05, stillActive=2
it=18, nll=91.50, log10(eps+1)=0.00, stillActive=0
|------------(25%)----------(50%)----------(75%)----------|
Performing log-normalization
0% 10 20 30 40 50 60 70 80 90 100%
[----|----|----|----|----|----|----|----|----|----|
**************************************************|
Calculating gene variances
0% 10 20 30 40 50 60 70 80 90 100%
[----|----|----|----|----|----|----|----|----|----|
**************************************************|
Calculating feature variances of standardized and clipped values
0% 10 20 30 40 50 60 70 80 90 100%
[----|----|----|----|----|----|----|----|----|----|
**************************************************|
|
| | 0%
|
|======== | 11%
|
|================ | 22%
|
|======================= | 33%
|
|=============================== | 44%
|
|======================================= | 56%
|
|=============================================== | 67%
|
|====================================================== | 78%
|
|============================================================== | 89%
|
|======================================================================| 100%
|
| | 0%
|
|======================================================================| 100%
+ Running now: norm_edgeR
Parameters: method=TMM
* Running now: DA_limma
Parameters: pseudo_count=FALSE, design=~1 + HMP_BODY_SUBSITE, coef=2, norm=TMM, weights=FALSE
+ Running now: norm_edgeR
Parameters: method=TMM
* Running now: DA_limma
Parameters: pseudo_count=FALSE, design=~1 + HMP_BODY_SUBSITE, coef=2, norm=TMM, weights=FALSE
+ Running now: norm_edgeR
Parameters: method=TMM
* Running now: DA_limma
Parameters: pseudo_count=FALSE, design=~1 + HMP_BODY_SUBSITE, coef=2, norm=TMM, weights=FALSE
+ Running now: norm_edgeR
Parameters: method=TMM
* Running now: DA_limma
Parameters: pseudo_count=FALSE, design=~1 + HMP_BODY_SUBSITE, coef=2, norm=TMM, weights=FALSE
+ Running now: norm_edgeR
Parameters: method=TMM
* Running now: DA_limma
Parameters: pseudo_count=FALSE, design=~1 + HMP_BODY_SUBSITE, coef=2, norm=TMM, weights=FALSE
+ Running now: norm_edgeR
Parameters: method=TMM
* Running now: DA_limma
Parameters: pseudo_count=FALSE, design=~1 + HMP_BODY_SUBSITE, coef=2, norm=TMM, weights=FALSE
+ Running now: norm_edgeR
Parameters: method=TMM
+ Running now: norm_CSS
Parameters: method=median
* Running now: DA_limma
Parameters: pseudo_count=FALSE, design=~1 + HMP_BODY_SUBSITE, coef=2, norm=CSSmedian, weights=FALSE
* Running now: DA_limma
Parameters: pseudo_count=FALSE, design=~1 + HMP_BODY_SUBSITE, coef=2, norm=TMM, weights=FALSE
+ Running now: norm_edgeR
Parameters: method=TMM
+ Running now: norm_CSS
Parameters: method=median
* Running now: DA_limma
Parameters: pseudo_count=FALSE, design=~1 + HMP_BODY_SUBSITE, coef=2, norm=CSSmedian, weights=FALSE
* Running now: DA_limma
Parameters: pseudo_count=FALSE, design=~1 + HMP_BODY_SUBSITE, coef=2, norm=TMM, weights=FALSE
+ Running now: norm_edgeR
Parameters: method=TMM
+ Running now: norm_CSS
Parameters: method=median
* Running now: DA_limma
Parameters: pseudo_count=FALSE, design=~1 + HMP_BODY_SUBSITE, coef=2, norm=CSSmedian, weights=FALSE
* Running now: DA_limma
Parameters: pseudo_count=FALSE, design=~1 + HMP_BODY_SUBSITE, coef=2, norm=TMM, weights=FALSE
+ Running now: norm_edgeR
Parameters: method=TMM
+ Running now: norm_DESeq2
Parameters: method=poscounts
+ Running now: norm_CSS
Parameters: method=default
+ Running now: norm_TSS
Parameters: method=TSS
[ FAIL 0 | WARN 6 | SKIP 0 | PASS 127 ]
[ FAIL 0 | WARN 6 | SKIP 0 | PASS 127 ]
>
> proc.time()
user system elapsed
54.71 4.35 59.15
|
benchdamic.Rcheck/tests_x64/testthat.Rout
R version 4.1.3 (2022-03-10) -- "One Push-Up"
Copyright (C) 2022 The R Foundation for Statistical Computing
Platform: x86_64-w64-mingw32/x64 (64-bit)
R is free software and comes with ABSOLUTELY NO WARRANTY.
You are welcome to redistribute it under certain conditions.
Type 'license()' or 'licence()' for distribution details.
R is a collaborative project with many contributors.
Type 'contributors()' for more information and
'citation()' on how to cite R or R packages in publications.
Type 'demo()' for some demos, 'help()' for on-line help, or
'help.start()' for an HTML browser interface to help.
Type 'q()' to quit R.
> library(testthat)
> library(benchdamic)
Setting options('download.file.method.GEOquery'='auto')
Setting options('GEOquery.inmemory.gpl'=FALSE)
No methods found in package 'RSQLite' for request: 'dbListFields' when loading 'lumi'
>
> test_check("benchdamic")
it= 0, nll=95.22, log10(eps+1)=Inf, stillActive=88
it= 1, nll=95.38, log10(eps+1)=0.04, stillActive=55
it= 2, nll=93.31, log10(eps+1)=0.05, stillActive=47
it= 3, nll=91.18, log10(eps+1)=0.07, stillActive=40
it= 4, nll=89.98, log10(eps+1)=0.07, stillActive=34
it= 5, nll=89.95, log10(eps+1)=0.07, stillActive=29
it= 6, nll=90.16, log10(eps+1)=0.06, stillActive=16
it= 7, nll=89.95, log10(eps+1)=0.07, stillActive=13
it= 8, nll=89.59, log10(eps+1)=0.06, stillActive=10
it= 9, nll=89.63, log10(eps+1)=0.10, stillActive=6
it=10, nll=90.12, log10(eps+1)=0.10, stillActive=3
it=11, nll=90.34, log10(eps+1)=0.06, stillActive=2
it=12, nll=90.56, log10(eps+1)=0.05, stillActive=1
it=13, nll=90.87, log10(eps+1)=0.00, stillActive=0
|------------(25%)----------(50%)----------(75%)----------|
Performing log-normalization
0% 10 20 30 40 50 60 70 80 90 100%
[----|----|----|----|----|----|----|----|----|----|
**************************************************|
Calculating gene variances
0% 10 20 30 40 50 60 70 80 90 100%
[----|----|----|----|----|----|----|----|----|----|
**************************************************|
Calculating feature variances of standardized and clipped values
0% 10 20 30 40 50 60 70 80 90 100%
[----|----|----|----|----|----|----|----|----|----|
**************************************************|
|
| | 0%
|
|======== | 11%
|
|================ | 22%
|
|======================= | 33%
|
|=============================== | 44%
|
|======================================= | 56%
|
|=============================================== | 67%
|
|====================================================== | 78%
|
|============================================================== | 89%
|
|======================================================================| 100%
|
| | 0%
|
|======================================================================| 100%
+ Running now: norm_edgeR
Parameters: method=TMM
* Running now: DA_limma
Parameters: pseudo_count=FALSE, design=~1 + HMP_BODY_SUBSITE, coef=2, norm=TMM, weights=FALSE
+ Running now: norm_edgeR
Parameters: method=TMM
* Running now: DA_limma
Parameters: pseudo_count=FALSE, design=~1 + HMP_BODY_SUBSITE, coef=2, norm=TMM, weights=FALSE
+ Running now: norm_edgeR
Parameters: method=TMM
* Running now: DA_limma
Parameters: pseudo_count=FALSE, design=~1 + HMP_BODY_SUBSITE, coef=2, norm=TMM, weights=FALSE
+ Running now: norm_edgeR
Parameters: method=TMM
* Running now: DA_limma
Parameters: pseudo_count=FALSE, design=~1 + HMP_BODY_SUBSITE, coef=2, norm=TMM, weights=FALSE
+ Running now: norm_edgeR
Parameters: method=TMM
* Running now: DA_limma
Parameters: pseudo_count=FALSE, design=~1 + HMP_BODY_SUBSITE, coef=2, norm=TMM, weights=FALSE
+ Running now: norm_edgeR
Parameters: method=TMM
* Running now: DA_limma
Parameters: pseudo_count=FALSE, design=~1 + HMP_BODY_SUBSITE, coef=2, norm=TMM, weights=FALSE
+ Running now: norm_edgeR
Parameters: method=TMM
+ Running now: norm_CSS
Parameters: method=median
* Running now: DA_limma
Parameters: pseudo_count=FALSE, design=~1 + HMP_BODY_SUBSITE, coef=2, norm=CSSmedian, weights=FALSE
* Running now: DA_limma
Parameters: pseudo_count=FALSE, design=~1 + HMP_BODY_SUBSITE, coef=2, norm=TMM, weights=FALSE
+ Running now: norm_edgeR
Parameters: method=TMM
+ Running now: norm_CSS
Parameters: method=median
* Running now: DA_limma
Parameters: pseudo_count=FALSE, design=~1 + HMP_BODY_SUBSITE, coef=2, norm=CSSmedian, weights=FALSE
* Running now: DA_limma
Parameters: pseudo_count=FALSE, design=~1 + HMP_BODY_SUBSITE, coef=2, norm=TMM, weights=FALSE
+ Running now: norm_edgeR
Parameters: method=TMM
+ Running now: norm_CSS
Parameters: method=median
* Running now: DA_limma
Parameters: pseudo_count=FALSE, design=~1 + HMP_BODY_SUBSITE, coef=2, norm=CSSmedian, weights=FALSE
* Running now: DA_limma
Parameters: pseudo_count=FALSE, design=~1 + HMP_BODY_SUBSITE, coef=2, norm=TMM, weights=FALSE
+ Running now: norm_edgeR
Parameters: method=TMM
+ Running now: norm_DESeq2
Parameters: method=poscounts
+ Running now: norm_CSS
Parameters: method=default
+ Running now: norm_TSS
Parameters: method=TSS
[ FAIL 0 | WARN 5 | SKIP 0 | PASS 127 ]
[ FAIL 0 | WARN 5 | SKIP 0 | PASS 127 ]
>
> proc.time()
user system elapsed
53.67 2.56 57.04
|
|
benchdamic.Rcheck/examples_i386/benchdamic-Ex.timings
|
benchdamic.Rcheck/examples_x64/benchdamic-Ex.timings
|