| Back to Multiple platform build/check report for BioC 3.14 |
|
This page was generated on 2022-04-13 12:05:06 -0400 (Wed, 13 Apr 2022).
| Hostname | OS | Arch (*) | R version | Installed pkgs |
|---|---|---|---|---|
| nebbiolo2 | Linux (Ubuntu 20.04.4 LTS) | x86_64 | 4.1.3 (2022-03-10) -- "One Push-Up" | 4324 |
| tokay2 | Windows Server 2012 R2 Standard | x64 | 4.1.3 (2022-03-10) -- "One Push-Up" | 4077 |
| machv2 | macOS 10.14.6 Mojave | x86_64 | 4.1.3 (2022-03-10) -- "One Push-Up" | 4137 |
| Click on any hostname to see more info about the system (e.g. compilers) (*) as reported by 'uname -p', except on Windows and Mac OS X | ||||
|
To the developers/maintainers of the benchdamic package: - Please allow up to 24 hours (and sometimes 48 hours) for your latest push to git@git.bioconductor.org:packages/benchdamic.git to reflect on this report. See How and When does the builder pull? When will my changes propagate? for more information. - Make sure to use the following settings in order to reproduce any error or warning you see on this page. |
| Package 139/2083 | Hostname | OS / Arch | INSTALL | BUILD | CHECK | BUILD BIN | ||||||||
| benchdamic 1.0.0 (landing page) Matteo Calgaro
| nebbiolo2 | Linux (Ubuntu 20.04.4 LTS) / x86_64 | OK | OK | OK | |||||||||
| tokay2 | Windows Server 2012 R2 Standard / x64 | OK | OK | OK | OK | |||||||||
| machv2 | macOS 10.14.6 Mojave / x86_64 | OK | OK | OK | OK | |||||||||
| Package: benchdamic |
| Version: 1.0.0 |
| Command: /home/biocbuild/bbs-3.14-bioc/R/bin/R CMD check --install=check:benchdamic.install-out.txt --library=/home/biocbuild/bbs-3.14-bioc/R/library --no-vignettes --timings benchdamic_1.0.0.tar.gz |
| StartedAt: 2022-04-12 06:30:09 -0400 (Tue, 12 Apr 2022) |
| EndedAt: 2022-04-12 06:38:02 -0400 (Tue, 12 Apr 2022) |
| EllapsedTime: 473.2 seconds |
| RetCode: 0 |
| Status: OK |
| CheckDir: benchdamic.Rcheck |
| Warnings: 0 |
##############################################################################
##############################################################################
###
### Running command:
###
### /home/biocbuild/bbs-3.14-bioc/R/bin/R CMD check --install=check:benchdamic.install-out.txt --library=/home/biocbuild/bbs-3.14-bioc/R/library --no-vignettes --timings benchdamic_1.0.0.tar.gz
###
##############################################################################
##############################################################################
* using log directory ‘/home/biocbuild/bbs-3.14-bioc/meat/benchdamic.Rcheck’
* using R version 4.1.3 (2022-03-10)
* using platform: x86_64-pc-linux-gnu (64-bit)
* using session charset: UTF-8
* using option ‘--no-vignettes’
* checking for file ‘benchdamic/DESCRIPTION’ ... OK
* checking extension type ... Package
* this is package ‘benchdamic’ version ‘1.0.0’
* package encoding: UTF-8
* checking package namespace information ... OK
* checking package dependencies ... OK
* checking if this is a source package ... OK
* checking if there is a namespace ... OK
* checking for hidden files and directories ... OK
* checking for portable file names ... OK
* checking for sufficient/correct file permissions ... OK
* checking whether package ‘benchdamic’ can be installed ... OK
* checking installed package size ... OK
* checking package directory ... OK
* checking ‘build’ directory ... OK
* checking DESCRIPTION meta-information ... OK
* checking top-level files ... OK
* checking for left-over files ... OK
* checking index information ... OK
* checking package subdirectories ... OK
* checking R files for non-ASCII characters ... OK
* checking R files for syntax errors ... OK
* checking whether the package can be loaded ... OK
* checking whether the package can be loaded with stated dependencies ... OK
* checking whether the package can be unloaded cleanly ... OK
* checking whether the namespace can be loaded with stated dependencies ... OK
* checking whether the namespace can be unloaded cleanly ... OK
* checking dependencies in R code ... OK
* checking S3 generic/method consistency ... OK
* checking replacement functions ... OK
* checking foreign function calls ... OK
* checking R code for possible problems ... OK
* checking Rd files ... OK
* checking Rd metadata ... OK
* checking Rd cross-references ... OK
* checking for missing documentation entries ... OK
* checking for code/documentation mismatches ... OK
* checking Rd \usage sections ... OK
* checking Rd contents ... OK
* checking for unstated dependencies in examples ... OK
* checking contents of ‘data’ directory ... OK
* checking data for non-ASCII characters ... OK
* checking LazyData ... OK
* checking data for ASCII and uncompressed saves ... OK
* checking files in ‘vignettes’ ... OK
* checking examples ... OK
Examples with CPU (user + system) or elapsed time > 5s
user system elapsed
createConcordance 6.654 0.080 6.733
areaCAT 6.116 0.180 6.296
DA_DESeq2 5.378 0.320 5.698
plotConcordance 5.055 0.036 5.092
* checking for unstated dependencies in ‘tests’ ... OK
* checking tests ...
Running ‘testthat.R’
OK
* checking for unstated dependencies in vignettes ... OK
* checking package vignettes in ‘inst/doc’ ... OK
* checking running R code from vignettes ... SKIPPED
* checking re-building of vignette outputs ... SKIPPED
* checking PDF version of manual ... OK
* DONE
Status: OK
benchdamic.Rcheck/00install.out
############################################################################## ############################################################################## ### ### Running command: ### ### /home/biocbuild/bbs-3.14-bioc/R/bin/R CMD INSTALL benchdamic ### ############################################################################## ############################################################################## * installing to library ‘/home/biocbuild/bbs-3.14-bioc/R/library’ * installing *source* package ‘benchdamic’ ... ** using staged installation ** R ** data *** moving datasets to lazyload DB ** byte-compile and prepare package for lazy loading No methods found in package ‘RSQLite’ for request: ‘dbListFields’ when loading ‘lumi’ ** help *** installing help indices ** building package indices ** installing vignettes ** testing if installed package can be loaded from temporary location No methods found in package ‘RSQLite’ for request: ‘dbListFields’ when loading ‘lumi’ ** testing if installed package can be loaded from final location No methods found in package ‘RSQLite’ for request: ‘dbListFields’ when loading ‘lumi’ ** testing if installed package keeps a record of temporary installation path * DONE (benchdamic)
benchdamic.Rcheck/tests/testthat.Rout
R version 4.1.3 (2022-03-10) -- "One Push-Up"
Copyright (C) 2022 The R Foundation for Statistical Computing
Platform: x86_64-pc-linux-gnu (64-bit)
R is free software and comes with ABSOLUTELY NO WARRANTY.
You are welcome to redistribute it under certain conditions.
Type 'license()' or 'licence()' for distribution details.
R is a collaborative project with many contributors.
Type 'contributors()' for more information and
'citation()' on how to cite R or R packages in publications.
Type 'demo()' for some demos, 'help()' for on-line help, or
'help.start()' for an HTML browser interface to help.
Type 'q()' to quit R.
> library(testthat)
> library(benchdamic)
Setting options('download.file.method.GEOquery'='auto')
Setting options('GEOquery.inmemory.gpl'=FALSE)
No methods found in package 'RSQLite' for request: 'dbListFields' when loading 'lumi'
>
> test_check("benchdamic")
it= 0, nll=95.21, log10(eps+1)=Inf, stillActive=88
it= 1, nll=94.64, log10(eps+1)=0.05, stillActive=60
it= 2, nll=92.29, log10(eps+1)=0.07, stillActive=50
it= 3, nll=90.42, log10(eps+1)=0.06, stillActive=40
it= 4, nll=88.80, log10(eps+1)=0.09, stillActive=34
it= 5, nll=88.50, log10(eps+1)=0.07, stillActive=31
it= 6, nll=88.78, log10(eps+1)=0.05, stillActive=17
it= 7, nll=89.34, log10(eps+1)=0.07, stillActive=7
it= 8, nll=89.43, log10(eps+1)=0.05, stillActive=6
it= 9, nll=89.39, log10(eps+1)=0.06, stillActive=2
it=10, nll=89.29, log10(eps+1)=0.03, stillActive=2
it=11, nll=89.69, log10(eps+1)=0.00, stillActive=0
|------------(25%)----------(50%)----------(75%)----------|
Performing log-normalization
0% 10 20 30 40 50 60 70 80 90 100%
[----|----|----|----|----|----|----|----|----|----|
**************************************************|
Calculating gene variances
0% 10 20 30 40 50 60 70 80 90 100%
[----|----|----|----|----|----|----|----|----|----|
**************************************************|
Calculating feature variances of standardized and clipped values
0% 10 20 30 40 50 60 70 80 90 100%
[----|----|----|----|----|----|----|----|----|----|
**************************************************|
|
| | 0%
|
|======== | 11%
|
|================ | 22%
|
|======================= | 33%
|
|=============================== | 44%
|
|======================================= | 56%
|
|=============================================== | 67%
|
|====================================================== | 78%
|
|============================================================== | 89%
|
|======================================================================| 100%
|
| | 0%
|
|======================================================================| 100%
+ Running now: norm_edgeR
Parameters: method=TMM
* Running now: DA_limma
Parameters: pseudo_count=FALSE, design=~1 + HMP_BODY_SUBSITE, coef=2, norm=TMM, weights=FALSE
+ Running now: norm_edgeR
Parameters: method=TMM
* Running now: DA_limma
Parameters: pseudo_count=FALSE, design=~1 + HMP_BODY_SUBSITE, coef=2, norm=TMM, weights=FALSE
+ Running now: norm_edgeR
Parameters: method=TMM
* Running now: DA_limma
Parameters: pseudo_count=FALSE, design=~1 + HMP_BODY_SUBSITE, coef=2, norm=TMM, weights=FALSE
+ Running now: norm_edgeR
Parameters: method=TMM
* Running now: DA_limma
Parameters: pseudo_count=FALSE, design=~1 + HMP_BODY_SUBSITE, coef=2, norm=TMM, weights=FALSE
+ Running now: norm_edgeR
Parameters: method=TMM
* Running now: DA_limma
Parameters: pseudo_count=FALSE, design=~1 + HMP_BODY_SUBSITE, coef=2, norm=TMM, weights=FALSE
+ Running now: norm_edgeR
Parameters: method=TMM
* Running now: DA_limma
Parameters: pseudo_count=FALSE, design=~1 + HMP_BODY_SUBSITE, coef=2, norm=TMM, weights=FALSE
+ Running now: norm_edgeR
Parameters: method=TMM
+ Running now: norm_CSS
Parameters: method=median
* Running now: DA_limma
Parameters: pseudo_count=FALSE, design=~1 + HMP_BODY_SUBSITE, coef=2, norm=CSSmedian, weights=FALSE
* Running now: DA_limma
Parameters: pseudo_count=FALSE, design=~1 + HMP_BODY_SUBSITE, coef=2, norm=TMM, weights=FALSE
+ Running now: norm_edgeR
Parameters: method=TMM
+ Running now: norm_CSS
Parameters: method=median
* Running now: DA_limma
Parameters: pseudo_count=FALSE, design=~1 + HMP_BODY_SUBSITE, coef=2, norm=CSSmedian, weights=FALSE
* Running now: DA_limma
Parameters: pseudo_count=FALSE, design=~1 + HMP_BODY_SUBSITE, coef=2, norm=TMM, weights=FALSE
+ Running now: norm_edgeR
Parameters: method=TMM
+ Running now: norm_CSS
Parameters: method=median
* Running now: DA_limma
Parameters: pseudo_count=FALSE, design=~1 + HMP_BODY_SUBSITE, coef=2, norm=CSSmedian, weights=FALSE
* Running now: DA_limma
Parameters: pseudo_count=FALSE, design=~1 + HMP_BODY_SUBSITE, coef=2, norm=TMM, weights=FALSE
+ Running now: norm_edgeR
Parameters: method=TMM
+ Running now: norm_DESeq2
Parameters: method=poscounts
+ Running now: norm_CSS
Parameters: method=default
+ Running now: norm_TSS
Parameters: method=TSS
[ FAIL 0 | WARN 6 | SKIP 0 | PASS 127 ]
[ FAIL 0 | WARN 6 | SKIP 0 | PASS 127 ]
>
> proc.time()
user system elapsed
50.215 1.940 52.117
benchdamic.Rcheck/benchdamic-Ex.timings
| name | user | system | elapsed | |
| DA_ALDEx2 | 3.259 | 0.252 | 3.511 | |
| DA_DESeq2 | 5.378 | 0.320 | 5.698 | |
| DA_MAST | 0.857 | 0.044 | 0.901 | |
| DA_Seurat | 0.697 | 0.008 | 0.705 | |
| DA_corncob | 1.319 | 0.008 | 1.338 | |
| DA_edgeR | 0.292 | 0.004 | 0.296 | |
| DA_limma | 0.141 | 0.008 | 0.148 | |
| DA_metagenomeSeq | 0.208 | 0.000 | 0.208 | |
| RMSE | 0.001 | 0.000 | 0.001 | |
| addKnowledge | 0.126 | 0.000 | 0.127 | |
| areaCAT | 6.116 | 0.180 | 6.296 | |
| checkNormalization | 0.000 | 0.000 | 0.001 | |
| createColors | 0.004 | 0.000 | 0.004 | |
| createConcordance | 6.654 | 0.080 | 6.733 | |
| createEnrichment | 0.175 | 0.000 | 0.175 | |
| createMocks | 0.002 | 0.000 | 0.003 | |
| createPositives | 0.634 | 0.000 | 0.634 | |
| createSplits | 0.032 | 0.000 | 0.031 | |
| createTIEC | 1.312 | 0.056 | 1.368 | |
| enrichmentTest | 0.074 | 0.000 | 0.074 | |
| extractDA | 0.157 | 0.016 | 0.172 | |
| extractStatistics | 0.237 | 0.000 | 0.237 | |
| fitDM | 0.031 | 0.000 | 0.031 | |
| fitHURDLE | 0.431 | 0.000 | 0.431 | |
| fitModels | 1.268 | 0.000 | 1.268 | |
| fitNB | 0.042 | 0.000 | 0.042 | |
| fitZIG | 0.046 | 0.000 | 0.045 | |
| fitZINB | 0.259 | 0.004 | 0.263 | |
| getDA | 0.067 | 0.000 | 0.067 | |
| getPositives | 0.070 | 0.000 | 0.071 | |
| getStatistics | 0.058 | 0.000 | 0.058 | |
| iterative_ordering | 0.009 | 0.000 | 0.008 | |
| meanDifferences | 0.002 | 0.000 | 0.002 | |
| norm_CSS | 0.065 | 0.000 | 0.065 | |
| norm_DESeq2 | 0.752 | 0.000 | 0.751 | |
| norm_TSS | 0.032 | 0.000 | 0.031 | |
| norm_edgeR | 0.033 | 0.000 | 0.033 | |
| plotConcordance | 5.055 | 0.036 | 5.092 | |
| plotContingency | 0.780 | 0.004 | 0.785 | |
| plotEnrichment | 0.801 | 0.008 | 0.809 | |
| plotFPR | 1.257 | 0.000 | 1.257 | |
| plotKS | 1.111 | 0.004 | 1.115 | |
| plotMD | 2.276 | 0.016 | 2.291 | |
| plotMutualFindings | 0.728 | 0.000 | 0.729 | |
| plotPositives | 0.587 | 0.008 | 0.595 | |
| plotQQ | 1.147 | 0.008 | 1.154 | |
| plotRMSE | 1.63 | 0.02 | 1.65 | |
| prepareObserved | 0.001 | 0.000 | 0.001 | |
| runDA | 0.869 | 0.000 | 0.870 | |
| runMocks | 0.692 | 0.000 | 0.692 | |
| runNormalizations | 0.812 | 0.020 | 0.832 | |
| runSplits | 3.156 | 0.036 | 3.192 | |
| setNormalizations | 0.001 | 0.000 | 0.000 | |
| set_ALDEx2 | 0.006 | 0.000 | 0.006 | |
| set_DESeq2 | 0.007 | 0.000 | 0.006 | |
| set_MAST | 0.005 | 0.000 | 0.005 | |
| set_Seurat | 0.005 | 0.000 | 0.006 | |
| set_corncob | 0.005 | 0.000 | 0.006 | |
| set_edgeR | 0.010 | 0.000 | 0.011 | |
| set_limma | 0.007 | 0.000 | 0.008 | |
| set_metagenomeSeq | 0.002 | 0.004 | 0.006 | |
| weights_ZINB | 0.269 | 0.000 | 0.269 | |