| Back to Multiple platform build/check report for BioC 3.14 |
|
This page was generated on 2022-04-13 12:06:08 -0400 (Wed, 13 Apr 2022).
| Hostname | OS | Arch (*) | R version | Installed pkgs |
|---|---|---|---|---|
| nebbiolo2 | Linux (Ubuntu 20.04.4 LTS) | x86_64 | 4.1.3 (2022-03-10) -- "One Push-Up" | 4324 |
| tokay2 | Windows Server 2012 R2 Standard | x64 | 4.1.3 (2022-03-10) -- "One Push-Up" | 4077 |
| machv2 | macOS 10.14.6 Mojave | x86_64 | 4.1.3 (2022-03-10) -- "One Push-Up" | 4137 |
| Click on any hostname to see more info about the system (e.g. compilers) (*) as reported by 'uname -p', except on Windows and Mac OS X | ||||
|
To the developers/maintainers of the affy package: - Please allow up to 24 hours (and sometimes 48 hours) for your latest push to git@git.bioconductor.org:packages/affy.git to reflect on this report. See How and When does the builder pull? When will my changes propagate? for more information. - Make sure to use the following settings in order to reproduce any error or warning you see on this page. |
| Package 23/2083 | Hostname | OS / Arch | INSTALL | BUILD | CHECK | BUILD BIN | ||||||||
| affy 1.72.0 (landing page) Rafael A. Irizarry
| nebbiolo2 | Linux (Ubuntu 20.04.4 LTS) / x86_64 | OK | OK | WARNINGS | |||||||||
| tokay2 | Windows Server 2012 R2 Standard / x64 | OK | OK | WARNINGS | OK | |||||||||
| machv2 | macOS 10.14.6 Mojave / x86_64 | OK | OK | WARNINGS | OK | |||||||||
| Package: affy |
| Version: 1.72.0 |
| Command: rm -rf affy.buildbin-libdir && mkdir affy.buildbin-libdir && C:\Users\biocbuild\bbs-3.14-bioc\R\bin\R.exe CMD INSTALL --merge-multiarch --build --library=affy.buildbin-libdir affy_1.72.0.tar.gz |
| StartedAt: 2022-04-13 05:33:06 -0400 (Wed, 13 Apr 2022) |
| EndedAt: 2022-04-13 05:35:13 -0400 (Wed, 13 Apr 2022) |
| EllapsedTime: 126.8 seconds |
| RetCode: 0 |
| Status: OK |
| PackageFile: affy_1.72.0.zip |
| PackageFileSize: 1.695 MiB |
##############################################################################
##############################################################################
###
### Running command:
###
### rm -rf affy.buildbin-libdir && mkdir affy.buildbin-libdir && C:\Users\biocbuild\bbs-3.14-bioc\R\bin\R.exe CMD INSTALL --merge-multiarch --build --library=affy.buildbin-libdir affy_1.72.0.tar.gz
###
##############################################################################
##############################################################################
install for i386
* installing *source* package 'affy' ...
** using staged installation
**********************************************
WARNING: this package has a configure script
It probably needs manual configuration
**********************************************
** libs
"C:/rtools40/mingw32/bin/"gcc -I"C:/Users/biocbuild/bbs-3.14-bioc/R/library/zlibbioc/include" -I"C:/Users/BIOCBU~1/BBS-3~1.14-/R/include" -DNDEBUG -DHAVE_ZLIB -I'C:/Users/biocbuild/bbs-3.14-bioc/R/library/preprocessCore/include' -I"C:/extsoft/include" -O2 -Wall -std=gnu99 -mfpmath=sse -msse2 -mstackrealign -c chipbackground.c -o chipbackground.o
"C:/rtools40/mingw32/bin/"gcc -I"C:/Users/biocbuild/bbs-3.14-bioc/R/library/zlibbioc/include" -I"C:/Users/BIOCBU~1/BBS-3~1.14-/R/include" -DNDEBUG -DHAVE_ZLIB -I'C:/Users/biocbuild/bbs-3.14-bioc/R/library/preprocessCore/include' -I"C:/extsoft/include" -O2 -Wall -std=gnu99 -mfpmath=sse -msse2 -mstackrealign -c getall_locations.c -o getall_locations.o
"C:/rtools40/mingw32/bin/"gcc -I"C:/Users/biocbuild/bbs-3.14-bioc/R/library/zlibbioc/include" -I"C:/Users/BIOCBU~1/BBS-3~1.14-/R/include" -DNDEBUG -DHAVE_ZLIB -I'C:/Users/biocbuild/bbs-3.14-bioc/R/library/preprocessCore/include' -I"C:/extsoft/include" -O2 -Wall -std=gnu99 -mfpmath=sse -msse2 -mstackrealign -c mas5calls.c -o mas5calls.o
"C:/rtools40/mingw32/bin/"gcc -I"C:/Users/biocbuild/bbs-3.14-bioc/R/library/zlibbioc/include" -I"C:/Users/BIOCBU~1/BBS-3~1.14-/R/include" -DNDEBUG -DHAVE_ZLIB -I'C:/Users/biocbuild/bbs-3.14-bioc/R/library/preprocessCore/include' -I"C:/extsoft/include" -O2 -Wall -std=gnu99 -mfpmath=sse -msse2 -mstackrealign -c rma2.c -o rma2.o
"C:/rtools40/mingw32/bin/"gcc -I"C:/Users/biocbuild/bbs-3.14-bioc/R/library/zlibbioc/include" -I"C:/Users/BIOCBU~1/BBS-3~1.14-/R/include" -DNDEBUG -DHAVE_ZLIB -I'C:/Users/biocbuild/bbs-3.14-bioc/R/library/preprocessCore/include' -I"C:/extsoft/include" -O2 -Wall -std=gnu99 -mfpmath=sse -msse2 -mstackrealign -c rma_common.c -o rma_common.o
C:/rtools40/mingw32/bin/gcc -shared -s -static-libgcc -o affy.dll tmp.def chipbackground.o getall_locations.o mas5calls.o rma2.o rma_common.o -LC:/Users/biocbuild/bbs-3.14-bioc/R/library/zlibbioc/libs/i386 -lzlib1bioc -LC:/extsoft/lib/i386 -LC:/extsoft/lib -LC:/Users/BIOCBU~1/BBS-3~1.14-/R/bin/i386 -lR
installing to C:/Users/biocbuild/bbs-3.14-bioc/meat/affy.buildbin-libdir/00LOCK-affy/00new/affy/libs/i386
** R
** data
** demo
** inst
** byte-compile and prepare package for lazy loading
** help
*** installing help indices
converting help for package 'affy'
finding HTML links ... done
AffyBatch-class html
finding level-2 HTML links ... done
AffyRNAdeg html
MAplot html
ProbeSet-class html
ProgressBarText-class html
SpikeIn html
affy-deprecated html
affy-options html
affy.scalevalue.exprSet html
barplot.ProbeSet html
bg.adjust html
bgc html
cdfFromBioC html
cdfenv.example html
cleancdfname html
debug.affy123 html
expresso html
expressoWidget html
fit.li.wong html
generateExprSet-methods html
generateExprVal-methods html
generateExprVal.method.avgdiff html
generateExprVal.method.playerout html
hlog html
justrma html
list.celfiles html
maffy.subset html
mas5 html
mas5calls html
merge.AffyBatch html
mva.pairs html
normalize-methods html
normalize.constant html
normalize.contrast html
normalize.invariantset html
normalize.loess html
normalize.qspline html
normalize.quantiles html
normalize.quantiles.robust html
pairs.AffyBatch html
plot.ProbeSet html
plot.density html
plotLocation html
pmcorrect html
ppsetApply html
probeMatch-methods html
probeNames-methods html
read.affybatch html
read.probematrix html
rma html
setAffyOptions html
summary html
tukey.biweight html
whatcdf html
xy2indices html
** building package indices
** installing vignettes
** testing if installed package can be loaded from temporary location
** testing if installed package can be loaded from final location
** testing if installed package keeps a record of temporary installation path
install for x64
* installing *source* package 'affy' ...
**********************************************
WARNING: this package has a configure script
It probably needs manual configuration
**********************************************
** libs
"C:/rtools40/mingw64/bin/"gcc -I"C:/Users/biocbuild/bbs-3.14-bioc/R/library/zlibbioc/include" -I"C:/Users/BIOCBU~1/BBS-3~1.14-/R/include" -DNDEBUG -DHAVE_ZLIB -I'C:/Users/biocbuild/bbs-3.14-bioc/R/library/preprocessCore/include' -I"C:/extsoft/include" -O2 -Wall -std=gnu99 -mfpmath=sse -msse2 -mstackrealign -c chipbackground.c -o chipbackground.o
"C:/rtools40/mingw64/bin/"gcc -I"C:/Users/biocbuild/bbs-3.14-bioc/R/library/zlibbioc/include" -I"C:/Users/BIOCBU~1/BBS-3~1.14-/R/include" -DNDEBUG -DHAVE_ZLIB -I'C:/Users/biocbuild/bbs-3.14-bioc/R/library/preprocessCore/include' -I"C:/extsoft/include" -O2 -Wall -std=gnu99 -mfpmath=sse -msse2 -mstackrealign -c getall_locations.c -o getall_locations.o
"C:/rtools40/mingw64/bin/"gcc -I"C:/Users/biocbuild/bbs-3.14-bioc/R/library/zlibbioc/include" -I"C:/Users/BIOCBU~1/BBS-3~1.14-/R/include" -DNDEBUG -DHAVE_ZLIB -I'C:/Users/biocbuild/bbs-3.14-bioc/R/library/preprocessCore/include' -I"C:/extsoft/include" -O2 -Wall -std=gnu99 -mfpmath=sse -msse2 -mstackrealign -c mas5calls.c -o mas5calls.o
"C:/rtools40/mingw64/bin/"gcc -I"C:/Users/biocbuild/bbs-3.14-bioc/R/library/zlibbioc/include" -I"C:/Users/BIOCBU~1/BBS-3~1.14-/R/include" -DNDEBUG -DHAVE_ZLIB -I'C:/Users/biocbuild/bbs-3.14-bioc/R/library/preprocessCore/include' -I"C:/extsoft/include" -O2 -Wall -std=gnu99 -mfpmath=sse -msse2 -mstackrealign -c rma2.c -o rma2.o
"C:/rtools40/mingw64/bin/"gcc -I"C:/Users/biocbuild/bbs-3.14-bioc/R/library/zlibbioc/include" -I"C:/Users/BIOCBU~1/BBS-3~1.14-/R/include" -DNDEBUG -DHAVE_ZLIB -I'C:/Users/biocbuild/bbs-3.14-bioc/R/library/preprocessCore/include' -I"C:/extsoft/include" -O2 -Wall -std=gnu99 -mfpmath=sse -msse2 -mstackrealign -c rma_common.c -o rma_common.o
C:/rtools40/mingw64/bin/gcc -shared -s -static-libgcc -o affy.dll tmp.def chipbackground.o getall_locations.o mas5calls.o rma2.o rma_common.o -LC:/Users/biocbuild/bbs-3.14-bioc/R/library/zlibbioc/libs/x64 -lzlib1bioc -LC:/extsoft/lib/x64 -LC:/extsoft/lib -LC:/Users/BIOCBU~1/BBS-3~1.14-/R/bin/x64 -lR
installing to C:/Users/biocbuild/bbs-3.14-bioc/meat/affy.buildbin-libdir/affy/libs/x64
** testing if installed package can be loaded
* MD5 sums
packaged installation of 'affy' as affy_1.72.0.zip
* DONE (affy)