| Back to Multiple platform build/check report for BioC 3.14 |
|
This page was generated on 2022-04-13 12:06:07 -0400 (Wed, 13 Apr 2022).
| Hostname | OS | Arch (*) | R version | Installed pkgs |
|---|---|---|---|---|
| nebbiolo2 | Linux (Ubuntu 20.04.4 LTS) | x86_64 | 4.1.3 (2022-03-10) -- "One Push-Up" | 4324 |
| tokay2 | Windows Server 2012 R2 Standard | x64 | 4.1.3 (2022-03-10) -- "One Push-Up" | 4077 |
| machv2 | macOS 10.14.6 Mojave | x86_64 | 4.1.3 (2022-03-10) -- "One Push-Up" | 4137 |
| Click on any hostname to see more info about the system (e.g. compilers) (*) as reported by 'uname -p', except on Windows and Mac OS X | ||||
|
To the developers/maintainers of the XINA package: - Please allow up to 24 hours (and sometimes 48 hours) for your latest push to git@git.bioconductor.org:packages/XINA.git to reflect on this report. See How and When does the builder pull? When will my changes propagate? for more information. - Make sure to use the following settings in order to reproduce any error or warning you see on this page. |
| Package 2073/2083 | Hostname | OS / Arch | INSTALL | BUILD | CHECK | BUILD BIN | ||||||||
| XINA 1.12.0 (landing page) Lang Ho Lee
| nebbiolo2 | Linux (Ubuntu 20.04.4 LTS) / x86_64 | OK | OK | OK | |||||||||
| tokay2 | Windows Server 2012 R2 Standard / x64 | TIMEOUT | OK | ERROR | ERROR | |||||||||
| machv2 | macOS 10.14.6 Mojave / x86_64 | OK | OK | OK | OK | |||||||||
| Package: XINA |
| Version: 1.12.0 |
| Command: /home/biocbuild/bbs-3.14-bioc/R/bin/R CMD check --install=check:XINA.install-out.txt --library=/home/biocbuild/bbs-3.14-bioc/R/library --no-vignettes --timings XINA_1.12.0.tar.gz |
| StartedAt: 2022-04-12 09:53:07 -0400 (Tue, 12 Apr 2022) |
| EndedAt: 2022-04-12 09:54:49 -0400 (Tue, 12 Apr 2022) |
| EllapsedTime: 101.6 seconds |
| RetCode: 0 |
| Status: OK |
| CheckDir: XINA.Rcheck |
| Warnings: 0 |
##############################################################################
##############################################################################
###
### Running command:
###
### /home/biocbuild/bbs-3.14-bioc/R/bin/R CMD check --install=check:XINA.install-out.txt --library=/home/biocbuild/bbs-3.14-bioc/R/library --no-vignettes --timings XINA_1.12.0.tar.gz
###
##############################################################################
##############################################################################
* using log directory ‘/home/biocbuild/bbs-3.14-bioc/meat/XINA.Rcheck’
* using R version 4.1.3 (2022-03-10)
* using platform: x86_64-pc-linux-gnu (64-bit)
* using session charset: UTF-8
* using option ‘--no-vignettes’
* checking for file ‘XINA/DESCRIPTION’ ... OK
* checking extension type ... Package
* this is package ‘XINA’ version ‘1.12.0’
* package encoding: UTF-8
* checking package namespace information ... OK
* checking package dependencies ... OK
* checking if this is a source package ... OK
* checking if there is a namespace ... OK
* checking for hidden files and directories ... OK
* checking for portable file names ... OK
* checking for sufficient/correct file permissions ... OK
* checking whether package ‘XINA’ can be installed ... OK
* checking installed package size ... OK
* checking package directory ... OK
* checking ‘build’ directory ... OK
* checking DESCRIPTION meta-information ... OK
* checking top-level files ... OK
* checking for left-over files ... OK
* checking index information ... OK
* checking package subdirectories ... OK
* checking R files for non-ASCII characters ... OK
* checking R files for syntax errors ... OK
* checking whether the package can be loaded ... OK
* checking whether the package can be loaded with stated dependencies ... OK
* checking whether the package can be unloaded cleanly ... OK
* checking whether the namespace can be loaded with stated dependencies ... OK
* checking whether the namespace can be unloaded cleanly ... OK
* checking dependencies in R code ... OK
* checking S3 generic/method consistency ... OK
* checking replacement functions ... OK
* checking foreign function calls ... OK
* checking R code for possible problems ... OK
* checking Rd files ... OK
* checking Rd metadata ... OK
* checking Rd cross-references ... OK
* checking for missing documentation entries ... OK
* checking for code/documentation mismatches ... OK
* checking Rd \usage sections ... OK
* checking Rd contents ... OK
* checking for unstated dependencies in examples ... OK
* checking contents of ‘data’ directory ... OK
* checking data for non-ASCII characters ... OK
* checking data for ASCII and uncompressed saves ... OK
* checking files in ‘vignettes’ ... OK
* checking examples ... OK
Examples with CPU (user + system) or elapsed time > 5s
user system elapsed
xina_clustering 19.914 0.124 20.038
plot_condition_compositions 11.039 0.068 11.108
plot_clusters 7.182 0.092 7.274
mutate_colors 6.452 0.096 6.548
* checking for unstated dependencies in vignettes ... OK
* checking package vignettes in ‘inst/doc’ ... OK
* checking running R code from vignettes ... SKIPPED
* checking re-building of vignette outputs ... SKIPPED
* checking PDF version of manual ... OK
* DONE
Status: OK
XINA.Rcheck/00install.out
############################################################################## ############################################################################## ### ### Running command: ### ### /home/biocbuild/bbs-3.14-bioc/R/bin/R CMD INSTALL XINA ### ############################################################################## ############################################################################## * installing to library ‘/home/biocbuild/bbs-3.14-bioc/R/library’ * installing *source* package ‘XINA’ ... ** using staged installation ** R ** data ** inst ** byte-compile and prepare package for lazy loading ** help *** installing help indices ** building package indices ** installing vignettes ** testing if installed package can be loaded from temporary location ** testing if installed package can be loaded from final location ** testing if installed package keeps a record of temporary installation path * DONE (XINA)
XINA.Rcheck/XINA-Ex.timings
| name | user | system | elapsed | |
| alluvial_enriched | 1.955 | 0.064 | 2.019 | |
| draw_alluvial_plot | 0.051 | 0.000 | 0.051 | |
| get_comigrations_by_name | 0.028 | 0.004 | 0.033 | |
| get_condition_biased_comigrations | 3.635 | 0.024 | 3.659 | |
| get_unknown_ppi_nodes | 0.058 | 0.000 | 0.058 | |
| load_previous_results | 0.820 | 0.004 | 0.823 | |
| make_random_xina_data | 0.145 | 0.012 | 0.157 | |
| mutate_colors | 6.452 | 0.096 | 6.548 | |
| plot_clusters | 7.182 | 0.092 | 7.274 | |
| plot_clusters_all | 1.975 | 0.016 | 1.990 | |
| plot_condition_compositions | 11.039 | 0.068 | 11.108 | |
| plot_enrichment_results | 0 | 0 | 0 | |
| xina_analysis | 0 | 0 | 0 | |
| xina_clustering | 19.914 | 0.124 | 20.038 | |
| xina_enrichment | 0 | 0 | 0 | |
| xina_plot_all | 3.620 | 0.096 | 3.717 | |
| xina_plot_bycluster | 0.160 | 0.004 | 0.165 | |
| xina_plot_single | 0.124 | 0.000 | 0.123 | |