| Back to Multiple platform build/check report for BioC 3.14 |
|
This page was generated on 2022-04-13 12:07:27 -0400 (Wed, 13 Apr 2022).
| Hostname | OS | Arch (*) | R version | Installed pkgs |
|---|---|---|---|---|
| nebbiolo2 | Linux (Ubuntu 20.04.4 LTS) | x86_64 | 4.1.3 (2022-03-10) -- "One Push-Up" | 4324 |
| tokay2 | Windows Server 2012 R2 Standard | x64 | 4.1.3 (2022-03-10) -- "One Push-Up" | 4077 |
| machv2 | macOS 10.14.6 Mojave | x86_64 | 4.1.3 (2022-03-10) -- "One Push-Up" | 4137 |
| Click on any hostname to see more info about the system (e.g. compilers) (*) as reported by 'uname -p', except on Windows and Mac OS X | ||||
|
To the developers/maintainers of the SwathXtend package: - Please allow up to 24 hours (and sometimes 48 hours) for your latest push to git@git.bioconductor.org:packages/SwathXtend.git to reflect on this report. See How and When does the builder pull? When will my changes propagate? for more information. - Make sure to use the following settings in order to reproduce any error or warning you see on this page. |
| Package 1913/2083 | Hostname | OS / Arch | INSTALL | BUILD | CHECK | BUILD BIN | ||||||||
| SwathXtend 2.16.0 (landing page) Jemma Wu
| nebbiolo2 | Linux (Ubuntu 20.04.4 LTS) / x86_64 | OK | OK | WARNINGS | |||||||||
| tokay2 | Windows Server 2012 R2 Standard / x64 | OK | OK | WARNINGS | OK | |||||||||
| machv2 | macOS 10.14.6 Mojave / x86_64 | OK | OK | WARNINGS | OK | |||||||||
| Package: SwathXtend |
| Version: 2.16.0 |
| Command: C:\cygwin\bin\curl.exe -O http://155.52.207.166/BBS/3.14/bioc/src/contrib/SwathXtend_2.16.0.tar.gz && rm -rf SwathXtend.buildbin-libdir && mkdir SwathXtend.buildbin-libdir && C:\Users\biocbuild\bbs-3.14-bioc\R\bin\R.exe CMD INSTALL --merge-multiarch --build --library=SwathXtend.buildbin-libdir SwathXtend_2.16.0.tar.gz && C:\Users\biocbuild\bbs-3.14-bioc\R\bin\R.exe CMD INSTALL SwathXtend_2.16.0.zip && rm SwathXtend_2.16.0.tar.gz SwathXtend_2.16.0.zip |
| StartedAt: 2022-04-12 04:11:30 -0400 (Tue, 12 Apr 2022) |
| EndedAt: 2022-04-12 04:16:59 -0400 (Tue, 12 Apr 2022) |
| EllapsedTime: 328.4 seconds |
| RetCode: 0 |
| Status: OK |
##############################################################################
##############################################################################
###
### Running command:
###
### C:\cygwin\bin\curl.exe -O http://155.52.207.166/BBS/3.14/bioc/src/contrib/SwathXtend_2.16.0.tar.gz && rm -rf SwathXtend.buildbin-libdir && mkdir SwathXtend.buildbin-libdir && C:\Users\biocbuild\bbs-3.14-bioc\R\bin\R.exe CMD INSTALL --merge-multiarch --build --library=SwathXtend.buildbin-libdir SwathXtend_2.16.0.tar.gz && C:\Users\biocbuild\bbs-3.14-bioc\R\bin\R.exe CMD INSTALL SwathXtend_2.16.0.zip && rm SwathXtend_2.16.0.tar.gz SwathXtend_2.16.0.zip
###
##############################################################################
##############################################################################
% Total % Received % Xferd Average Speed Time Time Time Current
Dload Upload Total Spent Left Speed
0 0 0 0 0 0 0 0 --:--:-- --:--:-- --:--:-- 0
0 346M 0 1190k 0 0 2125k 0 0:02:46 --:--:-- 0:02:46 2125k
1 346M 1 5043k 0 0 3232k 0 0:01:49 0:00:01 0:01:48 3231k
2 346M 2 9698k 0 0 3810k 0 0:01:33 0:00:02 0:01:31 3810k
4 346M 4 15.0M 0 0 4357k 0 0:01:21 0:00:03 0:01:18 4358k
6 346M 6 21.5M 0 0 4861k 0 0:01:12 0:00:04 0:01:08 4862k
8 346M 8 28.9M 0 0 5346k 0 0:01:06 0:00:05 0:01:01 5707k
10 346M 10 37.2M 0 0 5819k 0 0:01:00 0:00:06 0:00:54 6628k
13 346M 13 46.3M 0 0 6282k 0 0:00:56 0:00:07 0:00:49 7540k
16 346M 16 56.3M 0 0 6743k 0 0:00:52 0:00:08 0:00:44 8430k
19 346M 19 67.3M 0 0 7220k 0 0:00:49 0:00:09 0:00:40 9364k
22 346M 22 79.1M 0 0 7686k 0 0:00:46 0:00:10 0:00:36 10.0M
26 346M 26 90.9M 0 0 8068k 0 0:00:43 0:00:11 0:00:32 10.7M
30 346M 30 104M 0 0 8500k 0 0:00:41 0:00:12 0:00:29 11.5M
33 346M 33 116M 0 0 8816k 0 0:00:40 0:00:13 0:00:27 12.0M
35 346M 35 124M 0 0 8766k 0 0:00:40 0:00:14 0:00:26 11.4M
38 346M 38 133M 0 0 8769k 0 0:00:40 0:00:15 0:00:25 10.7M
41 346M 41 142M 0 0 8844k 0 0:00:40 0:00:16 0:00:24 10.3M
44 346M 44 152M 0 0 8914k 0 0:00:39 0:00:17 0:00:22 9952k
47 346M 47 164M 0 0 9066k 0 0:00:39 0:00:18 0:00:21 9743k
51 346M 51 176M 0 0 9250k 0 0:00:38 0:00:19 0:00:19 10.4M
54 346M 54 189M 0 0 9457k 0 0:00:37 0:00:20 0:00:17 11.3M
58 346M 58 203M 0 0 9678k 0 0:00:36 0:00:21 0:00:15 12.1M
63 346M 63 218M 0 0 9916k 0 0:00:35 0:00:22 0:00:13 13.1M
67 346M 67 234M 0 0 9.9M 0 0:00:34 0:00:23 0:00:11 14.0M
72 346M 72 251M 0 0 10.2M 0 0:00:33 0:00:24 0:00:09 14.8M
77 346M 77 268M 0 0 10.5M 0 0:00:32 0:00:25 0:00:07 15.7M
82 346M 82 286M 0 0 10.7M 0 0:00:32 0:00:26 0:00:06 16.5M
88 346M 88 305M 0 0 11.0M 0 0:00:31 0:00:27 0:00:04 17.4M
94 346M 94 325M 0 0 11.4M 0 0:00:30 0:00:28 0:00:02 18.3M
100 346M 100 346M 0 0 11.7M 0 0:00:29 0:00:29 --:--:-- 19.1M
install for i386
* installing *source* package 'SwathXtend' ...
** using staged installation
** R
** data
** inst
** byte-compile and prepare package for lazy loading
** help
*** installing help indices
converting help for package 'SwathXtend'
finding HTML links ... done
applyttest html
applyttestPep html
buildSpectraLibPair html
canonicalFormat html
checkQuality html
cleanLib html
coverage html
cv html
fdr.crit html
getFdrBins html
ionCorGS html
medianNorm html
mlr html
mlrGroup html
mlrrep html
outputLib html
plotAll html
plotDensities html
plotErrorBarsLines html
plotRIICor html
plotRTCor html
plotRTResd html
plotRelativeDensities html
quantification.accuracy html
readLibFile html
reliabilityCheckLibrary html
reliabilityCheckSwath html
swath.means html
** building package indices
** installing vignettes
** testing if installed package can be loaded from temporary location
** testing if installed package can be loaded from final location
** testing if installed package keeps a record of temporary installation path
install for x64
* installing *source* package 'SwathXtend' ...
** testing if installed package can be loaded
* MD5 sums
packaged installation of 'SwathXtend' as SwathXtend_2.16.0.zip
* DONE (SwathXtend)
* installing to library 'C:/Users/biocbuild/bbs-3.14-bioc/R/library'
package 'SwathXtend' successfully unpacked and MD5 sums checked