| Back to Multiple platform build/check report for BioC 3.14 |
|
This page was generated on 2022-04-13 12:07:27 -0400 (Wed, 13 Apr 2022).
| Hostname | OS | Arch (*) | R version | Installed pkgs |
|---|---|---|---|---|
| nebbiolo2 | Linux (Ubuntu 20.04.4 LTS) | x86_64 | 4.1.3 (2022-03-10) -- "One Push-Up" | 4324 |
| tokay2 | Windows Server 2012 R2 Standard | x64 | 4.1.3 (2022-03-10) -- "One Push-Up" | 4077 |
| machv2 | macOS 10.14.6 Mojave | x86_64 | 4.1.3 (2022-03-10) -- "One Push-Up" | 4137 |
| Click on any hostname to see more info about the system (e.g. compilers) (*) as reported by 'uname -p', except on Windows and Mac OS X | ||||
|
To the developers/maintainers of the SwathXtend package: - Please allow up to 24 hours (and sometimes 48 hours) for your latest push to git@git.bioconductor.org:packages/SwathXtend.git to reflect on this report. See How and When does the builder pull? When will my changes propagate? for more information. - Make sure to use the following settings in order to reproduce any error or warning you see on this page. |
| Package 1913/2083 | Hostname | OS / Arch | INSTALL | BUILD | CHECK | BUILD BIN | ||||||||
| SwathXtend 2.16.0 (landing page) Jemma Wu
| nebbiolo2 | Linux (Ubuntu 20.04.4 LTS) / x86_64 | OK | OK | WARNINGS | |||||||||
| tokay2 | Windows Server 2012 R2 Standard / x64 | OK | OK | WARNINGS | OK | |||||||||
| machv2 | macOS 10.14.6 Mojave / x86_64 | OK | OK | WARNINGS | OK | |||||||||
| Package: SwathXtend |
| Version: 2.16.0 |
| Command: rm -rf SwathXtend.buildbin-libdir && mkdir SwathXtend.buildbin-libdir && C:\Users\biocbuild\bbs-3.14-bioc\R\bin\R.exe CMD INSTALL --merge-multiarch --build --library=SwathXtend.buildbin-libdir SwathXtend_2.16.0.tar.gz |
| StartedAt: 2022-04-13 07:13:42 -0400 (Wed, 13 Apr 2022) |
| EndedAt: 2022-04-13 07:15:00 -0400 (Wed, 13 Apr 2022) |
| EllapsedTime: 77.7 seconds |
| RetCode: 0 |
| Status: OK |
| PackageFile: SwathXtend_2.16.0.zip |
| PackageFileSize: 346.2 MiB |
##############################################################################
##############################################################################
###
### Running command:
###
### rm -rf SwathXtend.buildbin-libdir && mkdir SwathXtend.buildbin-libdir && C:\Users\biocbuild\bbs-3.14-bioc\R\bin\R.exe CMD INSTALL --merge-multiarch --build --library=SwathXtend.buildbin-libdir SwathXtend_2.16.0.tar.gz
###
##############################################################################
##############################################################################
install for i386
* installing *source* package 'SwathXtend' ...
** using staged installation
** R
** data
** inst
** byte-compile and prepare package for lazy loading
** help
*** installing help indices
converting help for package 'SwathXtend'
finding HTML links ... done
applyttest html
applyttestPep html
buildSpectraLibPair html
canonicalFormat html
checkQuality html
cleanLib html
coverage html
cv html
fdr.crit html
getFdrBins html
ionCorGS html
medianNorm html
mlr html
mlrGroup html
mlrrep html
outputLib html
plotAll html
plotDensities html
plotErrorBarsLines html
plotRIICor html
plotRTCor html
plotRTResd html
plotRelativeDensities html
quantification.accuracy html
readLibFile html
reliabilityCheckLibrary html
reliabilityCheckSwath html
swath.means html
** building package indices
** installing vignettes
** testing if installed package can be loaded from temporary location
** testing if installed package can be loaded from final location
** testing if installed package keeps a record of temporary installation path
install for x64
* installing *source* package 'SwathXtend' ...
** testing if installed package can be loaded
* MD5 sums
packaged installation of 'SwathXtend' as SwathXtend_2.16.0.zip
* DONE (SwathXtend)