| Back to Multiple platform build/check report for BioC 3.14 |
|
This page was generated on 2022-04-13 12:07:19 -0400 (Wed, 13 Apr 2022).
| Hostname | OS | Arch (*) | R version | Installed pkgs |
|---|---|---|---|---|
| nebbiolo2 | Linux (Ubuntu 20.04.4 LTS) | x86_64 | 4.1.3 (2022-03-10) -- "One Push-Up" | 4324 |
| tokay2 | Windows Server 2012 R2 Standard | x64 | 4.1.3 (2022-03-10) -- "One Push-Up" | 4077 |
| machv2 | macOS 10.14.6 Mojave | x86_64 | 4.1.3 (2022-03-10) -- "One Push-Up" | 4137 |
| Click on any hostname to see more info about the system (e.g. compilers) (*) as reported by 'uname -p', except on Windows and Mac OS X | ||||
|
To the developers/maintainers of the Sconify package: - Please allow up to 24 hours (and sometimes 48 hours) for your latest push to git@git.bioconductor.org:packages/Sconify.git to reflect on this report. See How and When does the builder pull? When will my changes propagate? for more information. - Make sure to use the following settings in order to reproduce any error or warning you see on this page. |
| Package 1734/2083 | Hostname | OS / Arch | INSTALL | BUILD | CHECK | BUILD BIN | ||||||||
| Sconify 1.14.0 (landing page) Tyler J Burns
| nebbiolo2 | Linux (Ubuntu 20.04.4 LTS) / x86_64 | OK | OK | OK | |||||||||
| tokay2 | Windows Server 2012 R2 Standard / x64 | OK | OK | OK | OK | |||||||||
| machv2 | macOS 10.14.6 Mojave / x86_64 | OK | OK | OK | OK | |||||||||
| Package: Sconify |
| Version: 1.14.0 |
| Command: C:\Users\biocbuild\bbs-3.14-bioc\R\bin\R.exe CMD check --force-multiarch --install=check:Sconify.install-out.txt --library=C:\Users\biocbuild\bbs-3.14-bioc\R\library --no-vignettes --timings Sconify_1.14.0.tar.gz |
| StartedAt: 2022-04-13 02:31:09 -0400 (Wed, 13 Apr 2022) |
| EndedAt: 2022-04-13 02:34:18 -0400 (Wed, 13 Apr 2022) |
| EllapsedTime: 189.8 seconds |
| RetCode: 0 |
| Status: OK |
| CheckDir: Sconify.Rcheck |
| Warnings: 0 |
##############################################################################
##############################################################################
###
### Running command:
###
### C:\Users\biocbuild\bbs-3.14-bioc\R\bin\R.exe CMD check --force-multiarch --install=check:Sconify.install-out.txt --library=C:\Users\biocbuild\bbs-3.14-bioc\R\library --no-vignettes --timings Sconify_1.14.0.tar.gz
###
##############################################################################
##############################################################################
* using log directory 'C:/Users/biocbuild/bbs-3.14-bioc/meat/Sconify.Rcheck'
* using R version 4.1.3 (2022-03-10)
* using platform: x86_64-w64-mingw32 (64-bit)
* using session charset: ISO8859-1
* using option '--no-vignettes'
* checking for file 'Sconify/DESCRIPTION' ... OK
* checking extension type ... Package
* this is package 'Sconify' version '1.14.0'
* package encoding: UTF-8
* checking package namespace information ... OK
* checking package dependencies ... OK
* checking if this is a source package ... OK
* checking if there is a namespace ... OK
* checking for hidden files and directories ... OK
* checking for portable file names ... OK
* checking whether package 'Sconify' can be installed ... OK
* checking installed package size ... OK
* checking package directory ... OK
* checking 'build' directory ... OK
* checking DESCRIPTION meta-information ... OK
* checking top-level files ... OK
* checking for left-over files ... OK
* checking index information ... OK
* checking package subdirectories ... OK
* checking R files for non-ASCII characters ... OK
* checking R files for syntax errors ... OK
* loading checks for arch 'i386'
** checking whether the package can be loaded ... OK
** checking whether the package can be loaded with stated dependencies ... OK
** checking whether the package can be unloaded cleanly ... OK
** checking whether the namespace can be loaded with stated dependencies ... OK
** checking whether the namespace can be unloaded cleanly ... OK
* loading checks for arch 'x64'
** checking whether the package can be loaded ... OK
** checking whether the package can be loaded with stated dependencies ... OK
** checking whether the package can be unloaded cleanly ... OK
** checking whether the namespace can be loaded with stated dependencies ... OK
** checking whether the namespace can be unloaded cleanly ... OK
* checking dependencies in R code ... OK
* checking S3 generic/method consistency ... OK
* checking replacement functions ... OK
* checking foreign function calls ... OK
* checking R code for possible problems ... OK
* checking Rd files ... OK
* checking Rd metadata ... OK
* checking Rd cross-references ... OK
* checking for missing documentation entries ... OK
* checking for code/documentation mismatches ... OK
* checking Rd \usage sections ... OK
* checking Rd contents ... OK
* checking for unstated dependencies in examples ... OK
* checking contents of 'data' directory ... OK
* checking data for non-ASCII characters ... OK
* checking LazyData ... OK
* checking data for ASCII and uncompressed saves ... OK
* checking files in 'vignettes' ... OK
* checking examples ...
** running examples for arch 'i386' ... OK
Examples with CPU (user + system) or elapsed time > 5s
user system elapsed
SconeValues 14.67 0.08 14.75
** running examples for arch 'x64' ... OK
Examples with CPU (user + system) or elapsed time > 5s
user system elapsed
SconeValues 14.47 0.07 14.54
* checking for unstated dependencies in 'tests' ... OK
* checking tests ...
** running tests for arch 'i386' ...
Running 'testthat.R'
OK
** running tests for arch 'x64' ...
Running 'testthat.R'
OK
* checking for unstated dependencies in vignettes ... OK
* checking package vignettes in 'inst/doc' ... OK
* checking running R code from vignettes ... SKIPPED
* checking re-building of vignette outputs ... SKIPPED
* checking PDF version of manual ... OK
* DONE
Status: OK
Sconify.Rcheck/00install.out
##############################################################################
##############################################################################
###
### Running command:
###
### C:\cygwin\bin\curl.exe -O http://155.52.207.166/BBS/3.14/bioc/src/contrib/Sconify_1.14.0.tar.gz && rm -rf Sconify.buildbin-libdir && mkdir Sconify.buildbin-libdir && C:\Users\biocbuild\bbs-3.14-bioc\R\bin\R.exe CMD INSTALL --merge-multiarch --build --library=Sconify.buildbin-libdir Sconify_1.14.0.tar.gz && C:\Users\biocbuild\bbs-3.14-bioc\R\bin\R.exe CMD INSTALL Sconify_1.14.0.zip && rm Sconify_1.14.0.tar.gz Sconify_1.14.0.zip
###
##############################################################################
##############################################################################
% Total % Received % Xferd Average Speed Time Time Time Current
Dload Upload Total Spent Left Speed
0 0 0 0 0 0 0 0 --:--:-- --:--:-- --:--:-- 0
6 3903k 6 255k 0 0 957k 0 0:00:04 --:--:-- 0:00:04 957k
59 3903k 59 2318k 0 0 1802k 0 0:00:02 0:00:01 0:00:01 1803k
100 3903k 100 3903k 0 0 2156k 0 0:00:01 0:00:01 --:--:-- 2156k
install for i386
* installing *source* package 'Sconify' ...
** using staged installation
** R
** data
*** moving datasets to lazyload DB
** inst
** byte-compile and prepare package for lazy loading
Note: wrong number of arguments to '/'
Note: wrong number of arguments to 'asinh'
** help
*** installing help indices
converting help for package 'Sconify'
finding HTML links ... done
AddTsne html
FcsToTibble html
Fnn html
GetKnnDe html
GetMarkerNames html
Impute html
ImputeTesting html
LogTransformQ html
MakeHist html
MakeKnnList html
MeaningOfLife html
MultipleDonorStatistics html
ParseMarkers html
PostProcessing html
ProcessMultipleFiles html
QCorrectionThresholding html
QuantNormalize html
QuantNormalizeElements html
RunStatistics html
SconeValues html
SplitFile html
StringToNumbers html
SubsampleAndTsne html
TsneVis html
bz.gmcsf.final html
bz.gmcsf.final.norm.scale html
exist html
funct.markers html
input.markers html
markers html
wand.combined html
wand.final html
wand.ideal.k html
wand.il7 html
wand.scone html
** building package indices
** installing vignettes
** testing if installed package can be loaded from temporary location
** testing if installed package can be loaded from final location
** testing if installed package keeps a record of temporary installation path
install for x64
* installing *source* package 'Sconify' ...
** testing if installed package can be loaded
* MD5 sums
packaged installation of 'Sconify' as Sconify_1.14.0.zip
* DONE (Sconify)
* installing to library 'C:/Users/biocbuild/bbs-3.14-bioc/R/library'
package 'Sconify' successfully unpacked and MD5 sums checked
|
Sconify.Rcheck/tests_i386/testthat.Rout
R version 4.1.3 (2022-03-10) -- "One Push-Up"
Copyright (C) 2022 The R Foundation for Statistical Computing
Platform: i386-w64-mingw32/i386 (32-bit)
R is free software and comes with ABSOLUTELY NO WARRANTY.
You are welcome to redistribute it under certain conditions.
Type 'license()' or 'licence()' for distribution details.
R is a collaborative project with many contributors.
Type 'contributors()' for more information and
'citation()' on how to cite R or R packages in publications.
Type 'demo()' for some demos, 'help()' for on-line help, or
'help.start()' for an HTML browser interface to help.
Type 'q()' to quit R.
> library(testthat)
> library(Sconify)
>
> test_check("Sconify")
Read the 100 x 27 data matrix successfully!
OpenMP is working. 1 threads.
Using no_dims = 2, perplexity = 30.000000, and theta = 0.500000
Computing input similarities...
Building tree...
Done in 0.02 seconds (sparsity = 0.968400)!
Learning embedding...
Iteration 50: error is 51.540944 (50 iterations in 0.01 seconds)
Iteration 100: error is 50.116987 (50 iterations in 0.02 seconds)
Iteration 150: error is 53.066615 (50 iterations in 0.01 seconds)
Iteration 200: error is 55.059743 (50 iterations in 0.02 seconds)
Iteration 250: error is 52.017816 (50 iterations in 0.02 seconds)
Iteration 300: error is 1.111165 (50 iterations in 0.01 seconds)
Iteration 350: error is 0.563338 (50 iterations in 0.00 seconds)
Iteration 400: error is 0.246829 (50 iterations in 0.02 seconds)
Iteration 450: error is 0.237353 (50 iterations in 0.02 seconds)
Iteration 500: error is 0.230402 (50 iterations in 0.00 seconds)
Iteration 550: error is 0.227588 (50 iterations in 0.01 seconds)
Iteration 600: error is 0.221374 (50 iterations in 0.02 seconds)
Iteration 650: error is 0.219731 (50 iterations in 0.00 seconds)
Iteration 700: error is 0.219280 (50 iterations in 0.01 seconds)
Iteration 750: error is 0.220021 (50 iterations in 0.02 seconds)
Iteration 800: error is 0.218777 (50 iterations in 0.00 seconds)
Iteration 850: error is 0.220689 (50 iterations in 0.02 seconds)
Iteration 900: error is 0.219400 (50 iterations in 0.00 seconds)
Iteration 950: error is 0.221011 (50 iterations in 0.00 seconds)
Iteration 1000: error is 0.220796 (50 iterations in 0.02 seconds)
Fitting performed in 0.22 seconds.
Read the 1000 x 27 data matrix successfully!
OpenMP is working. 1 threads.
Using no_dims = 2, perplexity = 30.000000, and theta = 0.500000
Computing input similarities...
Building tree...
Done in 0.23 seconds (sparsity = 0.129120)!
Learning embedding...
Iteration 50: error is 64.979346 (50 iterations in 0.30 seconds)
Iteration 100: error is 60.827850 (50 iterations in 0.22 seconds)
Iteration 150: error is 60.353913 (50 iterations in 0.20 seconds)
Iteration 200: error is 60.218681 (50 iterations in 0.20 seconds)
Iteration 250: error is 60.155001 (50 iterations in 0.20 seconds)
Iteration 300: error is 1.345964 (50 iterations in 0.16 seconds)
Iteration 350: error is 1.232270 (50 iterations in 0.12 seconds)
Iteration 400: error is 1.194751 (50 iterations in 0.14 seconds)
Iteration 450: error is 1.183430 (50 iterations in 0.14 seconds)
Iteration 500: error is 1.176504 (50 iterations in 0.14 seconds)
Iteration 550: error is 1.171315 (50 iterations in 0.16 seconds)
Iteration 600: error is 1.167032 (50 iterations in 0.14 seconds)
Iteration 650: error is 1.164102 (50 iterations in 0.12 seconds)
Iteration 700: error is 1.160808 (50 iterations in 0.14 seconds)
Iteration 750: error is 1.158740 (50 iterations in 0.14 seconds)
Iteration 800: error is 1.157415 (50 iterations in 0.14 seconds)
Iteration 850: error is 1.154796 (50 iterations in 0.12 seconds)
Iteration 900: error is 1.153149 (50 iterations in 0.14 seconds)
Iteration 950: error is 1.152025 (50 iterations in 0.14 seconds)
Iteration 1000: error is 1.149793 (50 iterations in 0.12 seconds)
Fitting performed in 3.20 seconds.
[ FAIL 0 | WARN 3 | SKIP 0 | PASS 72 ]
[ FAIL 0 | WARN 3 | SKIP 0 | PASS 72 ]
>
> proc.time()
user system elapsed
22.45 0.31 22.75
|
Sconify.Rcheck/tests_x64/testthat.Rout
R version 4.1.3 (2022-03-10) -- "One Push-Up"
Copyright (C) 2022 The R Foundation for Statistical Computing
Platform: x86_64-w64-mingw32/x64 (64-bit)
R is free software and comes with ABSOLUTELY NO WARRANTY.
You are welcome to redistribute it under certain conditions.
Type 'license()' or 'licence()' for distribution details.
R is a collaborative project with many contributors.
Type 'contributors()' for more information and
'citation()' on how to cite R or R packages in publications.
Type 'demo()' for some demos, 'help()' for on-line help, or
'help.start()' for an HTML browser interface to help.
Type 'q()' to quit R.
> library(testthat)
> library(Sconify)
>
> test_check("Sconify")
Read the 100 x 27 data matrix successfully!
OpenMP is working. 1 threads.
Using no_dims = 2, perplexity = 30.000000, and theta = 0.500000
Computing input similarities...
Building tree...
Done in 0.02 seconds (sparsity = 0.966000)!
Learning embedding...
Iteration 50: error is 52.531822 (50 iterations in 0.00 seconds)
Iteration 100: error is 52.688278 (50 iterations in 0.00 seconds)
Iteration 150: error is 50.251049 (50 iterations in 0.02 seconds)
Iteration 200: error is 51.625740 (50 iterations in 0.01 seconds)
Iteration 250: error is 53.040180 (50 iterations in 0.02 seconds)
Iteration 300: error is 1.324185 (50 iterations in 0.02 seconds)
Iteration 350: error is 0.710808 (50 iterations in 0.00 seconds)
Iteration 400: error is 0.261591 (50 iterations in 0.00 seconds)
Iteration 450: error is 0.184195 (50 iterations in 0.02 seconds)
Iteration 500: error is 0.148351 (50 iterations in 0.02 seconds)
Iteration 550: error is 0.149040 (50 iterations in 0.00 seconds)
Iteration 600: error is 0.147808 (50 iterations in 0.01 seconds)
Iteration 650: error is 0.147166 (50 iterations in 0.02 seconds)
Iteration 700: error is 0.147619 (50 iterations in 0.00 seconds)
Iteration 750: error is 0.147654 (50 iterations in 0.01 seconds)
Iteration 800: error is 0.147402 (50 iterations in 0.02 seconds)
Iteration 850: error is 0.147998 (50 iterations in 0.00 seconds)
Iteration 900: error is 0.147795 (50 iterations in 0.02 seconds)
Iteration 950: error is 0.147638 (50 iterations in 0.00 seconds)
Iteration 1000: error is 0.147509 (50 iterations in 0.00 seconds)
Fitting performed in 0.17 seconds.
Read the 1000 x 27 data matrix successfully!
OpenMP is working. 1 threads.
Using no_dims = 2, perplexity = 30.000000, and theta = 0.500000
Computing input similarities...
Building tree...
Done in 0.22 seconds (sparsity = 0.129120)!
Learning embedding...
Iteration 50: error is 64.143170 (50 iterations in 0.33 seconds)
Iteration 100: error is 60.913850 (50 iterations in 0.25 seconds)
Iteration 150: error is 60.413436 (50 iterations in 0.23 seconds)
Iteration 200: error is 60.233043 (50 iterations in 0.22 seconds)
Iteration 250: error is 60.151364 (50 iterations in 0.23 seconds)
Iteration 300: error is 1.354782 (50 iterations in 0.16 seconds)
Iteration 350: error is 1.243924 (50 iterations in 0.14 seconds)
Iteration 400: error is 1.204900 (50 iterations in 0.14 seconds)
Iteration 450: error is 1.192159 (50 iterations in 0.14 seconds)
Iteration 500: error is 1.185518 (50 iterations in 0.12 seconds)
Iteration 550: error is 1.180151 (50 iterations in 0.14 seconds)
Iteration 600: error is 1.175925 (50 iterations in 0.14 seconds)
Iteration 650: error is 1.173459 (50 iterations in 0.14 seconds)
Iteration 700: error is 1.170387 (50 iterations in 0.14 seconds)
Iteration 750: error is 1.167165 (50 iterations in 0.14 seconds)
Iteration 800: error is 1.165002 (50 iterations in 0.14 seconds)
Iteration 850: error is 1.163618 (50 iterations in 0.12 seconds)
Iteration 900: error is 1.161812 (50 iterations in 0.14 seconds)
Iteration 950: error is 1.160720 (50 iterations in 0.14 seconds)
Iteration 1000: error is 1.160174 (50 iterations in 0.14 seconds)
Fitting performed in 3.36 seconds.
[ FAIL 0 | WARN 3 | SKIP 0 | PASS 72 ]
[ FAIL 0 | WARN 3 | SKIP 0 | PASS 72 ]
>
> proc.time()
user system elapsed
23.78 0.40 24.17
|
|
Sconify.Rcheck/examples_i386/Sconify-Ex.timings
|
Sconify.Rcheck/examples_x64/Sconify-Ex.timings
|