| Back to Multiple platform build/check report for BioC 3.14 |
|
This page was generated on 2022-04-13 12:05:55 -0400 (Wed, 13 Apr 2022).
| Hostname | OS | Arch (*) | R version | Installed pkgs |
|---|---|---|---|---|
| nebbiolo2 | Linux (Ubuntu 20.04.4 LTS) | x86_64 | 4.1.3 (2022-03-10) -- "One Push-Up" | 4324 |
| tokay2 | Windows Server 2012 R2 Standard | x64 | 4.1.3 (2022-03-10) -- "One Push-Up" | 4077 |
| machv2 | macOS 10.14.6 Mojave | x86_64 | 4.1.3 (2022-03-10) -- "One Push-Up" | 4137 |
| Click on any hostname to see more info about the system (e.g. compilers) (*) as reported by 'uname -p', except on Windows and Mac OS X | ||||
|
To the developers/maintainers of the Sconify package: - Please allow up to 24 hours (and sometimes 48 hours) for your latest push to git@git.bioconductor.org:packages/Sconify.git to reflect on this report. See How and When does the builder pull? When will my changes propagate? for more information. - Make sure to use the following settings in order to reproduce any error or warning you see on this page. |
| Package 1734/2083 | Hostname | OS / Arch | INSTALL | BUILD | CHECK | BUILD BIN | ||||||||
| Sconify 1.14.0 (landing page) Tyler J Burns
| nebbiolo2 | Linux (Ubuntu 20.04.4 LTS) / x86_64 | OK | OK | OK | |||||||||
| tokay2 | Windows Server 2012 R2 Standard / x64 | OK | OK | OK | OK | |||||||||
| machv2 | macOS 10.14.6 Mojave / x86_64 | OK | OK | OK | OK | |||||||||
| Package: Sconify |
| Version: 1.14.0 |
| Command: /home/biocbuild/bbs-3.14-bioc/R/bin/R CMD check --install=check:Sconify.install-out.txt --library=/home/biocbuild/bbs-3.14-bioc/R/library --no-vignettes --timings Sconify_1.14.0.tar.gz |
| StartedAt: 2022-04-12 09:15:50 -0400 (Tue, 12 Apr 2022) |
| EndedAt: 2022-04-12 09:17:28 -0400 (Tue, 12 Apr 2022) |
| EllapsedTime: 97.7 seconds |
| RetCode: 0 |
| Status: OK |
| CheckDir: Sconify.Rcheck |
| Warnings: 0 |
##############################################################################
##############################################################################
###
### Running command:
###
### /home/biocbuild/bbs-3.14-bioc/R/bin/R CMD check --install=check:Sconify.install-out.txt --library=/home/biocbuild/bbs-3.14-bioc/R/library --no-vignettes --timings Sconify_1.14.0.tar.gz
###
##############################################################################
##############################################################################
* using log directory ‘/home/biocbuild/bbs-3.14-bioc/meat/Sconify.Rcheck’
* using R version 4.1.3 (2022-03-10)
* using platform: x86_64-pc-linux-gnu (64-bit)
* using session charset: UTF-8
* using option ‘--no-vignettes’
* checking for file ‘Sconify/DESCRIPTION’ ... OK
* checking extension type ... Package
* this is package ‘Sconify’ version ‘1.14.0’
* package encoding: UTF-8
* checking package namespace information ... OK
* checking package dependencies ... OK
* checking if this is a source package ... OK
* checking if there is a namespace ... OK
* checking for hidden files and directories ... OK
* checking for portable file names ... OK
* checking for sufficient/correct file permissions ... OK
* checking whether package ‘Sconify’ can be installed ... OK
* checking installed package size ... OK
* checking package directory ... OK
* checking ‘build’ directory ... OK
* checking DESCRIPTION meta-information ... OK
* checking top-level files ... OK
* checking for left-over files ... OK
* checking index information ... OK
* checking package subdirectories ... OK
* checking R files for non-ASCII characters ... OK
* checking R files for syntax errors ... OK
* checking whether the package can be loaded ... OK
* checking whether the package can be loaded with stated dependencies ... OK
* checking whether the package can be unloaded cleanly ... OK
* checking whether the namespace can be loaded with stated dependencies ... OK
* checking whether the namespace can be unloaded cleanly ... OK
* checking dependencies in R code ... OK
* checking S3 generic/method consistency ... OK
* checking replacement functions ... OK
* checking foreign function calls ... OK
* checking R code for possible problems ... OK
* checking Rd files ... OK
* checking Rd metadata ... OK
* checking Rd cross-references ... OK
* checking for missing documentation entries ... OK
* checking for code/documentation mismatches ... OK
* checking Rd \usage sections ... OK
* checking Rd contents ... OK
* checking for unstated dependencies in examples ... OK
* checking contents of ‘data’ directory ... OK
* checking data for non-ASCII characters ... OK
* checking LazyData ... OK
* checking data for ASCII and uncompressed saves ... OK
* checking files in ‘vignettes’ ... OK
* checking examples ... OK
Examples with CPU (user + system) or elapsed time > 5s
user system elapsed
SconeValues 13 0.12 13.12
* checking for unstated dependencies in ‘tests’ ... OK
* checking tests ...
Running ‘testthat.R’
OK
* checking for unstated dependencies in vignettes ... OK
* checking package vignettes in ‘inst/doc’ ... OK
* checking running R code from vignettes ... SKIPPED
* checking re-building of vignette outputs ... SKIPPED
* checking PDF version of manual ... OK
* DONE
Status: OK
Sconify.Rcheck/00install.out
############################################################################## ############################################################################## ### ### Running command: ### ### /home/biocbuild/bbs-3.14-bioc/R/bin/R CMD INSTALL Sconify ### ############################################################################## ############################################################################## * installing to library ‘/home/biocbuild/bbs-3.14-bioc/R/library’ * installing *source* package ‘Sconify’ ... ** using staged installation ** R ** data *** moving datasets to lazyload DB ** inst ** byte-compile and prepare package for lazy loading Note: wrong number of arguments to '/' Note: wrong number of arguments to 'asinh' ** help *** installing help indices ** building package indices ** installing vignettes ** testing if installed package can be loaded from temporary location ** testing if installed package can be loaded from final location ** testing if installed package keeps a record of temporary installation path * DONE (Sconify)
Sconify.Rcheck/tests/testthat.Rout
R version 4.1.3 (2022-03-10) -- "One Push-Up"
Copyright (C) 2022 The R Foundation for Statistical Computing
Platform: x86_64-pc-linux-gnu (64-bit)
R is free software and comes with ABSOLUTELY NO WARRANTY.
You are welcome to redistribute it under certain conditions.
Type 'license()' or 'licence()' for distribution details.
R is a collaborative project with many contributors.
Type 'contributors()' for more information and
'citation()' on how to cite R or R packages in publications.
Type 'demo()' for some demos, 'help()' for on-line help, or
'help.start()' for an HTML browser interface to help.
Type 'q()' to quit R.
> library(testthat)
> library(Sconify)
>
> test_check("Sconify")
Read the 100 x 27 data matrix successfully!
OpenMP is working. 1 threads.
Using no_dims = 2, perplexity = 30.000000, and theta = 0.500000
Computing input similarities...
Building tree...
Done in 0.01 seconds (sparsity = 0.966800)!
Learning embedding...
Iteration 50: error is 51.620640 (50 iterations in 0.01 seconds)
Iteration 100: error is 48.792597 (50 iterations in 0.01 seconds)
Iteration 150: error is 49.710753 (50 iterations in 0.01 seconds)
Iteration 200: error is 50.894315 (50 iterations in 0.01 seconds)
Iteration 250: error is 52.103415 (50 iterations in 0.01 seconds)
Iteration 300: error is 1.362104 (50 iterations in 0.01 seconds)
Iteration 350: error is 0.553850 (50 iterations in 0.01 seconds)
Iteration 400: error is 0.221056 (50 iterations in 0.01 seconds)
Iteration 450: error is 0.208998 (50 iterations in 0.01 seconds)
Iteration 500: error is 0.203276 (50 iterations in 0.01 seconds)
Iteration 550: error is 0.192642 (50 iterations in 0.01 seconds)
Iteration 600: error is 0.188255 (50 iterations in 0.01 seconds)
Iteration 650: error is 0.181195 (50 iterations in 0.01 seconds)
Iteration 700: error is 0.177084 (50 iterations in 0.01 seconds)
Iteration 750: error is 0.176126 (50 iterations in 0.01 seconds)
Iteration 800: error is 0.172632 (50 iterations in 0.01 seconds)
Iteration 850: error is 0.172515 (50 iterations in 0.01 seconds)
Iteration 900: error is 0.173155 (50 iterations in 0.01 seconds)
Iteration 950: error is 0.174485 (50 iterations in 0.01 seconds)
Iteration 1000: error is 0.172749 (50 iterations in 0.01 seconds)
Fitting performed in 0.15 seconds.
Read the 1000 x 27 data matrix successfully!
OpenMP is working. 1 threads.
Using no_dims = 2, perplexity = 30.000000, and theta = 0.500000
Computing input similarities...
Building tree...
Done in 0.11 seconds (sparsity = 0.129120)!
Learning embedding...
Iteration 50: error is 66.468812 (50 iterations in 0.25 seconds)
Iteration 100: error is 60.705358 (50 iterations in 0.15 seconds)
Iteration 150: error is 60.345445 (50 iterations in 0.17 seconds)
Iteration 200: error is 60.234456 (50 iterations in 0.18 seconds)
Iteration 250: error is 60.171479 (50 iterations in 0.19 seconds)
Iteration 300: error is 1.347160 (50 iterations in 0.14 seconds)
Iteration 350: error is 1.233848 (50 iterations in 0.13 seconds)
Iteration 400: error is 1.203635 (50 iterations in 0.13 seconds)
Iteration 450: error is 1.188921 (50 iterations in 0.13 seconds)
Iteration 500: error is 1.179777 (50 iterations in 0.13 seconds)
Iteration 550: error is 1.173102 (50 iterations in 0.13 seconds)
Iteration 600: error is 1.170695 (50 iterations in 0.13 seconds)
Iteration 650: error is 1.168248 (50 iterations in 0.13 seconds)
Iteration 700: error is 1.166392 (50 iterations in 0.13 seconds)
Iteration 750: error is 1.163021 (50 iterations in 0.13 seconds)
Iteration 800: error is 1.159539 (50 iterations in 0.13 seconds)
Iteration 850: error is 1.156993 (50 iterations in 0.13 seconds)
Iteration 900: error is 1.154166 (50 iterations in 0.13 seconds)
Iteration 950: error is 1.152404 (50 iterations in 0.13 seconds)
Iteration 1000: error is 1.150918 (50 iterations in 0.13 seconds)
Fitting performed in 2.87 seconds.
[ FAIL 0 | WARN 3 | SKIP 0 | PASS 72 ]
[ FAIL 0 | WARN 3 | SKIP 0 | PASS 72 ]
>
> proc.time()
user system elapsed
19.434 0.644 20.063
Sconify.Rcheck/Sconify-Ex.timings
| name | user | system | elapsed | |
| FcsToTibble | 0.107 | 0.008 | 0.116 | |
| Fnn | 0.274 | 0.235 | 0.510 | |
| GetKnnDe | 0.077 | 0.003 | 0.080 | |
| GetMarkerNames | 0.024 | 0.004 | 0.029 | |
| ImputeTesting | 3.619 | 0.008 | 3.628 | |
| MakeHist | 0.247 | 0.036 | 0.283 | |
| MakeKnnList | 0.44 | 0.00 | 0.44 | |
| MeaningOfLife | 0 | 0 | 0 | |
| ParseMarkers | 0.240 | 0.010 | 0.266 | |
| PostProcessing | 0.118 | 0.000 | 0.118 | |
| ProcessMultipleFiles | 0.116 | 0.000 | 0.115 | |
| QuantNormalizeElements | 0.381 | 0.004 | 0.384 | |
| SconeValues | 13.00 | 0.12 | 13.12 | |
| SplitFile | 0.093 | 0.000 | 0.092 | |
| StringToNumbers | 0 | 0 | 0 | |
| SubsampleAndTsne | 1.648 | 0.024 | 1.672 | |
| TsneVis | 0.126 | 0.020 | 0.146 | |