| Back to Multiple platform build/check report for BioC 3.14 |
|
This page was generated on 2022-04-13 12:07:14 -0400 (Wed, 13 Apr 2022).
| Hostname | OS | Arch (*) | R version | Installed pkgs |
|---|---|---|---|---|
| nebbiolo2 | Linux (Ubuntu 20.04.4 LTS) | x86_64 | 4.1.3 (2022-03-10) -- "One Push-Up" | 4324 |
| tokay2 | Windows Server 2012 R2 Standard | x64 | 4.1.3 (2022-03-10) -- "One Push-Up" | 4077 |
| machv2 | macOS 10.14.6 Mojave | x86_64 | 4.1.3 (2022-03-10) -- "One Push-Up" | 4137 |
| Click on any hostname to see more info about the system (e.g. compilers) (*) as reported by 'uname -p', except on Windows and Mac OS X | ||||
|
To the developers/maintainers of the RNAdecay package: - Please allow up to 24 hours (and sometimes 48 hours) for your latest push to git@git.bioconductor.org:packages/RNAdecay.git to reflect on this report. See How and When does the builder pull? When will my changes propagate? for more information. - Make sure to use the following settings in order to reproduce any error or warning you see on this page. |
| Package 1627/2083 | Hostname | OS / Arch | INSTALL | BUILD | CHECK | BUILD BIN | ||||||||
| RNAdecay 1.14.0 (landing page) Reed Sorenson
| nebbiolo2 | Linux (Ubuntu 20.04.4 LTS) / x86_64 | OK | OK | OK | |||||||||
| tokay2 | Windows Server 2012 R2 Standard / x64 | OK | OK | OK | ERROR | |||||||||
| machv2 | macOS 10.14.6 Mojave / x86_64 | OK | OK | OK | OK | |||||||||
| Package: RNAdecay |
| Version: 1.14.0 |
| Command: C:\cygwin\bin\curl.exe -O http://155.52.207.166/BBS/3.14/bioc/src/contrib/RNAdecay_1.14.0.tar.gz && rm -rf RNAdecay.buildbin-libdir && mkdir RNAdecay.buildbin-libdir && C:\Users\biocbuild\bbs-3.14-bioc\R\bin\R.exe CMD INSTALL --merge-multiarch --build --library=RNAdecay.buildbin-libdir RNAdecay_1.14.0.tar.gz && C:\Users\biocbuild\bbs-3.14-bioc\R\bin\R.exe CMD INSTALL RNAdecay_1.14.0.zip && rm RNAdecay_1.14.0.tar.gz RNAdecay_1.14.0.zip |
| StartedAt: 2022-04-12 05:17:46 -0400 (Tue, 12 Apr 2022) |
| EndedAt: 2022-04-12 05:30:57 -0400 (Tue, 12 Apr 2022) |
| EllapsedTime: 790.6 seconds |
| RetCode: 0 |
| Status: OK |
##############################################################################
##############################################################################
###
### Running command:
###
### C:\cygwin\bin\curl.exe -O http://155.52.207.166/BBS/3.14/bioc/src/contrib/RNAdecay_1.14.0.tar.gz && rm -rf RNAdecay.buildbin-libdir && mkdir RNAdecay.buildbin-libdir && C:\Users\biocbuild\bbs-3.14-bioc\R\bin\R.exe CMD INSTALL --merge-multiarch --build --library=RNAdecay.buildbin-libdir RNAdecay_1.14.0.tar.gz && C:\Users\biocbuild\bbs-3.14-bioc\R\bin\R.exe CMD INSTALL RNAdecay_1.14.0.zip && rm RNAdecay_1.14.0.tar.gz RNAdecay_1.14.0.zip
###
##############################################################################
##############################################################################
% Total % Received % Xferd Average Speed Time Time Time Current
Dload Upload Total Spent Left Speed
0 0 0 0 0 0 0 0 --:--:-- --:--:-- --:--:-- 0
19 2729k 19 523k 0 0 930k 0 0:00:02 --:--:-- 0:00:02 930k
85 2729k 85 2338k 0 0 1500k 0 0:00:01 0:00:01 --:--:-- 1500k
100 2729k 100 2729k 0 0 1598k 0 0:00:01 0:00:01 --:--:-- 1598k
install for i386
* installing *source* package 'RNAdecay' ...
** using staged installation
** libs
running 'src/Makefile.win' ...
C:/Users/BIOCBU~1/BBS-3~1.14-/R/bin/Rscript --vanilla -e "TMB::compile('general_dExp_1sse.cpp',safebounds=FALSE,safeunload=FALSE)"
"C:/rtools40/mingw32/bin/"g++ -std=gnu++11 -I"C:/Users/BIOCBU~1/BBS-3~1.14-/R/include" -DNDEBUG -I"C:/Users/BIOCBU~1/BBS-3~1.14-/R/library/TMB/include" -I"C:/Users/BIOCBU~1/BBS-3~1.14-/R/library/RCPPEI~1/include" -DTMB_EIGEN_DISABLE_WARNINGS -DTMB_LIB_INIT=R_init_general_dExp_1sse -DCPPAD_FRAMEWORK -I"C:/extsoft/include" -O2 -Wall -mfpmath=sse -msse2 -mstackrealign -c general_dExp_1sse.cpp -o general_dExp_1sse.o
C:/rtools40/mingw32/bin/g++ -std=gnu++11 -shared -s -static-libgcc -o general_dExp_1sse.dll tmp.def general_dExp_1sse.o -LC:/extsoft/lib/i386 -LC:/extsoft/lib -LC:/Users/BIOCBU~1/BBS-3~1.14-/R/bin/i386 -lR
[1] 0
C:/Users/BIOCBU~1/BBS-3~1.14-/R/bin/Rscript --vanilla -e "TMB::compile('general_Exp_1sse.cpp',safebounds=FALSE,safeunload=FALSE)"
"C:/rtools40/mingw32/bin/"g++ -std=gnu++11 -I"C:/Users/BIOCBU~1/BBS-3~1.14-/R/include" -DNDEBUG -I"C:/Users/BIOCBU~1/BBS-3~1.14-/R/library/TMB/include" -I"C:/Users/BIOCBU~1/BBS-3~1.14-/R/library/RCPPEI~1/include" -DTMB_EIGEN_DISABLE_WARNINGS -DTMB_LIB_INIT=R_init_general_Exp_1sse -DCPPAD_FRAMEWORK -I"C:/extsoft/include" -O2 -Wall -mfpmath=sse -msse2 -mstackrealign -c general_Exp_1sse.cpp -o general_Exp_1sse.o
C:/rtools40/mingw32/bin/g++ -std=gnu++11 -shared -s -static-libgcc -o general_Exp_1sse.dll tmp.def general_Exp_1sse.o -LC:/extsoft/lib/i386 -LC:/extsoft/lib -LC:/Users/BIOCBU~1/BBS-3~1.14-/R/bin/i386 -lR
[1] 0
C:/Users/BIOCBU~1/BBS-3~1.14-/R/bin/Rscript --vanilla -e "TMB::compile('general_dExp_2sse.cpp',safebounds=FALSE,safeunload=FALSE)"
"C:/rtools40/mingw32/bin/"g++ -std=gnu++11 -I"C:/Users/BIOCBU~1/BBS-3~1.14-/R/include" -DNDEBUG -I"C:/Users/BIOCBU~1/BBS-3~1.14-/R/library/TMB/include" -I"C:/Users/BIOCBU~1/BBS-3~1.14-/R/library/RCPPEI~1/include" -DTMB_EIGEN_DISABLE_WARNINGS -DTMB_LIB_INIT=R_init_general_dExp_2sse -DCPPAD_FRAMEWORK -I"C:/extsoft/include" -O2 -Wall -mfpmath=sse -msse2 -mstackrealign -c general_dExp_2sse.cpp -o general_dExp_2sse.o
C:/rtools40/mingw32/bin/g++ -std=gnu++11 -shared -s -static-libgcc -o general_dExp_2sse.dll tmp.def general_dExp_2sse.o -LC:/extsoft/lib/i386 -LC:/extsoft/lib -LC:/Users/BIOCBU~1/BBS-3~1.14-/R/bin/i386 -lR
[1] 0
C:/Users/BIOCBU~1/BBS-3~1.14-/R/bin/Rscript --vanilla -e "TMB::compile('general_Exp_2sse.cpp',safebounds=FALSE,safeunload=FALSE)"
"C:/rtools40/mingw32/bin/"g++ -std=gnu++11 -I"C:/Users/BIOCBU~1/BBS-3~1.14-/R/include" -DNDEBUG -I"C:/Users/BIOCBU~1/BBS-3~1.14-/R/library/TMB/include" -I"C:/Users/BIOCBU~1/BBS-3~1.14-/R/library/RCPPEI~1/include" -DTMB_EIGEN_DISABLE_WARNINGS -DTMB_LIB_INIT=R_init_general_Exp_2sse -DCPPAD_FRAMEWORK -I"C:/extsoft/include" -O2 -Wall -mfpmath=sse -msse2 -mstackrealign -c general_Exp_2sse.cpp -o general_Exp_2sse.o
C:/rtools40/mingw32/bin/g++ -std=gnu++11 -shared -s -static-libgcc -o general_Exp_2sse.dll tmp.def general_Exp_2sse.o -LC:/extsoft/lib/i386 -LC:/extsoft/lib -LC:/Users/BIOCBU~1/BBS-3~1.14-/R/bin/i386 -lR
[1] 0
C:/Users/BIOCBU~1/BBS-3~1.14-/R/bin/Rscript --vanilla -e "TMB::compile('general_dExp_3sse.cpp',safebounds=FALSE,safeunload=FALSE)"
"C:/rtools40/mingw32/bin/"g++ -std=gnu++11 -I"C:/Users/BIOCBU~1/BBS-3~1.14-/R/include" -DNDEBUG -I"C:/Users/BIOCBU~1/BBS-3~1.14-/R/library/TMB/include" -I"C:/Users/BIOCBU~1/BBS-3~1.14-/R/library/RCPPEI~1/include" -DTMB_EIGEN_DISABLE_WARNINGS -DTMB_LIB_INIT=R_init_general_dExp_3sse -DCPPAD_FRAMEWORK -I"C:/extsoft/include" -O2 -Wall -mfpmath=sse -msse2 -mstackrealign -c general_dExp_3sse.cpp -o general_dExp_3sse.o
C:/rtools40/mingw32/bin/g++ -std=gnu++11 -shared -s -static-libgcc -o general_dExp_3sse.dll tmp.def general_dExp_3sse.o -LC:/extsoft/lib/i386 -LC:/extsoft/lib -LC:/Users/BIOCBU~1/BBS-3~1.14-/R/bin/i386 -lR
[1] 0
C:/Users/BIOCBU~1/BBS-3~1.14-/R/bin/Rscript --vanilla -e "TMB::compile('general_Exp_3sse.cpp',safebounds=FALSE,safeunload=FALSE)"
"C:/rtools40/mingw32/bin/"g++ -std=gnu++11 -I"C:/Users/BIOCBU~1/BBS-3~1.14-/R/include" -DNDEBUG -I"C:/Users/BIOCBU~1/BBS-3~1.14-/R/library/TMB/include" -I"C:/Users/BIOCBU~1/BBS-3~1.14-/R/library/RCPPEI~1/include" -DTMB_EIGEN_DISABLE_WARNINGS -DTMB_LIB_INIT=R_init_general_Exp_3sse -DCPPAD_FRAMEWORK -I"C:/extsoft/include" -O2 -Wall -mfpmath=sse -msse2 -mstackrealign -c general_Exp_3sse.cpp -o general_Exp_3sse.o
C:/rtools40/mingw32/bin/g++ -std=gnu++11 -shared -s -static-libgcc -o general_Exp_3sse.dll tmp.def general_Exp_3sse.o -LC:/extsoft/lib/i386 -LC:/extsoft/lib -LC:/Users/BIOCBU~1/BBS-3~1.14-/R/bin/i386 -lR
[1] 0
C:/Users/BIOCBU~1/BBS-3~1.14-/R/bin/Rscript --vanilla -e "TMB::compile('general_dExp_4sse.cpp',safebounds=FALSE,safeunload=FALSE)"
"C:/rtools40/mingw32/bin/"g++ -std=gnu++11 -I"C:/Users/BIOCBU~1/BBS-3~1.14-/R/include" -DNDEBUG -I"C:/Users/BIOCBU~1/BBS-3~1.14-/R/library/TMB/include" -I"C:/Users/BIOCBU~1/BBS-3~1.14-/R/library/RCPPEI~1/include" -DTMB_EIGEN_DISABLE_WARNINGS -DTMB_LIB_INIT=R_init_general_dExp_4sse -DCPPAD_FRAMEWORK -I"C:/extsoft/include" -O2 -Wall -mfpmath=sse -msse2 -mstackrealign -c general_dExp_4sse.cpp -o general_dExp_4sse.o
C:/rtools40/mingw32/bin/g++ -std=gnu++11 -shared -s -static-libgcc -o general_dExp_4sse.dll tmp.def general_dExp_4sse.o -LC:/extsoft/lib/i386 -LC:/extsoft/lib -LC:/Users/BIOCBU~1/BBS-3~1.14-/R/bin/i386 -lR
[1] 0
C:/Users/BIOCBU~1/BBS-3~1.14-/R/bin/Rscript --vanilla -e "TMB::compile('general_Exp_4sse.cpp',safebounds=FALSE,safeunload=FALSE)"
"C:/rtools40/mingw32/bin/"g++ -std=gnu++11 -I"C:/Users/BIOCBU~1/BBS-3~1.14-/R/include" -DNDEBUG -I"C:/Users/BIOCBU~1/BBS-3~1.14-/R/library/TMB/include" -I"C:/Users/BIOCBU~1/BBS-3~1.14-/R/library/RCPPEI~1/include" -DTMB_EIGEN_DISABLE_WARNINGS -DTMB_LIB_INIT=R_init_general_Exp_4sse -DCPPAD_FRAMEWORK -I"C:/extsoft/include" -O2 -Wall -mfpmath=sse -msse2 -mstackrealign -c general_Exp_4sse.cpp -o general_Exp_4sse.o
C:/rtools40/mingw32/bin/g++ -std=gnu++11 -shared -s -static-libgcc -o general_Exp_4sse.dll tmp.def general_Exp_4sse.o -LC:/extsoft/lib/i386 -LC:/extsoft/lib -LC:/Users/BIOCBU~1/BBS-3~1.14-/R/bin/i386 -lR
[1] 0
installing to C:/Users/biocbuild/bbs-3.14-bioc/meat/RNAdecay.buildbin-libdir/00LOCK-RNAdecay/00new/RNAdecay/libs/i386
** R
** data
*** moving datasets to lazyload DB
** inst
** byte-compile and prepare package for lazy loading
** help
*** installing help indices
converting help for package 'RNAdecay'
finding HTML links ... done
RPMs html
a_high html
aic html
cols html
comb_cv html
const_decay html
constraint_fun_list_maker html
decay_data html
decay_plot html
fit_var html
group_map html
groupings html
hl_plot html
log_lik html
mod_optimization html
models html
n_par html
plain_theme html
results html
sse_null_decaying_decay html
** building package indices
** installing vignettes
** testing if installed package can be loaded from temporary location
** testing if installed package can be loaded from final location
** testing if installed package keeps a record of temporary installation path
install for x64
* installing *source* package 'RNAdecay' ...
** libs
running 'src/Makefile.win' ...
C:/Users/BIOCBU~1/BBS-3~1.14-/R/bin/Rscript --vanilla -e "TMB::compile('general_dExp_1sse.cpp',safebounds=FALSE,safeunload=FALSE)"
"C:/rtools40/mingw64/bin/"g++ -std=gnu++11 -I"C:/Users/BIOCBU~1/BBS-3~1.14-/R/include" -DNDEBUG -I"C:/Users/BIOCBU~1/BBS-3~1.14-/R/library/TMB/include" -I"C:/Users/BIOCBU~1/BBS-3~1.14-/R/library/RCPPEI~1/include" -DTMB_EIGEN_DISABLE_WARNINGS -DTMB_LIB_INIT=R_init_general_dExp_1sse -DCPPAD_FRAMEWORK -I"C:/extsoft/include" -O2 -Wall -mfpmath=sse -msse2 -mstackrealign -c general_dExp_1sse.cpp -o general_dExp_1sse.o
C:/rtools40/mingw64/bin/g++ -std=gnu++11 -shared -s -static-libgcc -o general_dExp_1sse.dll tmp.def general_dExp_1sse.o -LC:/extsoft/lib/x64 -LC:/extsoft/lib -LC:/Users/BIOCBU~1/BBS-3~1.14-/R/bin/x64 -lR
[1] 0
C:/Users/BIOCBU~1/BBS-3~1.14-/R/bin/Rscript --vanilla -e "TMB::compile('general_Exp_1sse.cpp',safebounds=FALSE,safeunload=FALSE)"
"C:/rtools40/mingw64/bin/"g++ -std=gnu++11 -I"C:/Users/BIOCBU~1/BBS-3~1.14-/R/include" -DNDEBUG -I"C:/Users/BIOCBU~1/BBS-3~1.14-/R/library/TMB/include" -I"C:/Users/BIOCBU~1/BBS-3~1.14-/R/library/RCPPEI~1/include" -DTMB_EIGEN_DISABLE_WARNINGS -DTMB_LIB_INIT=R_init_general_Exp_1sse -DCPPAD_FRAMEWORK -I"C:/extsoft/include" -O2 -Wall -mfpmath=sse -msse2 -mstackrealign -c general_Exp_1sse.cpp -o general_Exp_1sse.o
C:/rtools40/mingw64/bin/g++ -std=gnu++11 -shared -s -static-libgcc -o general_Exp_1sse.dll tmp.def general_Exp_1sse.o -LC:/extsoft/lib/x64 -LC:/extsoft/lib -LC:/Users/BIOCBU~1/BBS-3~1.14-/R/bin/x64 -lR
[1] 0
C:/Users/BIOCBU~1/BBS-3~1.14-/R/bin/Rscript --vanilla -e "TMB::compile('general_dExp_2sse.cpp',safebounds=FALSE,safeunload=FALSE)"
"C:/rtools40/mingw64/bin/"g++ -std=gnu++11 -I"C:/Users/BIOCBU~1/BBS-3~1.14-/R/include" -DNDEBUG -I"C:/Users/BIOCBU~1/BBS-3~1.14-/R/library/TMB/include" -I"C:/Users/BIOCBU~1/BBS-3~1.14-/R/library/RCPPEI~1/include" -DTMB_EIGEN_DISABLE_WARNINGS -DTMB_LIB_INIT=R_init_general_dExp_2sse -DCPPAD_FRAMEWORK -I"C:/extsoft/include" -O2 -Wall -mfpmath=sse -msse2 -mstackrealign -c general_dExp_2sse.cpp -o general_dExp_2sse.o
C:/rtools40/mingw64/bin/g++ -std=gnu++11 -shared -s -static-libgcc -o general_dExp_2sse.dll tmp.def general_dExp_2sse.o -LC:/extsoft/lib/x64 -LC:/extsoft/lib -LC:/Users/BIOCBU~1/BBS-3~1.14-/R/bin/x64 -lR
[1] 0
C:/Users/BIOCBU~1/BBS-3~1.14-/R/bin/Rscript --vanilla -e "TMB::compile('general_Exp_2sse.cpp',safebounds=FALSE,safeunload=FALSE)"
"C:/rtools40/mingw64/bin/"g++ -std=gnu++11 -I"C:/Users/BIOCBU~1/BBS-3~1.14-/R/include" -DNDEBUG -I"C:/Users/BIOCBU~1/BBS-3~1.14-/R/library/TMB/include" -I"C:/Users/BIOCBU~1/BBS-3~1.14-/R/library/RCPPEI~1/include" -DTMB_EIGEN_DISABLE_WARNINGS -DTMB_LIB_INIT=R_init_general_Exp_2sse -DCPPAD_FRAMEWORK -I"C:/extsoft/include" -O2 -Wall -mfpmath=sse -msse2 -mstackrealign -c general_Exp_2sse.cpp -o general_Exp_2sse.o
C:/rtools40/mingw64/bin/g++ -std=gnu++11 -shared -s -static-libgcc -o general_Exp_2sse.dll tmp.def general_Exp_2sse.o -LC:/extsoft/lib/x64 -LC:/extsoft/lib -LC:/Users/BIOCBU~1/BBS-3~1.14-/R/bin/x64 -lR
[1] 0
C:/Users/BIOCBU~1/BBS-3~1.14-/R/bin/Rscript --vanilla -e "TMB::compile('general_dExp_3sse.cpp',safebounds=FALSE,safeunload=FALSE)"
"C:/rtools40/mingw64/bin/"g++ -std=gnu++11 -I"C:/Users/BIOCBU~1/BBS-3~1.14-/R/include" -DNDEBUG -I"C:/Users/BIOCBU~1/BBS-3~1.14-/R/library/TMB/include" -I"C:/Users/BIOCBU~1/BBS-3~1.14-/R/library/RCPPEI~1/include" -DTMB_EIGEN_DISABLE_WARNINGS -DTMB_LIB_INIT=R_init_general_dExp_3sse -DCPPAD_FRAMEWORK -I"C:/extsoft/include" -O2 -Wall -mfpmath=sse -msse2 -mstackrealign -c general_dExp_3sse.cpp -o general_dExp_3sse.o
C:/rtools40/mingw64/bin/g++ -std=gnu++11 -shared -s -static-libgcc -o general_dExp_3sse.dll tmp.def general_dExp_3sse.o -LC:/extsoft/lib/x64 -LC:/extsoft/lib -LC:/Users/BIOCBU~1/BBS-3~1.14-/R/bin/x64 -lR
[1] 0
C:/Users/BIOCBU~1/BBS-3~1.14-/R/bin/Rscript --vanilla -e "TMB::compile('general_Exp_3sse.cpp',safebounds=FALSE,safeunload=FALSE)"
"C:/rtools40/mingw64/bin/"g++ -std=gnu++11 -I"C:/Users/BIOCBU~1/BBS-3~1.14-/R/include" -DNDEBUG -I"C:/Users/BIOCBU~1/BBS-3~1.14-/R/library/TMB/include" -I"C:/Users/BIOCBU~1/BBS-3~1.14-/R/library/RCPPEI~1/include" -DTMB_EIGEN_DISABLE_WARNINGS -DTMB_LIB_INIT=R_init_general_Exp_3sse -DCPPAD_FRAMEWORK -I"C:/extsoft/include" -O2 -Wall -mfpmath=sse -msse2 -mstackrealign -c general_Exp_3sse.cpp -o general_Exp_3sse.o
C:/rtools40/mingw64/bin/g++ -std=gnu++11 -shared -s -static-libgcc -o general_Exp_3sse.dll tmp.def general_Exp_3sse.o -LC:/extsoft/lib/x64 -LC:/extsoft/lib -LC:/Users/BIOCBU~1/BBS-3~1.14-/R/bin/x64 -lR
[1] 0
C:/Users/BIOCBU~1/BBS-3~1.14-/R/bin/Rscript --vanilla -e "TMB::compile('general_dExp_4sse.cpp',safebounds=FALSE,safeunload=FALSE)"
"C:/rtools40/mingw64/bin/"g++ -std=gnu++11 -I"C:/Users/BIOCBU~1/BBS-3~1.14-/R/include" -DNDEBUG -I"C:/Users/BIOCBU~1/BBS-3~1.14-/R/library/TMB/include" -I"C:/Users/BIOCBU~1/BBS-3~1.14-/R/library/RCPPEI~1/include" -DTMB_EIGEN_DISABLE_WARNINGS -DTMB_LIB_INIT=R_init_general_dExp_4sse -DCPPAD_FRAMEWORK -I"C:/extsoft/include" -O2 -Wall -mfpmath=sse -msse2 -mstackrealign -c general_dExp_4sse.cpp -o general_dExp_4sse.o
C:/rtools40/mingw64/bin/g++ -std=gnu++11 -shared -s -static-libgcc -o general_dExp_4sse.dll tmp.def general_dExp_4sse.o -LC:/extsoft/lib/x64 -LC:/extsoft/lib -LC:/Users/BIOCBU~1/BBS-3~1.14-/R/bin/x64 -lR
[1] 0
C:/Users/BIOCBU~1/BBS-3~1.14-/R/bin/Rscript --vanilla -e "TMB::compile('general_Exp_4sse.cpp',safebounds=FALSE,safeunload=FALSE)"
"C:/rtools40/mingw64/bin/"g++ -std=gnu++11 -I"C:/Users/BIOCBU~1/BBS-3~1.14-/R/include" -DNDEBUG -I"C:/Users/BIOCBU~1/BBS-3~1.14-/R/library/TMB/include" -I"C:/Users/BIOCBU~1/BBS-3~1.14-/R/library/RCPPEI~1/include" -DTMB_EIGEN_DISABLE_WARNINGS -DTMB_LIB_INIT=R_init_general_Exp_4sse -DCPPAD_FRAMEWORK -I"C:/extsoft/include" -O2 -Wall -mfpmath=sse -msse2 -mstackrealign -c general_Exp_4sse.cpp -o general_Exp_4sse.o
C:/rtools40/mingw64/bin/g++ -std=gnu++11 -shared -s -static-libgcc -o general_Exp_4sse.dll tmp.def general_Exp_4sse.o -LC:/extsoft/lib/x64 -LC:/extsoft/lib -LC:/Users/BIOCBU~1/BBS-3~1.14-/R/bin/x64 -lR
[1] 0
installing to C:/Users/biocbuild/bbs-3.14-bioc/meat/RNAdecay.buildbin-libdir/RNAdecay/libs/x64
** testing if installed package can be loaded
* MD5 sums
packaged installation of 'RNAdecay' as RNAdecay_1.14.0.zip
* DONE (RNAdecay)
* installing to library 'C:/Users/biocbuild/bbs-3.14-bioc/R/library'
package 'RNAdecay' successfully unpacked and MD5 sums checked