| Back to Multiple platform build/check report for BioC 3.14 |
|
This page was generated on 2022-04-13 12:05:52 -0400 (Wed, 13 Apr 2022).
| Hostname | OS | Arch (*) | R version | Installed pkgs |
|---|---|---|---|---|
| nebbiolo2 | Linux (Ubuntu 20.04.4 LTS) | x86_64 | 4.1.3 (2022-03-10) -- "One Push-Up" | 4324 |
| tokay2 | Windows Server 2012 R2 Standard | x64 | 4.1.3 (2022-03-10) -- "One Push-Up" | 4077 |
| machv2 | macOS 10.14.6 Mojave | x86_64 | 4.1.3 (2022-03-10) -- "One Push-Up" | 4137 |
| Click on any hostname to see more info about the system (e.g. compilers) (*) as reported by 'uname -p', except on Windows and Mac OS X | ||||
|
To the developers/maintainers of the RNAdecay package: - Please allow up to 24 hours (and sometimes 48 hours) for your latest push to git@git.bioconductor.org:packages/RNAdecay.git to reflect on this report. See How and When does the builder pull? When will my changes propagate? for more information. - Make sure to use the following settings in order to reproduce any error or warning you see on this page. |
| Package 1627/2083 | Hostname | OS / Arch | INSTALL | BUILD | CHECK | BUILD BIN | ||||||||
| RNAdecay 1.14.0 (landing page) Reed Sorenson
| nebbiolo2 | Linux (Ubuntu 20.04.4 LTS) / x86_64 | OK | OK | OK | |||||||||
| tokay2 | Windows Server 2012 R2 Standard / x64 | OK | OK | OK | ERROR | |||||||||
| machv2 | macOS 10.14.6 Mojave / x86_64 | OK | OK | OK | OK | |||||||||
| Package: RNAdecay |
| Version: 1.14.0 |
| Command: /home/biocbuild/bbs-3.14-bioc/R/bin/R CMD check --install=check:RNAdecay.install-out.txt --library=/home/biocbuild/bbs-3.14-bioc/R/library --no-vignettes --timings RNAdecay_1.14.0.tar.gz |
| StartedAt: 2022-04-12 09:05:35 -0400 (Tue, 12 Apr 2022) |
| EndedAt: 2022-04-12 09:05:57 -0400 (Tue, 12 Apr 2022) |
| EllapsedTime: 22.3 seconds |
| RetCode: 0 |
| Status: OK |
| CheckDir: RNAdecay.Rcheck |
| Warnings: 0 |
##############################################################################
##############################################################################
###
### Running command:
###
### /home/biocbuild/bbs-3.14-bioc/R/bin/R CMD check --install=check:RNAdecay.install-out.txt --library=/home/biocbuild/bbs-3.14-bioc/R/library --no-vignettes --timings RNAdecay_1.14.0.tar.gz
###
##############################################################################
##############################################################################
* using log directory ‘/home/biocbuild/bbs-3.14-bioc/meat/RNAdecay.Rcheck’
* using R version 4.1.3 (2022-03-10)
* using platform: x86_64-pc-linux-gnu (64-bit)
* using session charset: UTF-8
* using option ‘--no-vignettes’
* checking for file ‘RNAdecay/DESCRIPTION’ ... OK
* this is package ‘RNAdecay’ version ‘1.14.0’
* package encoding: UTF-8
* checking package namespace information ... OK
* checking package dependencies ... OK
* checking if this is a source package ... OK
* checking if there is a namespace ... OK
* checking for hidden files and directories ... OK
* checking for portable file names ... OK
* checking for sufficient/correct file permissions ... OK
* checking whether package ‘RNAdecay’ can be installed ... OK
* checking installed package size ... NOTE
installed size is 129.4Mb
sub-directories of 1Mb or more:
data 2.7Mb
libs 126.5Mb
* checking package directory ... OK
* checking ‘build’ directory ... OK
* checking DESCRIPTION meta-information ... OK
* checking top-level files ... OK
* checking for left-over files ... OK
* checking index information ... OK
* checking package subdirectories ... OK
* checking R files for non-ASCII characters ... OK
* checking R files for syntax errors ... OK
* checking whether the package can be loaded ... OK
* checking whether the package can be loaded with stated dependencies ... OK
* checking whether the package can be unloaded cleanly ... OK
* checking whether the namespace can be loaded with stated dependencies ... OK
* checking whether the namespace can be unloaded cleanly ... OK
* checking dependencies in R code ... OK
* checking S3 generic/method consistency ... OK
* checking replacement functions ... OK
* checking foreign function calls ... OK
* checking R code for possible problems ... NOTE
decay_plot: no visible binding for global variable ‘text’
decay_plot: no visible binding for global variable ‘x’
decay_plot: no visible binding for global variable ‘y’
decay_plot: no visible binding for global variable ‘treatment’
decay_plot: no visible binding for global variable ‘t.decay’
decay_plot: no visible binding for global variable ‘value’
hl_plot: no visible binding for global variable ‘x’
hl_plot: no visible binding for global variable ‘y’
Undefined global functions or variables:
t.decay text treatment value x y
Consider adding
importFrom("graphics", "text")
to your NAMESPACE file.
* checking Rd files ... OK
* checking Rd metadata ... OK
* checking Rd cross-references ... OK
* checking for missing documentation entries ... OK
* checking for code/documentation mismatches ... OK
* checking Rd \usage sections ... OK
* checking Rd contents ... OK
* checking for unstated dependencies in examples ... OK
* checking contents of ‘data’ directory ... OK
* checking data for non-ASCII characters ... OK
* checking LazyData ... OK
* checking data for ASCII and uncompressed saves ... OK
* checking line endings in C/C++/Fortran sources/headers ... OK
* checking line endings in Makefiles ... OK
* checking for GNU extensions in Makefiles ... OK
* checking for portable use of $(BLAS_LIBS) and $(LAPACK_LIBS) ... OK
* checking use of PKG_*FLAGS in Makefiles ... OK
* checking include directives in Makefiles ... OK
* checking compiled code ... NOTE
Note: information on .o files is not available
* checking files in ‘vignettes’ ... OK
* checking examples ... OK
* checking for unstated dependencies in vignettes ... OK
* checking package vignettes in ‘inst/doc’ ... OK
* checking running R code from vignettes ... SKIPPED
* checking re-building of vignette outputs ... SKIPPED
* checking PDF version of manual ... OK
* DONE
Status: 3 NOTEs
See
‘/home/biocbuild/bbs-3.14-bioc/meat/RNAdecay.Rcheck/00check.log’
for details.
RNAdecay.Rcheck/00install.out
##############################################################################
##############################################################################
###
### Running command:
###
### /home/biocbuild/bbs-3.14-bioc/R/bin/R CMD INSTALL RNAdecay
###
##############################################################################
##############################################################################
* installing to library ‘/home/biocbuild/bbs-3.14-bioc/R/library’
* installing *source* package ‘RNAdecay’ ...
** using staged installation
** libs
** arch -
/home/biocbuild/bbs-3.14-bioc/R/bin/Rscript --vanilla -e "TMB::compile('general_dExp_1sse.cpp',safebounds=FALSE,safeunload=FALSE)"
make[1]: Entering directory '/home/biocbuild/bbs-3.14-bioc/meat/RNAdecay/src'
g++ -std=gnu++14 -I"/home/biocbuild/bbs-3.14-bioc/R/include" -DNDEBUG -I"/home/biocbuild/bbs-3.14-bioc/R/library/TMB/include" -I"/home/biocbuild/bbs-3.14-bioc/R/library/RcppEigen/include" -DTMB_EIGEN_DISABLE_WARNINGS -DTMB_LIB_INIT=R_init_general_dExp_1sse -DCPPAD_FRAMEWORK -I/usr/local/include -fpic -g -O2 -Wall -c general_dExp_1sse.cpp -o general_dExp_1sse.o
g++ -std=gnu++14 -shared -L/home/biocbuild/bbs-3.14-bioc/R/lib -L/usr/local/lib -o general_dExp_1sse.so general_dExp_1sse.o -L/home/biocbuild/bbs-3.14-bioc/R/lib -lR
make[1]: Leaving directory '/home/biocbuild/bbs-3.14-bioc/meat/RNAdecay/src'
[1] 0
/home/biocbuild/bbs-3.14-bioc/R/bin/Rscript --vanilla -e "TMB::compile('general_Exp_1sse.cpp',safebounds=FALSE,safeunload=FALSE)"
make[1]: Entering directory '/home/biocbuild/bbs-3.14-bioc/meat/RNAdecay/src'
g++ -std=gnu++14 -I"/home/biocbuild/bbs-3.14-bioc/R/include" -DNDEBUG -I"/home/biocbuild/bbs-3.14-bioc/R/library/TMB/include" -I"/home/biocbuild/bbs-3.14-bioc/R/library/RcppEigen/include" -DTMB_EIGEN_DISABLE_WARNINGS -DTMB_LIB_INIT=R_init_general_Exp_1sse -DCPPAD_FRAMEWORK -I/usr/local/include -fpic -g -O2 -Wall -c general_Exp_1sse.cpp -o general_Exp_1sse.o
g++ -std=gnu++14 -shared -L/home/biocbuild/bbs-3.14-bioc/R/lib -L/usr/local/lib -o general_Exp_1sse.so general_Exp_1sse.o -L/home/biocbuild/bbs-3.14-bioc/R/lib -lR
make[1]: Leaving directory '/home/biocbuild/bbs-3.14-bioc/meat/RNAdecay/src'
[1] 0
/home/biocbuild/bbs-3.14-bioc/R/bin/Rscript --vanilla -e "TMB::compile('general_dExp_2sse.cpp',safebounds=FALSE,safeunload=FALSE)"
make[1]: Entering directory '/home/biocbuild/bbs-3.14-bioc/meat/RNAdecay/src'
g++ -std=gnu++14 -I"/home/biocbuild/bbs-3.14-bioc/R/include" -DNDEBUG -I"/home/biocbuild/bbs-3.14-bioc/R/library/TMB/include" -I"/home/biocbuild/bbs-3.14-bioc/R/library/RcppEigen/include" -DTMB_EIGEN_DISABLE_WARNINGS -DTMB_LIB_INIT=R_init_general_dExp_2sse -DCPPAD_FRAMEWORK -I/usr/local/include -fpic -g -O2 -Wall -c general_dExp_2sse.cpp -o general_dExp_2sse.o
g++ -std=gnu++14 -shared -L/home/biocbuild/bbs-3.14-bioc/R/lib -L/usr/local/lib -o general_dExp_2sse.so general_dExp_2sse.o -L/home/biocbuild/bbs-3.14-bioc/R/lib -lR
make[1]: Leaving directory '/home/biocbuild/bbs-3.14-bioc/meat/RNAdecay/src'
[1] 0
/home/biocbuild/bbs-3.14-bioc/R/bin/Rscript --vanilla -e "TMB::compile('general_Exp_2sse.cpp',safebounds=FALSE,safeunload=FALSE)"
make[1]: Entering directory '/home/biocbuild/bbs-3.14-bioc/meat/RNAdecay/src'
g++ -std=gnu++14 -I"/home/biocbuild/bbs-3.14-bioc/R/include" -DNDEBUG -I"/home/biocbuild/bbs-3.14-bioc/R/library/TMB/include" -I"/home/biocbuild/bbs-3.14-bioc/R/library/RcppEigen/include" -DTMB_EIGEN_DISABLE_WARNINGS -DTMB_LIB_INIT=R_init_general_Exp_2sse -DCPPAD_FRAMEWORK -I/usr/local/include -fpic -g -O2 -Wall -c general_Exp_2sse.cpp -o general_Exp_2sse.o
g++ -std=gnu++14 -shared -L/home/biocbuild/bbs-3.14-bioc/R/lib -L/usr/local/lib -o general_Exp_2sse.so general_Exp_2sse.o -L/home/biocbuild/bbs-3.14-bioc/R/lib -lR
make[1]: Leaving directory '/home/biocbuild/bbs-3.14-bioc/meat/RNAdecay/src'
[1] 0
/home/biocbuild/bbs-3.14-bioc/R/bin/Rscript --vanilla -e "TMB::compile('general_dExp_3sse.cpp',safebounds=FALSE,safeunload=FALSE)"
make[1]: Entering directory '/home/biocbuild/bbs-3.14-bioc/meat/RNAdecay/src'
g++ -std=gnu++14 -I"/home/biocbuild/bbs-3.14-bioc/R/include" -DNDEBUG -I"/home/biocbuild/bbs-3.14-bioc/R/library/TMB/include" -I"/home/biocbuild/bbs-3.14-bioc/R/library/RcppEigen/include" -DTMB_EIGEN_DISABLE_WARNINGS -DTMB_LIB_INIT=R_init_general_dExp_3sse -DCPPAD_FRAMEWORK -I/usr/local/include -fpic -g -O2 -Wall -c general_dExp_3sse.cpp -o general_dExp_3sse.o
g++ -std=gnu++14 -shared -L/home/biocbuild/bbs-3.14-bioc/R/lib -L/usr/local/lib -o general_dExp_3sse.so general_dExp_3sse.o -L/home/biocbuild/bbs-3.14-bioc/R/lib -lR
make[1]: Leaving directory '/home/biocbuild/bbs-3.14-bioc/meat/RNAdecay/src'
[1] 0
/home/biocbuild/bbs-3.14-bioc/R/bin/Rscript --vanilla -e "TMB::compile('general_Exp_3sse.cpp',safebounds=FALSE,safeunload=FALSE)"
make[1]: Entering directory '/home/biocbuild/bbs-3.14-bioc/meat/RNAdecay/src'
g++ -std=gnu++14 -I"/home/biocbuild/bbs-3.14-bioc/R/include" -DNDEBUG -I"/home/biocbuild/bbs-3.14-bioc/R/library/TMB/include" -I"/home/biocbuild/bbs-3.14-bioc/R/library/RcppEigen/include" -DTMB_EIGEN_DISABLE_WARNINGS -DTMB_LIB_INIT=R_init_general_Exp_3sse -DCPPAD_FRAMEWORK -I/usr/local/include -fpic -g -O2 -Wall -c general_Exp_3sse.cpp -o general_Exp_3sse.o
g++ -std=gnu++14 -shared -L/home/biocbuild/bbs-3.14-bioc/R/lib -L/usr/local/lib -o general_Exp_3sse.so general_Exp_3sse.o -L/home/biocbuild/bbs-3.14-bioc/R/lib -lR
make[1]: Leaving directory '/home/biocbuild/bbs-3.14-bioc/meat/RNAdecay/src'
[1] 0
/home/biocbuild/bbs-3.14-bioc/R/bin/Rscript --vanilla -e "TMB::compile('general_dExp_4sse.cpp',safebounds=FALSE,safeunload=FALSE)"
make[1]: Entering directory '/home/biocbuild/bbs-3.14-bioc/meat/RNAdecay/src'
g++ -std=gnu++14 -I"/home/biocbuild/bbs-3.14-bioc/R/include" -DNDEBUG -I"/home/biocbuild/bbs-3.14-bioc/R/library/TMB/include" -I"/home/biocbuild/bbs-3.14-bioc/R/library/RcppEigen/include" -DTMB_EIGEN_DISABLE_WARNINGS -DTMB_LIB_INIT=R_init_general_dExp_4sse -DCPPAD_FRAMEWORK -I/usr/local/include -fpic -g -O2 -Wall -c general_dExp_4sse.cpp -o general_dExp_4sse.o
g++ -std=gnu++14 -shared -L/home/biocbuild/bbs-3.14-bioc/R/lib -L/usr/local/lib -o general_dExp_4sse.so general_dExp_4sse.o -L/home/biocbuild/bbs-3.14-bioc/R/lib -lR
make[1]: Leaving directory '/home/biocbuild/bbs-3.14-bioc/meat/RNAdecay/src'
[1] 0
/home/biocbuild/bbs-3.14-bioc/R/bin/Rscript --vanilla -e "TMB::compile('general_Exp_4sse.cpp',safebounds=FALSE,safeunload=FALSE)"
make[1]: Entering directory '/home/biocbuild/bbs-3.14-bioc/meat/RNAdecay/src'
g++ -std=gnu++14 -I"/home/biocbuild/bbs-3.14-bioc/R/include" -DNDEBUG -I"/home/biocbuild/bbs-3.14-bioc/R/library/TMB/include" -I"/home/biocbuild/bbs-3.14-bioc/R/library/RcppEigen/include" -DTMB_EIGEN_DISABLE_WARNINGS -DTMB_LIB_INIT=R_init_general_Exp_4sse -DCPPAD_FRAMEWORK -I/usr/local/include -fpic -g -O2 -Wall -c general_Exp_4sse.cpp -o general_Exp_4sse.o
g++ -std=gnu++14 -shared -L/home/biocbuild/bbs-3.14-bioc/R/lib -L/usr/local/lib -o general_Exp_4sse.so general_Exp_4sse.o -L/home/biocbuild/bbs-3.14-bioc/R/lib -lR
make[1]: Leaving directory '/home/biocbuild/bbs-3.14-bioc/meat/RNAdecay/src'
[1] 0
installing to /home/biocbuild/bbs-3.14-bioc/R/library/00LOCK-RNAdecay/00new/RNAdecay/libs
** R
** data
*** moving datasets to lazyload DB
** inst
** byte-compile and prepare package for lazy loading
** help
*** installing help indices
** building package indices
** installing vignettes
** testing if installed package can be loaded from temporary location
** checking absolute paths in shared objects and dynamic libraries
** testing if installed package can be loaded from final location
** testing if installed package keeps a record of temporary installation path
* DONE (RNAdecay)
RNAdecay.Rcheck/RNAdecay-Ex.timings
| name | user | system | elapsed | |
| a_high | 0 | 0 | 0 | |
| aic | 0 | 0 | 0 | |
| cols | 0.003 | 0.000 | 0.002 | |
| comb_cv | 0.002 | 0.000 | 0.002 | |
| const_decay | 0 | 0 | 0 | |
| constraint_fun_list_maker | 0.002 | 0.000 | 0.001 | |
| decay_plot | 1.017 | 0.028 | 1.045 | |
| fit_var | 0 | 0 | 0 | |
| group_map | 0.042 | 0.000 | 0.041 | |
| groupings | 0.000 | 0.001 | 0.001 | |
| hl_plot | 0.844 | 0.026 | 0.870 | |
| log_lik | 0.000 | 0.000 | 0.001 | |
| mod_optimization | 1.200 | 0.048 | 1.249 | |
| n_par | 0.001 | 0.000 | 0.000 | |
| plain_theme | 0.069 | 0.000 | 0.068 | |
| sse_null_decaying_decay | 0 | 0 | 0 | |