| Back to Multiple platform build/check report for BioC 3.14 |
|
This page was generated on 2022-04-13 12:07:05 -0400 (Wed, 13 Apr 2022).
| Hostname | OS | Arch (*) | R version | Installed pkgs |
|---|---|---|---|---|
| nebbiolo2 | Linux (Ubuntu 20.04.4 LTS) | x86_64 | 4.1.3 (2022-03-10) -- "One Push-Up" | 4324 |
| tokay2 | Windows Server 2012 R2 Standard | x64 | 4.1.3 (2022-03-10) -- "One Push-Up" | 4077 |
| machv2 | macOS 10.14.6 Mojave | x86_64 | 4.1.3 (2022-03-10) -- "One Push-Up" | 4137 |
| Click on any hostname to see more info about the system (e.g. compilers) (*) as reported by 'uname -p', except on Windows and Mac OS X | ||||
|
To the developers/maintainers of the PhosR package: - Please allow up to 24 hours (and sometimes 48 hours) for your latest push to git@git.bioconductor.org:packages/PhosR.git to reflect on this report. See How and When does the builder pull? When will my changes propagate? for more information. - Make sure to use the following settings in order to reproduce any error or warning you see on this page. |
| Package 1413/2083 | Hostname | OS / Arch | INSTALL | BUILD | CHECK | BUILD BIN | ||||||||
| PhosR 1.4.0 (landing page) Taiyun Kim
| nebbiolo2 | Linux (Ubuntu 20.04.4 LTS) / x86_64 | OK | OK | OK | |||||||||
| tokay2 | Windows Server 2012 R2 Standard / x64 | OK | OK | OK | OK | |||||||||
| machv2 | macOS 10.14.6 Mojave / x86_64 | OK | OK | OK | OK | |||||||||
| Package: PhosR |
| Version: 1.4.0 |
| Command: rm -rf PhosR.buildbin-libdir && mkdir PhosR.buildbin-libdir && C:\Users\biocbuild\bbs-3.14-bioc\R\bin\R.exe CMD INSTALL --merge-multiarch --build --library=PhosR.buildbin-libdir PhosR_1.4.0.tar.gz |
| StartedAt: 2022-04-13 06:48:31 -0400 (Wed, 13 Apr 2022) |
| EndedAt: 2022-04-13 06:49:17 -0400 (Wed, 13 Apr 2022) |
| EllapsedTime: 45.8 seconds |
| RetCode: 0 |
| Status: OK |
| PackageFile: PhosR_1.4.0.zip |
| PackageFileSize: 4.866 MiB |
##############################################################################
##############################################################################
###
### Running command:
###
### rm -rf PhosR.buildbin-libdir && mkdir PhosR.buildbin-libdir && C:\Users\biocbuild\bbs-3.14-bioc\R\bin\R.exe CMD INSTALL --merge-multiarch --build --library=PhosR.buildbin-libdir PhosR_1.4.0.tar.gz
###
##############################################################################
##############################################################################
install for i386
* installing *source* package 'PhosR' ...
** using staged installation
** R
** data
** inst
** byte-compile and prepare package for lazy loading
** help
*** installing help indices
converting help for package 'PhosR'
finding HTML links ... done
KinaseFamily html
PhosphoExperiment-methods html
PhosphoExperiment-operate html
finding level-2 HTML links ... done
PhosphoExperiment html
PhosphoSite.human html
PhosphoSite.mouse html
PhosphoSite.rat html
RUVphospho html
SPSs html
Signalomes html
createFrequencyMat html
frequencyScoring html
getSPS html
hSEGs html
kinaseSubstrateHeatmap html
kinaseSubstratePred html
kinaseSubstrateProfile html
kinaseSubstrateScore html
mIntersect html
mSEGs html
matANOVA html
meanAbundance html
medianScaling html
minmax html
motif.human.list html
motif.mouse.list html
motif.rat.list html
pathwayOverrepresent html
pathwayRankBasedEnrichment html
phosCollapse html
phospho.L6.ratio html
phospho.L6.ratio.pe html
phospho.cells.Ins html
phospho.liver.Ins.TC.ratio.RUV html
phospho.liver.Ins.TC.ratio.RUV.pe html
plotKinaseNetwork html
plotQC html
plotSignalomeMap html
ptImpute html
scImpute html
selectGrps html
selectLocalisedSites html
selectOverallPercent html
selectTimes html
siteAnnotate html
standardise html
tImpute html
*** copying figures
** building package indices
** installing vignettes
** testing if installed package can be loaded from temporary location
** testing if installed package can be loaded from final location
** testing if installed package keeps a record of temporary installation path
install for x64
* installing *source* package 'PhosR' ...
** testing if installed package can be loaded
* MD5 sums
packaged installation of 'PhosR' as PhosR_1.4.0.zip
* DONE (PhosR)