| Back to Multiple platform build/check report for BioC 3.14 |
|
This page was generated on 2022-04-13 12:08:31 -0400 (Wed, 13 Apr 2022).
| Hostname | OS | Arch (*) | R version | Installed pkgs |
|---|---|---|---|---|
| nebbiolo2 | Linux (Ubuntu 20.04.4 LTS) | x86_64 | 4.1.3 (2022-03-10) -- "One Push-Up" | 4324 |
| tokay2 | Windows Server 2012 R2 Standard | x64 | 4.1.3 (2022-03-10) -- "One Push-Up" | 4077 |
| machv2 | macOS 10.14.6 Mojave | x86_64 | 4.1.3 (2022-03-10) -- "One Push-Up" | 4137 |
| Click on any hostname to see more info about the system (e.g. compilers) (*) as reported by 'uname -p', except on Windows and Mac OS X | ||||
|
To the developers/maintainers of the PhosR package: - Please allow up to 24 hours (and sometimes 48 hours) for your latest push to git@git.bioconductor.org:packages/PhosR.git to reflect on this report. See How and When does the builder pull? When will my changes propagate? for more information. - Make sure to use the following settings in order to reproduce any error or warning you see on this page. |
| Package 1413/2083 | Hostname | OS / Arch | INSTALL | BUILD | CHECK | BUILD BIN | ||||||||
| PhosR 1.4.0 (landing page) Taiyun Kim
| nebbiolo2 | Linux (Ubuntu 20.04.4 LTS) / x86_64 | OK | OK | OK | |||||||||
| tokay2 | Windows Server 2012 R2 Standard / x64 | OK | OK | OK | OK | |||||||||
| machv2 | macOS 10.14.6 Mojave / x86_64 | OK | OK | OK | OK | |||||||||
| Package: PhosR |
| Version: 1.4.0 |
| Command: /Library/Frameworks/R.framework/Resources/bin/R CMD check --install=check:PhosR.install-out.txt --library=/Library/Frameworks/R.framework/Resources/library --no-vignettes --timings PhosR_1.4.0.tar.gz |
| StartedAt: 2022-04-12 16:44:24 -0400 (Tue, 12 Apr 2022) |
| EndedAt: 2022-04-12 16:49:45 -0400 (Tue, 12 Apr 2022) |
| EllapsedTime: 321.0 seconds |
| RetCode: 0 |
| Status: OK |
| CheckDir: PhosR.Rcheck |
| Warnings: 0 |
##############################################################################
##############################################################################
###
### Running command:
###
### /Library/Frameworks/R.framework/Resources/bin/R CMD check --install=check:PhosR.install-out.txt --library=/Library/Frameworks/R.framework/Resources/library --no-vignettes --timings PhosR_1.4.0.tar.gz
###
##############################################################################
##############################################################################
* using log directory ‘/Users/biocbuild/bbs-3.14-bioc/meat/PhosR.Rcheck’
* using R version 4.1.3 (2022-03-10)
* using platform: x86_64-apple-darwin17.0 (64-bit)
* using session charset: UTF-8
* using option ‘--no-vignettes’
* checking for file ‘PhosR/DESCRIPTION’ ... OK
* checking extension type ... Package
* this is package ‘PhosR’ version ‘1.4.0’
* package encoding: UTF-8
* checking package namespace information ... OK
* checking package dependencies ... OK
* checking if this is a source package ... OK
* checking if there is a namespace ... OK
* checking for hidden files and directories ... NOTE
Found the following hidden files and directories:
.travis.yml
These were most likely included in error. See section ‘Package
structure’ in the ‘Writing R Extensions’ manual.
* checking for portable file names ... OK
* checking for sufficient/correct file permissions ... OK
* checking whether package ‘PhosR’ can be installed ... OK
* checking installed package size ... OK
* checking package directory ... OK
* checking ‘build’ directory ... OK
* checking DESCRIPTION meta-information ... OK
* checking top-level files ... OK
* checking for left-over files ... OK
* checking index information ... OK
* checking package subdirectories ... OK
* checking R files for non-ASCII characters ... OK
* checking R files for syntax errors ... OK
* checking whether the package can be loaded ... OK
* checking whether the package can be loaded with stated dependencies ... OK
* checking whether the package can be unloaded cleanly ... OK
* checking whether the namespace can be loaded with stated dependencies ... OK
* checking whether the namespace can be unloaded cleanly ... OK
* checking dependencies in R code ... NOTE
Unexported objects imported by ':::' calls:
‘BiocGenerics:::replaceSlots’ ‘S4Vectors:::disableValidity’
‘SummarizedExperiment:::.SummarizedExperiment.charbound’
See the note in ?`:::` about the use of this operator.
* checking S3 generic/method consistency ... OK
* checking replacement functions ... OK
* checking foreign function calls ... OK
* checking R code for possible problems ... OK
* checking Rd files ... OK
* checking Rd metadata ... OK
* checking Rd cross-references ... OK
* checking for missing documentation entries ... OK
* checking for code/documentation mismatches ... OK
* checking Rd \usage sections ... OK
* checking Rd contents ... OK
* checking for unstated dependencies in examples ... OK
* checking contents of ‘data’ directory ... OK
* checking data for non-ASCII characters ... OK
* checking data for ASCII and uncompressed saves ... OK
* checking files in ‘vignettes’ ... OK
* checking examples ... OK
Examples with CPU (user + system) or elapsed time > 5s
user system elapsed
plotQC 8.932 0.164 9.105
* checking for unstated dependencies in ‘tests’ ... OK
* checking tests ...
Running ‘testthat.R’
OK
* checking for unstated dependencies in vignettes ... OK
* checking package vignettes in ‘inst/doc’ ... OK
* checking running R code from vignettes ... SKIPPED
* checking re-building of vignette outputs ... SKIPPED
* checking PDF version of manual ... OK
* DONE
Status: 2 NOTEs
See
‘/Users/biocbuild/bbs-3.14-bioc/meat/PhosR.Rcheck/00check.log’
for details.
PhosR.Rcheck/00install.out
############################################################################## ############################################################################## ### ### Running command: ### ### /Library/Frameworks/R.framework/Resources/bin/R CMD INSTALL PhosR ### ############################################################################## ############################################################################## * installing to library ‘/Library/Frameworks/R.framework/Versions/4.1/Resources/library’ * installing *source* package ‘PhosR’ ... ** using staged installation ** R ** data ** inst ** byte-compile and prepare package for lazy loading ** help *** installing help indices *** copying figures ** building package indices ** installing vignettes ** testing if installed package can be loaded from temporary location ** testing if installed package can be loaded from final location ** testing if installed package keeps a record of temporary installation path * DONE (PhosR)
PhosR.Rcheck/tests/testthat.Rout
R version 4.1.3 (2022-03-10) -- "One Push-Up"
Copyright (C) 2022 The R Foundation for Statistical Computing
Platform: x86_64-apple-darwin17.0 (64-bit)
R is free software and comes with ABSOLUTELY NO WARRANTY.
You are welcome to redistribute it under certain conditions.
Type 'license()' or 'licence()' for distribution details.
R is a collaborative project with many contributors.
Type 'contributors()' for more information and
'citation()' on how to cite R or R packages in publications.
Type 'demo()' for some demos, 'help()' for on-line help, or
'help.start()' for an HTML browser interface to help.
Type 'q()' to quit R.
> library(testthat)
> library(PhosR)
>
> test_check("PhosR")
[ FAIL 0 | WARN 0 | SKIP 0 | PASS 58 ]
>
> proc.time()
user system elapsed
12.889 0.658 13.537
PhosR.Rcheck/PhosR-Ex.timings
| name | user | system | elapsed | |
| PhosphoExperiment-methods | 0.765 | 0.015 | 0.780 | |
| PhosphoExperiment-operate | 1.639 | 0.013 | 1.654 | |
| PhosphoExperiment | 0.544 | 0.004 | 0.548 | |
| RUVphospho | 0.384 | 0.012 | 0.394 | |
| Signalomes | 0 | 0 | 0 | |
| createFrequencyMat | 0.156 | 0.004 | 0.160 | |
| frequencyScoring | 0.679 | 0.039 | 0.717 | |
| getSPS | 3.609 | 0.113 | 3.724 | |
| kinaseSubstrateHeatmap | 0.000 | 0.000 | 0.001 | |
| kinaseSubstratePred | 0 | 0 | 0 | |
| kinaseSubstrateProfile | 0 | 0 | 0 | |
| kinaseSubstrateScore | 0 | 0 | 0 | |
| mIntersect | 2.721 | 0.036 | 2.758 | |
| matANOVA | 0.000 | 0.000 | 0.001 | |
| meanAbundance | 0.448 | 0.008 | 0.458 | |
| medianScaling | 0.641 | 0.007 | 0.648 | |
| minmax | 0 | 0 | 0 | |
| pathwayOverrepresent | 0.000 | 0.001 | 0.000 | |
| pathwayRankBasedEnrichment | 0.000 | 0.000 | 0.001 | |
| phosCollapse | 1.897 | 0.033 | 1.932 | |
| plotQC | 8.932 | 0.164 | 9.105 | |
| ptImpute | 0.522 | 0.010 | 0.532 | |
| scImpute | 1.236 | 0.011 | 1.249 | |
| selectGrps | 0.186 | 0.004 | 0.190 | |
| selectLocalisedSites | 0.124 | 0.003 | 0.126 | |
| selectOverallPercent | 0.066 | 0.003 | 0.068 | |
| selectTimes | 0.035 | 0.009 | 0.043 | |
| siteAnnotate | 0 | 0 | 0 | |
| standardise | 0 | 0 | 0 | |
| tImpute | 0.238 | 0.006 | 0.245 | |