| Back to Multiple platform build/check report for BioC 3.14 |
|
This page was generated on 2022-04-13 12:05:45 -0400 (Wed, 13 Apr 2022).
| Hostname | OS | Arch (*) | R version | Installed pkgs |
|---|---|---|---|---|
| nebbiolo2 | Linux (Ubuntu 20.04.4 LTS) | x86_64 | 4.1.3 (2022-03-10) -- "One Push-Up" | 4324 |
| tokay2 | Windows Server 2012 R2 Standard | x64 | 4.1.3 (2022-03-10) -- "One Push-Up" | 4077 |
| machv2 | macOS 10.14.6 Mojave | x86_64 | 4.1.3 (2022-03-10) -- "One Push-Up" | 4137 |
| Click on any hostname to see more info about the system (e.g. compilers) (*) as reported by 'uname -p', except on Windows and Mac OS X | ||||
|
To the developers/maintainers of the PhenStat package: - Please allow up to 24 hours (and sometimes 48 hours) for your latest push to git@git.bioconductor.org:packages/PhenStat.git to reflect on this report. See How and When does the builder pull? When will my changes propagate? for more information. - Make sure to use the following settings in order to reproduce any error or warning you see on this page. |
| Package 1409/2083 | Hostname | OS / Arch | INSTALL | BUILD | CHECK | BUILD BIN | ||||||||
| PhenStat 2.30.0 (landing page) Hamed Haselimashhadi
| nebbiolo2 | Linux (Ubuntu 20.04.4 LTS) / x86_64 | OK | OK | OK | |||||||||
| tokay2 | Windows Server 2012 R2 Standard / x64 | OK | OK | OK | OK | |||||||||
| machv2 | macOS 10.14.6 Mojave / x86_64 | OK | OK | OK | OK | |||||||||
| Package: PhenStat |
| Version: 2.30.0 |
| Command: /home/biocbuild/bbs-3.14-bioc/R/bin/R CMD check --install=check:PhenStat.install-out.txt --library=/home/biocbuild/bbs-3.14-bioc/R/library --no-vignettes --timings PhenStat_2.30.0.tar.gz |
| StartedAt: 2022-04-12 08:42:43 -0400 (Tue, 12 Apr 2022) |
| EndedAt: 2022-04-12 08:44:27 -0400 (Tue, 12 Apr 2022) |
| EllapsedTime: 104.0 seconds |
| RetCode: 0 |
| Status: OK |
| CheckDir: PhenStat.Rcheck |
| Warnings: 0 |
############################################################################## ############################################################################## ### ### Running command: ### ### /home/biocbuild/bbs-3.14-bioc/R/bin/R CMD check --install=check:PhenStat.install-out.txt --library=/home/biocbuild/bbs-3.14-bioc/R/library --no-vignettes --timings PhenStat_2.30.0.tar.gz ### ############################################################################## ############################################################################## * using log directory ‘/home/biocbuild/bbs-3.14-bioc/meat/PhenStat.Rcheck’ * using R version 4.1.3 (2022-03-10) * using platform: x86_64-pc-linux-gnu (64-bit) * using session charset: UTF-8 * using option ‘--no-vignettes’ * checking for file ‘PhenStat/DESCRIPTION’ ... OK * checking extension type ... Package * this is package ‘PhenStat’ version ‘2.30.0’ * checking package namespace information ... OK * checking package dependencies ... OK * checking if this is a source package ... OK * checking if there is a namespace ... OK * checking for hidden files and directories ... OK * checking for portable file names ... OK * checking for sufficient/correct file permissions ... OK * checking whether package ‘PhenStat’ can be installed ... OK * checking installed package size ... OK * checking package directory ... OK * checking ‘build’ directory ... OK * checking DESCRIPTION meta-information ... OK * checking top-level files ... OK * checking for left-over files ... OK * checking index information ... OK * checking package subdirectories ... OK * checking R files for non-ASCII characters ... OK * checking R files for syntax errors ... OK * checking whether the package can be loaded ... OK * checking whether the package can be loaded with stated dependencies ... OK * checking whether the package can be unloaded cleanly ... OK * checking whether the namespace can be loaded with stated dependencies ... OK * checking whether the namespace can be unloaded cleanly ... OK * checking dependencies in R code ... NOTE Namespace in Imports field not imported from: ‘SmoothWin’ All declared Imports should be used. * checking S3 generic/method consistency ... OK * checking replacement functions ... OK * checking foreign function calls ... OK * checking R code for possible problems ... OK * checking Rd files ... OK * checking Rd metadata ... OK * checking Rd cross-references ... OK * checking for missing documentation entries ... OK * checking for code/documentation mismatches ... OK * checking Rd \usage sections ... OK * checking Rd contents ... OK * checking for unstated dependencies in examples ... OK * checking installed files from ‘inst/doc’ ... OK * checking files in ‘vignettes’ ... OK * checking examples ... OK * checking for unstated dependencies in ‘tests’ ... OK * checking tests ... Running ‘runTests.R’ OK * checking for unstated dependencies in vignettes ... OK * checking package vignettes in ‘inst/doc’ ... OK * checking running R code from vignettes ... SKIPPED * checking re-building of vignette outputs ... SKIPPED * checking PDF version of manual ... OK * DONE Status: 1 NOTE See ‘/home/biocbuild/bbs-3.14-bioc/meat/PhenStat.Rcheck/00check.log’ for details.
PhenStat.Rcheck/00install.out
############################################################################## ############################################################################## ### ### Running command: ### ### /home/biocbuild/bbs-3.14-bioc/R/bin/R CMD INSTALL PhenStat ### ############################################################################## ############################################################################## * installing to library ‘/home/biocbuild/bbs-3.14-bioc/R/library’ * installing *source* package ‘PhenStat’ ... ** using staged installation ** R ** inst ** byte-compile and prepare package for lazy loading ** help *** installing help indices ** building package indices ** installing vignettes ** testing if installed package can be loaded from temporary location ** testing if installed package can be loaded from final location ** testing if installed package keeps a record of temporary installation path * DONE (PhenStat)
PhenStat.Rcheck/tests/runTests.Rout
R version 4.1.3 (2022-03-10) -- "One Push-Up"
Copyright (C) 2022 The R Foundation for Statistical Computing
Platform: x86_64-pc-linux-gnu (64-bit)
R is free software and comes with ABSOLUTELY NO WARRANTY.
You are welcome to redistribute it under certain conditions.
Type 'license()' or 'licence()' for distribution details.
R is a collaborative project with many contributors.
Type 'contributors()' for more information and
'citation()' on how to cite R or R packages in publications.
Type 'demo()' for some demos, 'help()' for on-line help, or
'help.start()' for an HTML browser interface to help.
Type 'q()' to quit R.
> BiocGenerics:::testPackage("PhenStat")
>=========================================================================<
This version of PhenStat includes *FEWER* functions than the previous ones
You *still* can use the previous functions by using `:::`. For example :
PhenStat:::boxplotSexGenotype or PhenStat:::FisherExactTest
*** Want to know what is new in this version? run PhenStat:::WhatIsNew()
>=========================================================================<
RUNIT TEST PROTOCOL -- Tue Apr 12 08:44:23 2022
***********************************************
Number of test functions: 0
Number of errors: 0
Number of failures: 0
1 Test Suite :
PhenStat RUnit Tests - 0 test functions, 0 errors, 0 failures
Number of test functions: 0
Number of errors: 0
Number of failures: 0
>
> proc.time()
user system elapsed
2.812 0.131 2.924
PhenStat.Rcheck/PhenStat-Ex.timings
| name | user | system | elapsed | |
| FisherExactTest | 0.119 | 0.023 | 0.144 | |
| JSONOutput | 0.686 | 0.012 | 0.699 | |
| LRDataset | 0.036 | 0.003 | 0.039 | |
| PhenList-class | 0.173 | 0.005 | 0.177 | |
| PhenList | 0.163 | 0.000 | 0.163 | |
| PhenStatReport | 0.031 | 0.000 | 0.031 | |
| PhenTestResult-class | 0.582 | 0.003 | 0.586 | |
| PhenTestResult | 0.486 | 0.004 | 0.490 | |
| RRTest | 0.079 | 0.001 | 0.079 | |
| TFDataset | 0.184 | 0.007 | 0.193 | |
| analysedDataset | 0.564 | 0.067 | 0.633 | |
| analysisResults | 0.586 | 0.004 | 0.590 | |
| boxplotResidualBatch | 0.609 | 0.003 | 0.613 | |
| boxplotSexGenotype | 0.059 | 0.000 | 0.059 | |
| boxplotSexGenotypeBatch | 0.134 | 0.012 | 0.146 | |
| boxplotSexGenotypeBatchAdjusted | 0.059 | 0.000 | 0.059 | |
| boxplotSexGenotypeResult | 0.764 | 0.012 | 0.776 | |
| boxplotSexGenotypeWeightBatchAdjusted | 0.052 | 0.003 | 0.055 | |
| categoricalBarplot | 0.115 | 0.000 | 0.115 | |
| checkDataset | 0.031 | 0.000 | 0.032 | |
| classificationTag | 0.594 | 0.012 | 0.607 | |
| determiningLambda | 1.010 | 0.112 | 1.122 | |
| dim | 0.032 | 0.000 | 0.031 | |
| finalLRModel | 0.443 | 0.000 | 0.443 | |
| finalModel | 0.477 | 0.000 | 0.477 | |
| finalTFModel | 0.35 | 0.00 | 0.35 | |
| htestPhenStat-class | 0.100 | 0.004 | 0.104 | |
| modelFormula | 0.001 | 0.000 | 0.001 | |
| modelFormulaLR | 0 | 0 | 0 | |
| parserOutputSummary | 0.563 | 0.000 | 0.563 | |
| parserOutputSummaryLR | 0.407 | 0.000 | 0.407 | |
| parserOutputTFSummary | 0.087 | 0.008 | 0.095 | |
| performReverseTransformation | 0 | 0 | 0 | |
| performTransformation | 0.000 | 0.000 | 0.001 | |
| plot.PhenList | 1.991 | 0.036 | 2.027 | |
| plot.PhenTestResult | 1.904 | 0.020 | 1.924 | |
| plotResidualPredicted | 0.601 | 0.000 | 0.600 | |
| printLROutput | 0.409 | 0.000 | 0.408 | |
| printTabStyle | 0 | 0 | 0 | |
| qqplotGenotype | 0.643 | 0.028 | 0.670 | |
| qqplotRandomEffects | 0.646 | 0.000 | 0.646 | |
| qqplotRotatedResiduals | 3.673 | 0.044 | 3.717 | |
| recommendMethod | 0.162 | 0.004 | 0.165 | |
| scatterplotGenotypeWeight | 0.133 | 0.000 | 0.132 | |
| scatterplotGenotypeWeightResult | 0.742 | 0.000 | 0.742 | |
| scatterplotSexGenotypeBatch | 0.074 | 0.000 | 0.073 | |
| scatterplotSexGenotypeBatchResult | 0.770 | 0.016 | 0.786 | |
| startLRModel | 0.350 | 0.024 | 0.373 | |
| startModel | 0.445 | 0.004 | 0.449 | |
| startTFModel | 0.344 | 0.000 | 0.344 | |
| summaryOutput | 0.668 | 0.008 | 0.677 | |
| summaryPhenListResult | 0.682 | 0.000 | 0.682 | |
| testDataset | 1.904 | 0.020 | 1.924 | |
| testFinalLRModel | 0.386 | 0.008 | 0.394 | |
| testFinalModel | 0.733 | 0.000 | 0.732 | |
| vectorOutput | 0.671 | 0.004 | 0.675 | |
| vectorOutputMatrices | 0.106 | 0.000 | 0.107 | |