| Back to Multiple platform build/check report for BioC 3.14 |
|
This page was generated on 2022-04-13 12:08:31 -0400 (Wed, 13 Apr 2022).
| Hostname | OS | Arch (*) | R version | Installed pkgs |
|---|---|---|---|---|
| nebbiolo2 | Linux (Ubuntu 20.04.4 LTS) | x86_64 | 4.1.3 (2022-03-10) -- "One Push-Up" | 4324 |
| tokay2 | Windows Server 2012 R2 Standard | x64 | 4.1.3 (2022-03-10) -- "One Push-Up" | 4077 |
| machv2 | macOS 10.14.6 Mojave | x86_64 | 4.1.3 (2022-03-10) -- "One Push-Up" | 4137 |
| Click on any hostname to see more info about the system (e.g. compilers) (*) as reported by 'uname -p', except on Windows and Mac OS X | ||||
|
To the developers/maintainers of the PhenStat package: - Please allow up to 24 hours (and sometimes 48 hours) for your latest push to git@git.bioconductor.org:packages/PhenStat.git to reflect on this report. See How and When does the builder pull? When will my changes propagate? for more information. - Make sure to use the following settings in order to reproduce any error or warning you see on this page. |
| Package 1409/2083 | Hostname | OS / Arch | INSTALL | BUILD | CHECK | BUILD BIN | ||||||||
| PhenStat 2.30.0 (landing page) Hamed Haselimashhadi
| nebbiolo2 | Linux (Ubuntu 20.04.4 LTS) / x86_64 | OK | OK | OK | |||||||||
| tokay2 | Windows Server 2012 R2 Standard / x64 | OK | OK | OK | OK | |||||||||
| machv2 | macOS 10.14.6 Mojave / x86_64 | OK | OK | OK | OK | |||||||||
| Package: PhenStat |
| Version: 2.30.0 |
| Command: /Library/Frameworks/R.framework/Resources/bin/R CMD check --install=check:PhenStat.install-out.txt --library=/Library/Frameworks/R.framework/Resources/library --no-vignettes --timings PhenStat_2.30.0.tar.gz |
| StartedAt: 2022-04-12 16:42:27 -0400 (Tue, 12 Apr 2022) |
| EndedAt: 2022-04-12 16:45:48 -0400 (Tue, 12 Apr 2022) |
| EllapsedTime: 200.5 seconds |
| RetCode: 0 |
| Status: OK |
| CheckDir: PhenStat.Rcheck |
| Warnings: 0 |
##############################################################################
##############################################################################
###
### Running command:
###
### /Library/Frameworks/R.framework/Resources/bin/R CMD check --install=check:PhenStat.install-out.txt --library=/Library/Frameworks/R.framework/Resources/library --no-vignettes --timings PhenStat_2.30.0.tar.gz
###
##############################################################################
##############################################################################
* using log directory ‘/Users/biocbuild/bbs-3.14-bioc/meat/PhenStat.Rcheck’
* using R version 4.1.3 (2022-03-10)
* using platform: x86_64-apple-darwin17.0 (64-bit)
* using session charset: UTF-8
* using option ‘--no-vignettes’
* checking for file ‘PhenStat/DESCRIPTION’ ... OK
* checking extension type ... Package
* this is package ‘PhenStat’ version ‘2.30.0’
* checking package namespace information ... OK
* checking package dependencies ... OK
* checking if this is a source package ... OK
* checking if there is a namespace ... OK
* checking for hidden files and directories ... OK
* checking for portable file names ... OK
* checking for sufficient/correct file permissions ... OK
* checking whether package ‘PhenStat’ can be installed ... OK
* checking installed package size ... OK
* checking package directory ... OK
* checking ‘build’ directory ... OK
* checking DESCRIPTION meta-information ... OK
* checking top-level files ... OK
* checking for left-over files ... OK
* checking index information ... OK
* checking package subdirectories ... OK
* checking R files for non-ASCII characters ... OK
* checking R files for syntax errors ... OK
* checking whether the package can be loaded ... OK
* checking whether the package can be loaded with stated dependencies ... OK
* checking whether the package can be unloaded cleanly ... OK
* checking whether the namespace can be loaded with stated dependencies ... OK
* checking whether the namespace can be unloaded cleanly ... OK
* checking dependencies in R code ... NOTE
Namespace in Imports field not imported from: ‘SmoothWin’
All declared Imports should be used.
* checking S3 generic/method consistency ... OK
* checking replacement functions ... OK
* checking foreign function calls ... OK
* checking R code for possible problems ... OK
* checking Rd files ... OK
* checking Rd metadata ... OK
* checking Rd cross-references ... OK
* checking for missing documentation entries ... OK
* checking for code/documentation mismatches ... OK
* checking Rd \usage sections ... OK
* checking Rd contents ... OK
* checking for unstated dependencies in examples ... OK
* checking sizes of PDF files under ‘inst/doc’ ... OK
* checking installed files from ‘inst/doc’ ... OK
* checking files in ‘vignettes’ ... OK
* checking examples ... OK
Examples with CPU (user + system) or elapsed time > 5s
user system elapsed
qqplotRotatedResiduals 5.595 0.052 5.653
* checking for unstated dependencies in ‘tests’ ... OK
* checking tests ...
Running ‘runTests.R’
OK
* checking for unstated dependencies in vignettes ... OK
* checking package vignettes in ‘inst/doc’ ... OK
* checking running R code from vignettes ... SKIPPED
* checking re-building of vignette outputs ... SKIPPED
* checking PDF version of manual ... OK
* DONE
Status: 1 NOTE
See
‘/Users/biocbuild/bbs-3.14-bioc/meat/PhenStat.Rcheck/00check.log’
for details.
PhenStat.Rcheck/00install.out
############################################################################## ############################################################################## ### ### Running command: ### ### /Library/Frameworks/R.framework/Resources/bin/R CMD INSTALL PhenStat ### ############################################################################## ############################################################################## * installing to library ‘/Library/Frameworks/R.framework/Versions/4.1/Resources/library’ * installing *source* package ‘PhenStat’ ... ** using staged installation ** R ** inst ** byte-compile and prepare package for lazy loading ** help *** installing help indices ** building package indices ** installing vignettes ** testing if installed package can be loaded from temporary location ** testing if installed package can be loaded from final location ** testing if installed package keeps a record of temporary installation path * DONE (PhenStat)
PhenStat.Rcheck/tests/runTests.Rout
R version 4.1.3 (2022-03-10) -- "One Push-Up"
Copyright (C) 2022 The R Foundation for Statistical Computing
Platform: x86_64-apple-darwin17.0 (64-bit)
R is free software and comes with ABSOLUTELY NO WARRANTY.
You are welcome to redistribute it under certain conditions.
Type 'license()' or 'licence()' for distribution details.
R is a collaborative project with many contributors.
Type 'contributors()' for more information and
'citation()' on how to cite R or R packages in publications.
Type 'demo()' for some demos, 'help()' for on-line help, or
'help.start()' for an HTML browser interface to help.
Type 'q()' to quit R.
> BiocGenerics:::testPackage("PhenStat")
>=========================================================================<
This version of PhenStat includes *FEWER* functions than the previous ones
You *still* can use the previous functions by using `:::`. For example :
PhenStat:::boxplotSexGenotype or PhenStat:::FisherExactTest
*** Want to know what is new in this version? run PhenStat:::WhatIsNew()
>=========================================================================<
RUNIT TEST PROTOCOL -- Tue Apr 12 16:45:37 2022
***********************************************
Number of test functions: 0
Number of errors: 0
Number of failures: 0
1 Test Suite :
PhenStat RUnit Tests - 0 test functions, 0 errors, 0 failures
Number of test functions: 0
Number of errors: 0
Number of failures: 0
>
> proc.time()
user system elapsed
4.898 0.319 5.195
PhenStat.Rcheck/PhenStat-Ex.timings
| name | user | system | elapsed | |
| FisherExactTest | 0.297 | 0.038 | 0.336 | |
| JSONOutput | 1.409 | 0.036 | 1.448 | |
| LRDataset | 0.088 | 0.007 | 0.096 | |
| PhenList-class | 0.309 | 0.018 | 0.328 | |
| PhenList | 0.283 | 0.017 | 0.301 | |
| PhenStatReport | 0.042 | 0.001 | 0.044 | |
| PhenTestResult-class | 1.230 | 0.018 | 1.249 | |
| PhenTestResult | 0.933 | 0.012 | 0.947 | |
| RRTest | 0.133 | 0.007 | 0.139 | |
| TFDataset | 0.486 | 0.010 | 0.496 | |
| analysedDataset | 1.167 | 0.023 | 1.192 | |
| analysisResults | 1.181 | 0.013 | 1.195 | |
| boxplotResidualBatch | 1.267 | 0.015 | 1.284 | |
| boxplotSexGenotype | 0.121 | 0.007 | 0.128 | |
| boxplotSexGenotypeBatch | 0.243 | 0.007 | 0.250 | |
| boxplotSexGenotypeBatchAdjusted | 0.117 | 0.003 | 0.121 | |
| boxplotSexGenotypeResult | 1.563 | 0.031 | 1.597 | |
| boxplotSexGenotypeWeightBatchAdjusted | 0.115 | 0.002 | 0.118 | |
| categoricalBarplot | 0.256 | 0.008 | 0.264 | |
| checkDataset | 0.064 | 0.001 | 0.066 | |
| classificationTag | 1.394 | 0.012 | 1.407 | |
| determiningLambda | 1.202 | 0.266 | 1.471 | |
| dim | 0.063 | 0.002 | 0.064 | |
| finalLRModel | 0.810 | 0.017 | 0.853 | |
| finalModel | 0.949 | 0.007 | 0.956 | |
| finalTFModel | 0.979 | 0.041 | 1.021 | |
| htestPhenStat-class | 0.244 | 0.011 | 0.255 | |
| modelFormula | 0.001 | 0.000 | 0.001 | |
| modelFormulaLR | 0.001 | 0.000 | 0.001 | |
| parserOutputSummary | 1.161 | 0.006 | 1.182 | |
| parserOutputSummaryLR | 0.765 | 0.009 | 0.775 | |
| parserOutputTFSummary | 0.180 | 0.001 | 0.182 | |
| performReverseTransformation | 0.001 | 0.000 | 0.001 | |
| performTransformation | 0.000 | 0.000 | 0.001 | |
| plot.PhenList | 3.488 | 0.079 | 3.574 | |
| plot.PhenTestResult | 3.473 | 0.071 | 3.570 | |
| plotResidualPredicted | 1.211 | 0.009 | 1.223 | |
| printLROutput | 0.782 | 0.008 | 0.792 | |
| printTabStyle | 0.001 | 0.001 | 0.002 | |
| qqplotGenotype | 1.093 | 0.011 | 1.107 | |
| qqplotRandomEffects | 1.167 | 0.007 | 1.175 | |
| qqplotRotatedResiduals | 5.595 | 0.052 | 5.653 | |
| recommendMethod | 0.480 | 0.005 | 0.486 | |
| scatterplotGenotypeWeight | 0.202 | 0.004 | 0.208 | |
| scatterplotGenotypeWeightResult | 1.519 | 0.030 | 1.625 | |
| scatterplotSexGenotypeBatch | 0.139 | 0.005 | 0.146 | |
| scatterplotSexGenotypeBatchResult | 1.439 | 0.016 | 1.458 | |
| startLRModel | 0.725 | 0.007 | 0.733 | |
| startModel | 0.978 | 0.005 | 0.983 | |
| startTFModel | 0.876 | 0.008 | 0.884 | |
| summaryOutput | 1.326 | 0.014 | 1.343 | |
| summaryPhenListResult | 1.395 | 0.022 | 1.425 | |
| testDataset | 3.265 | 0.074 | 3.345 | |
| testFinalLRModel | 0.672 | 0.011 | 0.684 | |
| testFinalModel | 1.330 | 0.012 | 1.342 | |
| vectorOutput | 1.352 | 0.020 | 1.373 | |
| vectorOutputMatrices | 0.238 | 0.024 | 0.262 | |