| Back to Multiple platform build/check report for BioC 3.14 | 
 | 
This page was generated on 2022-04-13 12:05:44 -0400 (Wed, 13 Apr 2022).
| Hostname | OS | Arch (*) | R version | Installed pkgs | 
|---|---|---|---|---|
| nebbiolo2 | Linux (Ubuntu 20.04.4 LTS) | x86_64 | 4.1.3 (2022-03-10) -- "One Push-Up" | 4324 | 
| tokay2 | Windows Server 2012 R2 Standard | x64 | 4.1.3 (2022-03-10) -- "One Push-Up" | 4077 | 
| machv2 | macOS 10.14.6 Mojave | x86_64 | 4.1.3 (2022-03-10) -- "One Push-Up" | 4137 | 
| Click on any hostname to see more info about the system (e.g. compilers) (*) as reported by 'uname -p', except on Windows and Mac OS X | ||||
| To the developers/maintainers of the PFP package: - Please allow up to 24 hours (and sometimes 48 hours) for your latest push to git@git.bioconductor.org:packages/PFP.git to reflect on this report. See How and When does the builder pull? When will my changes propagate? for more information. - Make sure to use the following settings in order to reproduce any error or warning you see on this page. | 
| Package 1401/2083 | Hostname | OS / Arch | INSTALL | BUILD | CHECK | BUILD BIN | ||||||||
| PFP 1.2.0  (landing page) XC Zhang 
 | nebbiolo2 | Linux (Ubuntu 20.04.4 LTS) / x86_64 | OK | OK | OK |  | ||||||||
| tokay2 | Windows Server 2012 R2 Standard / x64 | OK | OK | OK | OK |  | ||||||||
| machv2 | macOS 10.14.6 Mojave / x86_64 | OK | OK | OK | OK |  | ||||||||
| Package: PFP | 
| Version: 1.2.0 | 
| Command: /home/biocbuild/bbs-3.14-bioc/R/bin/R CMD check --install=check:PFP.install-out.txt --library=/home/biocbuild/bbs-3.14-bioc/R/library --no-vignettes --timings PFP_1.2.0.tar.gz | 
| StartedAt: 2022-04-12 08:41:53 -0400 (Tue, 12 Apr 2022) | 
| EndedAt: 2022-04-12 08:45:16 -0400 (Tue, 12 Apr 2022) | 
| EllapsedTime: 202.9 seconds | 
| RetCode: 0 | 
| Status: OK | 
| CheckDir: PFP.Rcheck | 
| Warnings: 0 | 
##############################################################################
##############################################################################
###
### Running command:
###
###   /home/biocbuild/bbs-3.14-bioc/R/bin/R CMD check --install=check:PFP.install-out.txt --library=/home/biocbuild/bbs-3.14-bioc/R/library --no-vignettes --timings PFP_1.2.0.tar.gz
###
##############################################################################
##############################################################################
* using log directory ‘/home/biocbuild/bbs-3.14-bioc/meat/PFP.Rcheck’
* using R version 4.1.3 (2022-03-10)
* using platform: x86_64-pc-linux-gnu (64-bit)
* using session charset: UTF-8
* using option ‘--no-vignettes’
* checking for file ‘PFP/DESCRIPTION’ ... OK
* checking extension type ... Package
* this is package ‘PFP’ version ‘1.2.0’
* package encoding: UTF-8
* checking package namespace information ... OK
* checking package dependencies ... OK
* checking if this is a source package ... OK
* checking if there is a namespace ... OK
* checking for hidden files and directories ... OK
* checking for portable file names ... OK
* checking for sufficient/correct file permissions ... OK
* checking whether package ‘PFP’ can be installed ... OK
* checking installed package size ... OK
* checking package directory ... OK
* checking ‘build’ directory ... OK
* checking DESCRIPTION meta-information ... OK
* checking top-level files ... OK
* checking for left-over files ... OK
* checking index information ... OK
* checking package subdirectories ... OK
* checking R files for non-ASCII characters ... OK
* checking R files for syntax errors ... OK
* checking whether the package can be loaded ... OK
* checking whether the package can be loaded with stated dependencies ... OK
* checking whether the package can be unloaded cleanly ... OK
* checking whether the namespace can be loaded with stated dependencies ... OK
* checking whether the namespace can be unloaded cleanly ... OK
* checking dependencies in R code ... OK
* checking S3 generic/method consistency ... OK
* checking replacement functions ... OK
* checking foreign function calls ... OK
* checking R code for possible problems ... OK
* checking Rd files ... OK
* checking Rd metadata ... OK
* checking Rd cross-references ... OK
* checking for missing documentation entries ... OK
* checking for code/documentation mismatches ... OK
* checking Rd \usage sections ... OK
* checking Rd contents ... OK
* checking for unstated dependencies in examples ... OK
* checking contents of ‘data’ directory ... OK
* checking data for non-ASCII characters ... OK
* checking data for ASCII and uncompressed saves ... OK
* checking files in ‘vignettes’ ... OK
* checking examples ... OK
Examples with CPU (user + system) or elapsed time > 5s
                user system elapsed
calc_PFP_score 10.62  0.296  10.916
* checking for unstated dependencies in ‘tests’ ... OK
* checking tests ...
  Running ‘testthat.R’
 OK
* checking for unstated dependencies in vignettes ... OK
* checking package vignettes in ‘inst/doc’ ... OK
* checking running R code from vignettes ... SKIPPED
* checking re-building of vignette outputs ... SKIPPED
* checking PDF version of manual ... OK
* DONE
Status: OK
PFP.Rcheck/00install.out
############################################################################## ############################################################################## ### ### Running command: ### ### /home/biocbuild/bbs-3.14-bioc/R/bin/R CMD INSTALL PFP ### ############################################################################## ############################################################################## * installing to library ‘/home/biocbuild/bbs-3.14-bioc/R/library’ * installing *source* package ‘PFP’ ... ** using staged installation ** R ** data ** byte-compile and prepare package for lazy loading ** help *** installing help indices ** building package indices ** installing vignettes ** testing if installed package can be loaded from temporary location ** testing if installed package can be loaded from final location ** testing if installed package keeps a record of temporary installation path * DONE (PFP)
PFP.Rcheck/tests/testthat.Rout
R version 4.1.3 (2022-03-10) -- "One Push-Up"
Copyright (C) 2022 The R Foundation for Statistical Computing
Platform: x86_64-pc-linux-gnu (64-bit)
R is free software and comes with ABSOLUTELY NO WARRANTY.
You are welcome to redistribute it under certain conditions.
Type 'license()' or 'licence()' for distribution details.
R is a collaborative project with many contributors.
Type 'contributors()' for more information and
'citation()' on how to cite R or R packages in publications.
Type 'demo()' for some demos, 'help()' for on-line help, or
'help.start()' for an HTML browser interface to help.
Type 'q()' to quit R.
> library(testthat)
> library(PFP)
> test_check('PFP')
[ FAIL 0 | WARN 6 | SKIP 0 | PASS 31 ]
[ FAIL 0 | WARN 6 | SKIP 0 | PASS 31 ]
> 
> proc.time()
   user  system elapsed 
  8.150   0.457   8.595 
PFP.Rcheck/PFP-Ex.timings
| name | user | system | elapsed | |
| PFP-class | 0.140 | 0.004 | 0.144 | |
| PFPRefnet-class | 0.496 | 0.039 | 0.536 | |
| PFPRefnet_hsa | 0.387 | 0.004 | 0.391 | |
| PFPRefnet_mmu | 0.350 | 0.008 | 0.358 | |
| PFP_score-methods | 0.004 | 0.000 | 0.004 | |
| PFP_test1 | 0.004 | 0.000 | 0.004 | |
| PFP_test2 | 0.004 | 0.000 | 0.004 | |
| calc_PFP_score | 10.620 | 0.296 | 10.916 | |
| data_std | 0.007 | 0.003 | 0.010 | |
| gene_list_hsa | 0.001 | 0.001 | 0.000 | |
| genes_score-methods | 0.004 | 0.000 | 0.004 | |
| get_PFPRefnet | 0.000 | 0.000 | 0.001 | |
| get_asso_net | 1.873 | 0.035 | 1.910 | |
| get_bg_related_kegg | 2.367 | 0.107 | 2.476 | |
| get_exp_cor_edges | 0.146 | 0.003 | 0.151 | |
| get_pathway_info | 0.094 | 0.004 | 2.553 | |
| group-methods | 0.275 | 0.000 | 0.275 | |
| kegg_download | 0 | 0 | 0 | |
| net_info-methods | 0.273 | 0.000 | 0.272 | |
| net_names-methods | 0.270 | 0.004 | 0.274 | |
| network-methods | 0.277 | 0.004 | 0.282 | |
| pathway_info | 0.002 | 0.000 | 0.002 | |
| pathway_info_hsa | 0.001 | 0.000 | 0.002 | |
| pathways_score-methods | 0.003 | 0.000 | 0.004 | |
| plot_PFP-methods | 0.216 | 0.004 | 0.220 | |
| plot_PFPlist | 0.169 | 0.000 | 0.169 | |
| rank_PFP-methods | 0.112 | 0.008 | 0.121 | |
| refnet_info-methods | 0.004 | 0.000 | 0.004 | |
| refnet_names-methods | 0.004 | 0.000 | 0.004 | |
| result_PFP-methods | 0.002 | 0.004 | 0.005 | |
| show_PFP-methods | 0.006 | 0.000 | 0.005 | |
| show_net-methods | 0.332 | 0.004 | 0.336 | |
| stats_test-methods | 0.005 | 0.000 | 0.005 | |
| sub_PFP-methods | 0.107 | 0.008 | 0.115 | |
| subnet-methods | 0.284 | 0.004 | 0.288 | |
| trans_edges_id | 1.483 | 0.004 | 1.486 | |
| trans_graph2PFPRefnet | 0.418 | 0.016 | 0.434 | |
| trans_xml2graph | 0.000 | 0.000 | 0.001 | |