| Back to Multiple platform build/check report for BioC 3.14 |
|
This page was generated on 2022-04-13 12:08:31 -0400 (Wed, 13 Apr 2022).
| Hostname | OS | Arch (*) | R version | Installed pkgs |
|---|---|---|---|---|
| nebbiolo2 | Linux (Ubuntu 20.04.4 LTS) | x86_64 | 4.1.3 (2022-03-10) -- "One Push-Up" | 4324 |
| tokay2 | Windows Server 2012 R2 Standard | x64 | 4.1.3 (2022-03-10) -- "One Push-Up" | 4077 |
| machv2 | macOS 10.14.6 Mojave | x86_64 | 4.1.3 (2022-03-10) -- "One Push-Up" | 4137 |
| Click on any hostname to see more info about the system (e.g. compilers) (*) as reported by 'uname -p', except on Windows and Mac OS X | ||||
|
To the developers/maintainers of the PFP package: - Please allow up to 24 hours (and sometimes 48 hours) for your latest push to git@git.bioconductor.org:packages/PFP.git to reflect on this report. See How and When does the builder pull? When will my changes propagate? for more information. - Make sure to use the following settings in order to reproduce any error or warning you see on this page. |
| Package 1401/2083 | Hostname | OS / Arch | INSTALL | BUILD | CHECK | BUILD BIN | ||||||||
| PFP 1.2.0 (landing page) XC Zhang
| nebbiolo2 | Linux (Ubuntu 20.04.4 LTS) / x86_64 | OK | OK | OK | |||||||||
| tokay2 | Windows Server 2012 R2 Standard / x64 | OK | OK | OK | OK | |||||||||
| machv2 | macOS 10.14.6 Mojave / x86_64 | OK | OK | OK | OK | |||||||||
| Package: PFP |
| Version: 1.2.0 |
| Command: /Library/Frameworks/R.framework/Resources/bin/R CMD check --install=check:PFP.install-out.txt --library=/Library/Frameworks/R.framework/Resources/library --no-vignettes --timings PFP_1.2.0.tar.gz |
| StartedAt: 2022-04-12 16:40:17 -0400 (Tue, 12 Apr 2022) |
| EndedAt: 2022-04-12 16:46:12 -0400 (Tue, 12 Apr 2022) |
| EllapsedTime: 355.0 seconds |
| RetCode: 0 |
| Status: OK |
| CheckDir: PFP.Rcheck |
| Warnings: 0 |
##############################################################################
##############################################################################
###
### Running command:
###
### /Library/Frameworks/R.framework/Resources/bin/R CMD check --install=check:PFP.install-out.txt --library=/Library/Frameworks/R.framework/Resources/library --no-vignettes --timings PFP_1.2.0.tar.gz
###
##############################################################################
##############################################################################
* using log directory ‘/Users/biocbuild/bbs-3.14-bioc/meat/PFP.Rcheck’
* using R version 4.1.3 (2022-03-10)
* using platform: x86_64-apple-darwin17.0 (64-bit)
* using session charset: UTF-8
* using option ‘--no-vignettes’
* checking for file ‘PFP/DESCRIPTION’ ... OK
* checking extension type ... Package
* this is package ‘PFP’ version ‘1.2.0’
* package encoding: UTF-8
* checking package namespace information ... OK
* checking package dependencies ... OK
* checking if this is a source package ... OK
* checking if there is a namespace ... OK
* checking for hidden files and directories ... OK
* checking for portable file names ... OK
* checking for sufficient/correct file permissions ... OK
* checking whether package ‘PFP’ can be installed ... OK
* checking installed package size ... OK
* checking package directory ... OK
* checking ‘build’ directory ... OK
* checking DESCRIPTION meta-information ... OK
* checking top-level files ... OK
* checking for left-over files ... OK
* checking index information ... OK
* checking package subdirectories ... OK
* checking R files for non-ASCII characters ... OK
* checking R files for syntax errors ... OK
* checking whether the package can be loaded ... OK
* checking whether the package can be loaded with stated dependencies ... OK
* checking whether the package can be unloaded cleanly ... OK
* checking whether the namespace can be loaded with stated dependencies ... OK
* checking whether the namespace can be unloaded cleanly ... OK
* checking dependencies in R code ... OK
* checking S3 generic/method consistency ... OK
* checking replacement functions ... OK
* checking foreign function calls ... OK
* checking R code for possible problems ... OK
* checking Rd files ... OK
* checking Rd metadata ... OK
* checking Rd cross-references ... OK
* checking for missing documentation entries ... OK
* checking for code/documentation mismatches ... OK
* checking Rd \usage sections ... OK
* checking Rd contents ... OK
* checking for unstated dependencies in examples ... OK
* checking contents of ‘data’ directory ... OK
* checking data for non-ASCII characters ... OK
* checking data for ASCII and uncompressed saves ... OK
* checking files in ‘vignettes’ ... OK
* checking examples ... OK
Examples with CPU (user + system) or elapsed time > 5s
user system elapsed
calc_PFP_score 26.563 0.256 26.857
* checking for unstated dependencies in ‘tests’ ... OK
* checking tests ...
Running ‘testthat.R’
OK
* checking for unstated dependencies in vignettes ... OK
* checking package vignettes in ‘inst/doc’ ... OK
* checking running R code from vignettes ... SKIPPED
* checking re-building of vignette outputs ... SKIPPED
* checking PDF version of manual ... OK
* DONE
Status: OK
PFP.Rcheck/00install.out
############################################################################## ############################################################################## ### ### Running command: ### ### /Library/Frameworks/R.framework/Resources/bin/R CMD INSTALL PFP ### ############################################################################## ############################################################################## * installing to library ‘/Library/Frameworks/R.framework/Versions/4.1/Resources/library’ * installing *source* package ‘PFP’ ... ** using staged installation ** R ** data ** byte-compile and prepare package for lazy loading ** help *** installing help indices ** building package indices ** installing vignettes ** testing if installed package can be loaded from temporary location ** testing if installed package can be loaded from final location ** testing if installed package keeps a record of temporary installation path * DONE (PFP)
PFP.Rcheck/tests/testthat.Rout
R version 4.1.3 (2022-03-10) -- "One Push-Up"
Copyright (C) 2022 The R Foundation for Statistical Computing
Platform: x86_64-apple-darwin17.0 (64-bit)
R is free software and comes with ABSOLUTELY NO WARRANTY.
You are welcome to redistribute it under certain conditions.
Type 'license()' or 'licence()' for distribution details.
R is a collaborative project with many contributors.
Type 'contributors()' for more information and
'citation()' on how to cite R or R packages in publications.
Type 'demo()' for some demos, 'help()' for on-line help, or
'help.start()' for an HTML browser interface to help.
Type 'q()' to quit R.
> library(testthat)
> library(PFP)
> test_check('PFP')
[ FAIL 0 | WARN 6 | SKIP 0 | PASS 31 ]
[ FAIL 0 | WARN 6 | SKIP 0 | PASS 31 ]
>
> proc.time()
user system elapsed
13.161 0.653 13.815
PFP.Rcheck/PFP-Ex.timings
| name | user | system | elapsed | |
| PFP-class | 0.285 | 0.083 | 0.367 | |
| PFPRefnet-class | 0.977 | 0.110 | 1.088 | |
| PFPRefnet_hsa | 0.609 | 0.012 | 0.621 | |
| PFPRefnet_mmu | 0.802 | 0.017 | 0.819 | |
| PFP_score-methods | 0.005 | 0.001 | 0.006 | |
| PFP_test1 | 0.006 | 0.002 | 0.007 | |
| PFP_test2 | 0.008 | 0.002 | 0.009 | |
| calc_PFP_score | 26.563 | 0.256 | 26.857 | |
| data_std | 0.017 | 0.002 | 0.018 | |
| gene_list_hsa | 0.001 | 0.001 | 0.003 | |
| genes_score-methods | 0.004 | 0.001 | 0.006 | |
| get_PFPRefnet | 0.001 | 0.000 | 0.001 | |
| get_asso_net | 4.565 | 0.070 | 4.639 | |
| get_bg_related_kegg | 3.411 | 0.072 | 3.485 | |
| get_exp_cor_edges | 0.184 | 0.009 | 0.193 | |
| get_pathway_info | 0.131 | 0.004 | 1.949 | |
| group-methods | 0.594 | 0.005 | 0.599 | |
| kegg_download | 0.001 | 0.000 | 0.001 | |
| net_info-methods | 0.599 | 0.003 | 0.602 | |
| net_names-methods | 0.458 | 0.002 | 0.460 | |
| network-methods | 0.541 | 0.008 | 0.549 | |
| pathway_info | 0.002 | 0.001 | 0.003 | |
| pathway_info_hsa | 0.001 | 0.001 | 0.003 | |
| pathways_score-methods | 0.006 | 0.001 | 0.007 | |
| plot_PFP-methods | 0.404 | 0.007 | 0.411 | |
| plot_PFPlist | 0.327 | 0.003 | 0.330 | |
| rank_PFP-methods | 0.272 | 0.082 | 0.354 | |
| refnet_info-methods | 0.008 | 0.001 | 0.010 | |
| refnet_names-methods | 0.009 | 0.001 | 0.010 | |
| result_PFP-methods | 0.010 | 0.002 | 0.011 | |
| show_PFP-methods | 0.008 | 0.006 | 0.013 | |
| show_net-methods | 0.634 | 0.003 | 0.637 | |
| stats_test-methods | 0.008 | 0.001 | 0.010 | |
| sub_PFP-methods | 0.212 | 0.070 | 0.283 | |
| subnet-methods | 0.445 | 0.003 | 0.448 | |
| trans_edges_id | 3.053 | 0.039 | 3.098 | |
| trans_graph2PFPRefnet | 0.926 | 0.099 | 1.029 | |
| trans_xml2graph | 0.001 | 0.000 | 0.002 | |