| Back to Multiple platform build/check report for BioC 3.14 |
|
This page was generated on 2022-04-13 12:06:49 -0400 (Wed, 13 Apr 2022).
| Hostname | OS | Arch (*) | R version | Installed pkgs |
|---|---|---|---|---|
| nebbiolo2 | Linux (Ubuntu 20.04.4 LTS) | x86_64 | 4.1.3 (2022-03-10) -- "One Push-Up" | 4324 |
| tokay2 | Windows Server 2012 R2 Standard | x64 | 4.1.3 (2022-03-10) -- "One Push-Up" | 4077 |
| machv2 | macOS 10.14.6 Mojave | x86_64 | 4.1.3 (2022-03-10) -- "One Push-Up" | 4137 |
| Click on any hostname to see more info about the system (e.g. compilers) (*) as reported by 'uname -p', except on Windows and Mac OS X | ||||
|
To the developers/maintainers of the MAGeCKFlute package: - Please allow up to 24 hours (and sometimes 48 hours) for your latest push to git@git.bioconductor.org:packages/MAGeCKFlute.git to reflect on this report. See How and When does the builder pull? When will my changes propagate? for more information. - Make sure to use the following settings in order to reproduce any error or warning you see on this page. |
| Package 1036/2083 | Hostname | OS / Arch | INSTALL | BUILD | CHECK | BUILD BIN | ||||||||
| MAGeCKFlute 1.14.0 (landing page) Wubing Zhang
| nebbiolo2 | Linux (Ubuntu 20.04.4 LTS) / x86_64 | OK | OK | OK | |||||||||
| tokay2 | Windows Server 2012 R2 Standard / x64 | OK | OK | OK | OK | |||||||||
| machv2 | macOS 10.14.6 Mojave / x86_64 | OK | OK | OK | OK | |||||||||
| Package: MAGeCKFlute |
| Version: 1.14.0 |
| Command: rm -rf MAGeCKFlute.buildbin-libdir && mkdir MAGeCKFlute.buildbin-libdir && C:\Users\biocbuild\bbs-3.14-bioc\R\bin\R.exe CMD INSTALL --merge-multiarch --build --library=MAGeCKFlute.buildbin-libdir MAGeCKFlute_1.14.0.tar.gz |
| StartedAt: 2022-04-13 06:30:48 -0400 (Wed, 13 Apr 2022) |
| EndedAt: 2022-04-13 06:31:38 -0400 (Wed, 13 Apr 2022) |
| EllapsedTime: 49.2 seconds |
| RetCode: 0 |
| Status: OK |
| PackageFile: MAGeCKFlute_1.14.0.zip |
| PackageFileSize: 11.45 MiB |
##############################################################################
##############################################################################
###
### Running command:
###
### rm -rf MAGeCKFlute.buildbin-libdir && mkdir MAGeCKFlute.buildbin-libdir && C:\Users\biocbuild\bbs-3.14-bioc\R\bin\R.exe CMD INSTALL --merge-multiarch --build --library=MAGeCKFlute.buildbin-libdir MAGeCKFlute_1.14.0.tar.gz
###
##############################################################################
##############################################################################
install for i386
* installing *source* package 'MAGeCKFlute' ...
** using staged installation
** R
** inst
** byte-compile and prepare package for lazy loading
** help
*** installing help indices
converting help for package 'MAGeCKFlute'
finding HTML links ... done
BarView html
BatchRemove html
ConsistencyView html
CutoffCalling html
DensityDiffView html
DensityView html
EnrichAB html
EnrichAnalyzer html
EnrichSquare html
EnrichedFilter html
EnrichedGeneView html
EnrichedView html
FluteMLE html
REDIRECT:topic Previous alias or file overwritten by alias: C:/Users/biocbuild/bbs-3.14-bioc/meat/MAGeCKFlute.buildbin-libdir/00LOCK-MAGeCKFlute/00new/MAGeCKFlute/help/flutemle.html
FluteRRA html
HeatmapView html
IdentBarView html
IncorporateDepmap html
MAView html
MapRatesView html
NormalizeBeta html
REDIRECT:topic Previous alias or file overwritten by alias: C:/Users/biocbuild/bbs-3.14-bioc/meat/MAGeCKFlute.buildbin-libdir/00LOCK-MAGeCKFlute/00new/MAGeCKFlute/help/normalizebeta.html
OmitCommonEssential html
RankView html
REDIRECT:topic Previous alias or file overwritten by alias: C:/Users/biocbuild/bbs-3.14-bioc/meat/MAGeCKFlute.buildbin-libdir/00LOCK-MAGeCKFlute/00new/MAGeCKFlute/help/rankview.html
ReadBeta html
REDIRECT:topic Previous alias or file overwritten by alias: C:/Users/biocbuild/bbs-3.14-bioc/meat/MAGeCKFlute.buildbin-libdir/00LOCK-MAGeCKFlute/00new/MAGeCKFlute/help/readbeta.html
ReadGMT html
ReadRRA html
REDIRECT:topic Previous alias or file overwritten by alias: C:/Users/biocbuild/bbs-3.14-bioc/meat/MAGeCKFlute.buildbin-libdir/00LOCK-MAGeCKFlute/00new/MAGeCKFlute/help/readrra.html
ReadsgRRA html
ResembleDepmap html
ScatterView html
Selector html
SquareView html
REDIRECT:topic Previous alias or file overwritten by alias: C:/Users/biocbuild/bbs-3.14-bioc/meat/MAGeCKFlute.buildbin-libdir/00LOCK-MAGeCKFlute/00new/MAGeCKFlute/help/squareview.html
TransGeneID html
REDIRECT:topic Previous alias or file overwritten by alias: C:/Users/biocbuild/bbs-3.14-bioc/meat/MAGeCKFlute.buildbin-libdir/00LOCK-MAGeCKFlute/00new/MAGeCKFlute/help/transGeneID.html
ViolinView html
REDIRECT:topic Previous alias or file overwritten by alias: C:/Users/biocbuild/bbs-3.14-bioc/meat/MAGeCKFlute.buildbin-libdir/00LOCK-MAGeCKFlute/00new/MAGeCKFlute/help/violinview.html
VolcanoView html
arrangePathview html
enrich.GSE html
enrich.HGT html
enrich.ORT html
getCols html
getGeneAnn html
getOrg html
getOrtAnn html
gsGetter html
hclustView html
noEnrichPlot html
normalize.loess html
reexports html
retrieve_gs html
sgRankView html
** building package indices
** installing vignettes
** testing if installed package can be loaded from temporary location
** testing if installed package can be loaded from final location
** testing if installed package keeps a record of temporary installation path
install for x64
* installing *source* package 'MAGeCKFlute' ...
** testing if installed package can be loaded
* MD5 sums
packaged installation of 'MAGeCKFlute' as MAGeCKFlute_1.14.0.zip
* DONE (MAGeCKFlute)