| Back to Multiple platform build/check report for BioC 3.14 |
|
This page was generated on 2022-04-13 12:05:33 -0400 (Wed, 13 Apr 2022).
| Hostname | OS | Arch (*) | R version | Installed pkgs |
|---|---|---|---|---|
| nebbiolo2 | Linux (Ubuntu 20.04.4 LTS) | x86_64 | 4.1.3 (2022-03-10) -- "One Push-Up" | 4324 |
| tokay2 | Windows Server 2012 R2 Standard | x64 | 4.1.3 (2022-03-10) -- "One Push-Up" | 4077 |
| machv2 | macOS 10.14.6 Mojave | x86_64 | 4.1.3 (2022-03-10) -- "One Push-Up" | 4137 |
| Click on any hostname to see more info about the system (e.g. compilers) (*) as reported by 'uname -p', except on Windows and Mac OS X | ||||
|
To the developers/maintainers of the MAGeCKFlute package: - Please allow up to 24 hours (and sometimes 48 hours) for your latest push to git@git.bioconductor.org:packages/MAGeCKFlute.git to reflect on this report. See How and When does the builder pull? When will my changes propagate? for more information. - Make sure to use the following settings in order to reproduce any error or warning you see on this page. |
| Package 1036/2083 | Hostname | OS / Arch | INSTALL | BUILD | CHECK | BUILD BIN | ||||||||
| MAGeCKFlute 1.14.0 (landing page) Wubing Zhang
| nebbiolo2 | Linux (Ubuntu 20.04.4 LTS) / x86_64 | OK | OK | OK | |||||||||
| tokay2 | Windows Server 2012 R2 Standard / x64 | OK | OK | OK | OK | |||||||||
| machv2 | macOS 10.14.6 Mojave / x86_64 | OK | OK | OK | OK | |||||||||
| Package: MAGeCKFlute |
| Version: 1.14.0 |
| Command: /home/biocbuild/bbs-3.14-bioc/R/bin/R CMD check --install=check:MAGeCKFlute.install-out.txt --library=/home/biocbuild/bbs-3.14-bioc/R/library --no-vignettes --timings MAGeCKFlute_1.14.0.tar.gz |
| StartedAt: 2022-04-12 08:02:30 -0400 (Tue, 12 Apr 2022) |
| EndedAt: 2022-04-12 08:05:18 -0400 (Tue, 12 Apr 2022) |
| EllapsedTime: 168.2 seconds |
| RetCode: 0 |
| Status: OK |
| CheckDir: MAGeCKFlute.Rcheck |
| Warnings: 0 |
##############################################################################
##############################################################################
###
### Running command:
###
### /home/biocbuild/bbs-3.14-bioc/R/bin/R CMD check --install=check:MAGeCKFlute.install-out.txt --library=/home/biocbuild/bbs-3.14-bioc/R/library --no-vignettes --timings MAGeCKFlute_1.14.0.tar.gz
###
##############################################################################
##############################################################################
* using log directory ‘/home/biocbuild/bbs-3.14-bioc/meat/MAGeCKFlute.Rcheck’
* using R version 4.1.3 (2022-03-10)
* using platform: x86_64-pc-linux-gnu (64-bit)
* using session charset: UTF-8
* using option ‘--no-vignettes’
* checking for file ‘MAGeCKFlute/DESCRIPTION’ ... OK
* checking extension type ... Package
* this is package ‘MAGeCKFlute’ version ‘1.14.0’
* package encoding: UTF-8
* checking package namespace information ... OK
* checking package dependencies ... OK
* checking if this is a source package ... OK
* checking if there is a namespace ... OK
* checking for hidden files and directories ... NOTE
Found the following hidden files and directories:
.travis.yml
These were most likely included in error. See section ‘Package
structure’ in the ‘Writing R Extensions’ manual.
* checking for portable file names ... OK
* checking for sufficient/correct file permissions ... OK
* checking whether package ‘MAGeCKFlute’ can be installed ... OK
* checking installed package size ... NOTE
installed size is 13.9Mb
sub-directories of 1Mb or more:
extdata 13.5Mb
* checking package directory ... OK
* checking ‘build’ directory ... OK
* checking DESCRIPTION meta-information ... OK
* checking top-level files ... OK
* checking for left-over files ... OK
* checking index information ... OK
* checking package subdirectories ... OK
* checking R files for non-ASCII characters ... OK
* checking R files for syntax errors ... OK
* checking whether the package can be loaded ... OK
* checking whether the package can be loaded with stated dependencies ... OK
* checking whether the package can be unloaded cleanly ... OK
* checking whether the namespace can be loaded with stated dependencies ... OK
* checking whether the namespace can be unloaded cleanly ... OK
* checking dependencies in R code ... NOTE
'library' or 'require' call to ‘pathview’ in package code.
Please use :: or requireNamespace() instead.
See section 'Suggested packages' in the 'Writing R Extensions' manual.
* checking S3 generic/method consistency ... OK
* checking replacement functions ... OK
* checking foreign function calls ... OK
* checking R code for possible problems ... NOTE
arrangePathview: no visible global function definition for ‘pathview’
Undefined global functions or variables:
pathview
* checking Rd files ... OK
* checking Rd metadata ... OK
* checking Rd cross-references ... OK
* checking for missing documentation entries ... OK
* checking for code/documentation mismatches ... OK
* checking Rd \usage sections ... OK
* checking Rd contents ... OK
* checking for unstated dependencies in examples ... OK
* checking files in ‘vignettes’ ... OK
* checking examples ... OK
Examples with CPU (user + system) or elapsed time > 5s
user system elapsed
enrich.ORT 5.035 0.09 5.125
* checking for unstated dependencies in vignettes ... OK
* checking package vignettes in ‘inst/doc’ ... OK
* checking running R code from vignettes ... SKIPPED
* checking re-building of vignette outputs ... SKIPPED
* checking PDF version of manual ... OK
* DONE
Status: 4 NOTEs
See
‘/home/biocbuild/bbs-3.14-bioc/meat/MAGeCKFlute.Rcheck/00check.log’
for details.
MAGeCKFlute.Rcheck/00install.out
############################################################################## ############################################################################## ### ### Running command: ### ### /home/biocbuild/bbs-3.14-bioc/R/bin/R CMD INSTALL MAGeCKFlute ### ############################################################################## ############################################################################## * installing to library ‘/home/biocbuild/bbs-3.14-bioc/R/library’ * installing *source* package ‘MAGeCKFlute’ ... ** using staged installation ** R ** inst ** byte-compile and prepare package for lazy loading ** help *** installing help indices ** building package indices ** installing vignettes ** testing if installed package can be loaded from temporary location ** testing if installed package can be loaded from final location ** testing if installed package keeps a record of temporary installation path * DONE (MAGeCKFlute)
MAGeCKFlute.Rcheck/MAGeCKFlute-Ex.timings
| name | user | system | elapsed | |
| BarView | 0.115 | 0.020 | 0.134 | |
| BatchRemove | 2.201 | 0.095 | 2.310 | |
| ConsistencyView | 0.362 | 0.024 | 0.386 | |
| CutoffCalling | 0.004 | 0.000 | 0.003 | |
| DensityDiffView | 0.430 | 0.012 | 0.441 | |
| DensityView | 0.344 | 0.000 | 0.344 | |
| EnrichAnalyzer | 0.012 | 0.000 | 0.011 | |
| EnrichedFilter | 0.008 | 0.000 | 0.008 | |
| EnrichedGeneView | 0.008 | 0.000 | 0.008 | |
| EnrichedView | 0.008 | 0.000 | 0.008 | |
| FluteMLE | 0.000 | 0.000 | 0.001 | |
| FluteRRA | 0.001 | 0.000 | 0.001 | |
| HeatmapView | 0.101 | 0.008 | 0.109 | |
| IdentBarView | 0.111 | 0.000 | 0.112 | |
| IncorporateDepmap | 0.078 | 0.000 | 0.078 | |
| MAView | 2.198 | 0.028 | 2.225 | |
| MapRatesView | 0.280 | 0.012 | 0.291 | |
| NormalizeBeta | 0.290 | 0.012 | 0.302 | |
| OmitCommonEssential | 0.071 | 0.000 | 0.071 | |
| RankView | 0.379 | 0.012 | 0.391 | |
| ReadBeta | 0.071 | 0.000 | 0.071 | |
| ReadGMT | 2.981 | 0.084 | 4.021 | |
| ReadRRA | 0.124 | 0.000 | 0.125 | |
| ReadsgRRA | 0.871 | 0.028 | 0.899 | |
| ResembleDepmap | 0.887 | 0.120 | 1.007 | |
| ScatterView | 0.487 | 0.020 | 0.507 | |
| Selector | 0.242 | 0.004 | 0.247 | |
| SquareView | 0.642 | 0.056 | 0.698 | |
| TransGeneID | 3.741 | 0.144 | 3.886 | |
| ViolinView | 0.637 | 0.044 | 0.681 | |
| VolcanoView | 1.114 | 0.012 | 1.125 | |
| arrangePathview | 0.064 | 0.000 | 0.064 | |
| enrich.GSE | 0.008 | 0.000 | 0.009 | |
| enrich.HGT | 3.461 | 0.142 | 3.602 | |
| enrich.ORT | 5.035 | 0.090 | 5.125 | |
| getCols | 0.003 | 0.004 | 0.006 | |
| getGeneAnn | 0 | 0 | 0 | |
| getOrg | 0.001 | 0.000 | 0.001 | |
| getOrtAnn | 0 | 0 | 0 | |
| gsGetter | 0.441 | 0.000 | 0.441 | |
| hclustView | 0.265 | 0.004 | 0.270 | |
| normalize.loess | 0.282 | 0.003 | 0.285 | |
| sgRankView | 1.081 | 0.024 | 1.105 | |