| Back to Multiple platform build/check report for BioC 3.14 | 
 | 
This page was generated on 2022-04-13 12:06:48 -0400 (Wed, 13 Apr 2022).
| Hostname | OS | Arch (*) | R version | Installed pkgs | 
|---|---|---|---|---|
| nebbiolo2 | Linux (Ubuntu 20.04.4 LTS) | x86_64 | 4.1.3 (2022-03-10) -- "One Push-Up" | 4324 | 
| tokay2 | Windows Server 2012 R2 Standard | x64 | 4.1.3 (2022-03-10) -- "One Push-Up" | 4077 | 
| machv2 | macOS 10.14.6 Mojave | x86_64 | 4.1.3 (2022-03-10) -- "One Push-Up" | 4137 | 
| Click on any hostname to see more info about the system (e.g. compilers) (*) as reported by 'uname -p', except on Windows and Mac OS X | ||||
| To the developers/maintainers of the LowMACA package: - Please allow up to 24 hours (and sometimes 48 hours) for your latest push to git@git.bioconductor.org:packages/LowMACA.git to reflect on this report. See How and When does the builder pull? When will my changes propagate? for more information. - Make sure to use the following settings in order to reproduce any error or warning you see on this page. | 
| Package 1013/2083 | Hostname | OS / Arch | INSTALL | BUILD | CHECK | BUILD BIN | ||||||||
| LowMACA 1.24.0  (landing page) Stefano de Pretis 
 | nebbiolo2 | Linux (Ubuntu 20.04.4 LTS) / x86_64 | OK | OK | OK |  | ||||||||
| tokay2 | Windows Server 2012 R2 Standard / x64 | OK | OK | OK | OK |  | ||||||||
| machv2 | macOS 10.14.6 Mojave / x86_64 | OK | OK | OK | OK |  | ||||||||
| Package: LowMACA | 
| Version: 1.24.0 | 
| Command: C:\cygwin\bin\curl.exe -O http://155.52.207.166/BBS/3.14/bioc/src/contrib/LowMACA_1.24.0.tar.gz && rm -rf LowMACA.buildbin-libdir && mkdir LowMACA.buildbin-libdir && C:\Users\biocbuild\bbs-3.14-bioc\R\bin\R.exe CMD INSTALL --merge-multiarch --build --library=LowMACA.buildbin-libdir LowMACA_1.24.0.tar.gz && C:\Users\biocbuild\bbs-3.14-bioc\R\bin\R.exe CMD INSTALL LowMACA_1.24.0.zip && rm LowMACA_1.24.0.tar.gz LowMACA_1.24.0.zip | 
| StartedAt: 2022-04-12 04:58:56 -0400 (Tue, 12 Apr 2022) | 
| EndedAt: 2022-04-12 05:01:09 -0400 (Tue, 12 Apr 2022) | 
| EllapsedTime: 132.6 seconds | 
| RetCode: 0 | 
| Status: OK | 
##############################################################################
##############################################################################
###
### Running command:
###
###   C:\cygwin\bin\curl.exe -O http://155.52.207.166/BBS/3.14/bioc/src/contrib/LowMACA_1.24.0.tar.gz && rm -rf LowMACA.buildbin-libdir && mkdir LowMACA.buildbin-libdir && C:\Users\biocbuild\bbs-3.14-bioc\R\bin\R.exe CMD INSTALL --merge-multiarch --build --library=LowMACA.buildbin-libdir LowMACA_1.24.0.tar.gz && C:\Users\biocbuild\bbs-3.14-bioc\R\bin\R.exe CMD INSTALL LowMACA_1.24.0.zip && rm LowMACA_1.24.0.tar.gz LowMACA_1.24.0.zip
###
##############################################################################
##############################################################################
  % Total    % Received % Xferd  Average Speed   Time    Time     Time  Current
                                 Dload  Upload   Total   Spent    Left  Speed
  0     0    0     0    0     0      0      0 --:--:-- --:--:-- --:--:--     0
  1  110k    1  1139    0     0  13794      0  0:00:08 --:--:--  0:00:08 13722
100  110k  100  110k    0     0   575k      0 --:--:-- --:--:-- --:--:--  574k
install for i386
* installing *source* package 'LowMACA' ...
** using staged installation
** R
** data
** inst
** byte-compile and prepare package for lazy loading
** help
*** installing help indices
  converting help for package 'LowMACA'
    finding HTML links ... done
    BLOSUM62                                html  
    LowMACA-class                           html  
    LowMACA-package                         html  
    LowMACA_AML                             html  
    alignSequences                          html  
    allPfamAnalysis                         html  
    bpAll                                   html  
    entropy                                 html  
    getMutations                            html  
    lfm                                     html  
    lfmSingleSequence                       html  
    lmAlignment                             html  
    lmEntropy                               html  
    lmMutations                             html  
    lmObj                                   html  
    lmParams                                html  
    lmPlot                                  html  
    lmPlotSingleSequence                    html  
    mapMutations                            html  
    newLowMACA                              html  
    nullProfile                             html  
    parallelize                             html  
    protter                                 html  
    setup                                   html  
    showTumorType                           html  
** building package indices
** installing vignettes
** testing if installed package can be loaded from temporary location
Checking if clustalo is in the PATH...
Checking clustalo Version...
Checking perl installation...
Checking perl modules XML::Simple and LWP...
** testing if installed package can be loaded from final location
Checking if clustalo is in the PATH...
Checking clustalo Version...
Checking perl installation...
Checking perl modules XML::Simple and LWP...
** testing if installed package keeps a record of temporary installation path
install for x64
* installing *source* package 'LowMACA' ...
** testing if installed package can be loaded
Checking if clustalo is in the PATH...
Checking clustalo Version...
Checking perl installation...
Checking perl modules XML::Simple and LWP...
* MD5 sums
packaged installation of 'LowMACA' as LowMACA_1.24.0.zip
* DONE (LowMACA)
* installing to library 'C:/Users/biocbuild/bbs-3.14-bioc/R/library'
package 'LowMACA' successfully unpacked and MD5 sums checked