| Back to Multiple platform build/check report for BioC 3.14 |
|
This page was generated on 2022-04-13 12:08:14 -0400 (Wed, 13 Apr 2022).
| Hostname | OS | Arch (*) | R version | Installed pkgs |
|---|---|---|---|---|
| nebbiolo2 | Linux (Ubuntu 20.04.4 LTS) | x86_64 | 4.1.3 (2022-03-10) -- "One Push-Up" | 4324 |
| tokay2 | Windows Server 2012 R2 Standard | x64 | 4.1.3 (2022-03-10) -- "One Push-Up" | 4077 |
| machv2 | macOS 10.14.6 Mojave | x86_64 | 4.1.3 (2022-03-10) -- "One Push-Up" | 4137 |
| Click on any hostname to see more info about the system (e.g. compilers) (*) as reported by 'uname -p', except on Windows and Mac OS X | ||||
|
To the developers/maintainers of the LowMACA package: - Please allow up to 24 hours (and sometimes 48 hours) for your latest push to git@git.bioconductor.org:packages/LowMACA.git to reflect on this report. See How and When does the builder pull? When will my changes propagate? for more information. - Make sure to use the following settings in order to reproduce any error or warning you see on this page. |
| Package 1013/2083 | Hostname | OS / Arch | INSTALL | BUILD | CHECK | BUILD BIN | ||||||||
| LowMACA 1.24.0 (landing page) Stefano de Pretis
| nebbiolo2 | Linux (Ubuntu 20.04.4 LTS) / x86_64 | OK | OK | OK | |||||||||
| tokay2 | Windows Server 2012 R2 Standard / x64 | OK | OK | OK | OK | |||||||||
| machv2 | macOS 10.14.6 Mojave / x86_64 | OK | OK | OK | OK | |||||||||
| Package: LowMACA |
| Version: 1.24.0 |
| Command: /Library/Frameworks/R.framework/Resources/bin/R CMD check --install=check:LowMACA.install-out.txt --library=/Library/Frameworks/R.framework/Resources/library --no-vignettes --timings LowMACA_1.24.0.tar.gz |
| StartedAt: 2022-04-12 14:51:33 -0400 (Tue, 12 Apr 2022) |
| EndedAt: 2022-04-12 15:01:47 -0400 (Tue, 12 Apr 2022) |
| EllapsedTime: 613.9 seconds |
| RetCode: 0 |
| Status: OK |
| CheckDir: LowMACA.Rcheck |
| Warnings: 0 |
##############################################################################
##############################################################################
###
### Running command:
###
### /Library/Frameworks/R.framework/Resources/bin/R CMD check --install=check:LowMACA.install-out.txt --library=/Library/Frameworks/R.framework/Resources/library --no-vignettes --timings LowMACA_1.24.0.tar.gz
###
##############################################################################
##############################################################################
* using log directory ‘/Users/biocbuild/bbs-3.14-bioc/meat/LowMACA.Rcheck’
* using R version 4.1.3 (2022-03-10)
* using platform: x86_64-apple-darwin17.0 (64-bit)
* using session charset: UTF-8
* using option ‘--no-vignettes’
* checking for file ‘LowMACA/DESCRIPTION’ ... OK
* checking extension type ... Package
* this is package ‘LowMACA’ version ‘1.24.0’
* checking package namespace information ... OK
* checking package dependencies ... OK
* checking if this is a source package ... OK
* checking if there is a namespace ... OK
* checking for hidden files and directories ... OK
* checking for portable file names ... OK
* checking for sufficient/correct file permissions ... OK
* checking whether package ‘LowMACA’ can be installed ... OK
* checking installed package size ... OK
* checking package directory ... OK
* checking ‘build’ directory ... OK
* checking DESCRIPTION meta-information ... OK
* checking top-level files ... OK
* checking for left-over files ... OK
* checking index information ... OK
* checking package subdirectories ... OK
* checking R files for non-ASCII characters ... OK
* checking R files for syntax errors ... OK
* checking whether the package can be loaded ... OK
* checking whether the package can be loaded with stated dependencies ... OK
* checking whether the package can be unloaded cleanly ... OK
* checking whether the namespace can be loaded with stated dependencies ... OK
* checking whether the namespace can be unloaded cleanly ... OK
* checking dependencies in R code ... OK
* checking S3 generic/method consistency ... OK
* checking replacement functions ... OK
* checking foreign function calls ... OK
* checking R code for possible problems ... OK
* checking Rd files ... OK
* checking Rd metadata ... OK
* checking Rd cross-references ... OK
* checking for missing documentation entries ... OK
* checking for code/documentation mismatches ... OK
* checking Rd \usage sections ... OK
* checking Rd contents ... OK
* checking for unstated dependencies in examples ... OK
* checking contents of ‘data’ directory ... OK
* checking data for non-ASCII characters ... OK
* checking data for ASCII and uncompressed saves ... OK
* checking files in ‘vignettes’ ... OK
* checking examples ... OK
Examples with CPU (user + system) or elapsed time > 5s
user system elapsed
allPfamAnalysis 193.504 3.056 197.205
lfmSingleSequence 103.160 1.515 104.957
setup 15.215 2.174 50.144
LowMACA-class 13.608 0.321 25.264
LowMACA-package 10.424 0.281 17.291
alignSequences 7.239 2.131 16.387
getMutations 2.918 0.043 5.869
* checking for unstated dependencies in vignettes ... OK
* checking package vignettes in ‘inst/doc’ ... OK
* checking running R code from vignettes ... SKIPPED
* checking re-building of vignette outputs ... SKIPPED
* checking PDF version of manual ... OK
* DONE
Status: OK
LowMACA.Rcheck/00install.out
############################################################################## ############################################################################## ### ### Running command: ### ### /Library/Frameworks/R.framework/Resources/bin/R CMD INSTALL LowMACA ### ############################################################################## ############################################################################## * installing to library ‘/Library/Frameworks/R.framework/Versions/4.1/Resources/library’ * installing *source* package ‘LowMACA’ ... ** using staged installation ** R ** data ** inst ** byte-compile and prepare package for lazy loading ** help *** installing help indices ** building package indices ** installing vignettes ** testing if installed package can be loaded from temporary location Checking if clustalo is in the PATH... Checking clustalo Version... Checking perl installation... Checking perl modules XML::Simple and LWP... ** testing if installed package can be loaded from final location Checking if clustalo is in the PATH... Checking clustalo Version... Checking perl installation... Checking perl modules XML::Simple and LWP... ** testing if installed package keeps a record of temporary installation path * DONE (LowMACA)
LowMACA.Rcheck/LowMACA-Ex.timings
| name | user | system | elapsed | |
| BLOSUM62 | 0.014 | 0.003 | 0.017 | |
| LowMACA-class | 13.608 | 0.321 | 25.264 | |
| LowMACA-package | 10.424 | 0.281 | 17.291 | |
| LowMACA_AML | 0.029 | 0.003 | 0.032 | |
| alignSequences | 7.239 | 2.131 | 16.387 | |
| allPfamAnalysis | 193.504 | 3.056 | 197.205 | |
| bpAll | 1.511 | 0.025 | 1.538 | |
| entropy | 1.458 | 0.017 | 1.476 | |
| getMutations | 2.918 | 0.043 | 5.869 | |
| lfm | 2.527 | 0.029 | 2.561 | |
| lfmSingleSequence | 103.160 | 1.515 | 104.957 | |
| lmAlignment | 0.050 | 0.006 | 0.057 | |
| lmEntropy | 1.501 | 0.032 | 1.538 | |
| lmMutations | 0.055 | 0.007 | 0.061 | |
| lmObj | 0.137 | 0.015 | 0.153 | |
| lmParams | 0.741 | 0.031 | 0.787 | |
| lmPlot | 4.717 | 0.050 | 4.776 | |
| lmPlotSingleSequence | 4.773 | 0.057 | 4.845 | |
| mapMutations | 0.718 | 0.006 | 0.725 | |
| newLowMACA | 3.794 | 0.040 | 3.837 | |
| nullProfile | 1.543 | 0.019 | 1.563 | |
| parallelize | 0.746 | 0.006 | 0.754 | |
| protter | 1.349 | 0.018 | 3.274 | |
| setup | 15.215 | 2.174 | 50.144 | |
| showTumorType | 0.085 | 0.011 | 0.148 | |