| Back to Multiple platform build/check report for BioC 3.14 |
|
This page was generated on 2022-04-13 12:06:45 -0400 (Wed, 13 Apr 2022).
| Hostname | OS | Arch (*) | R version | Installed pkgs |
|---|---|---|---|---|
| nebbiolo2 | Linux (Ubuntu 20.04.4 LTS) | x86_64 | 4.1.3 (2022-03-10) -- "One Push-Up" | 4324 |
| tokay2 | Windows Server 2012 R2 Standard | x64 | 4.1.3 (2022-03-10) -- "One Push-Up" | 4077 |
| machv2 | macOS 10.14.6 Mojave | x86_64 | 4.1.3 (2022-03-10) -- "One Push-Up" | 4137 |
| Click on any hostname to see more info about the system (e.g. compilers) (*) as reported by 'uname -p', except on Windows and Mac OS X | ||||
|
To the developers/maintainers of the IntEREst package: - Please allow up to 24 hours (and sometimes 48 hours) for your latest push to git@git.bioconductor.org:packages/IntEREst.git to reflect on this report. See How and When does the builder pull? When will my changes propagate? for more information. - Make sure to use the following settings in order to reproduce any error or warning you see on this page. |
| Package 945/2083 | Hostname | OS / Arch | INSTALL | BUILD | CHECK | BUILD BIN | ||||||||
| IntEREst 1.18.0 (landing page) Ali Oghabian
| nebbiolo2 | Linux (Ubuntu 20.04.4 LTS) / x86_64 | OK | OK | OK | |||||||||
| tokay2 | Windows Server 2012 R2 Standard / x64 | OK | OK | OK | OK | |||||||||
| machv2 | macOS 10.14.6 Mojave / x86_64 | OK | OK | OK | OK | |||||||||
| Package: IntEREst |
| Version: 1.18.0 |
| Command: rm -rf IntEREst.buildbin-libdir && mkdir IntEREst.buildbin-libdir && C:\Users\biocbuild\bbs-3.14-bioc\R\bin\R.exe CMD INSTALL --merge-multiarch --build --library=IntEREst.buildbin-libdir IntEREst_1.18.0.tar.gz |
| StartedAt: 2022-04-13 06:27:23 -0400 (Wed, 13 Apr 2022) |
| EndedAt: 2022-04-13 06:28:36 -0400 (Wed, 13 Apr 2022) |
| EllapsedTime: 72.8 seconds |
| RetCode: 0 |
| Status: OK |
| PackageFile: IntEREst_1.18.0.zip |
| PackageFileSize: 2.066 MiB |
##############################################################################
##############################################################################
###
### Running command:
###
### rm -rf IntEREst.buildbin-libdir && mkdir IntEREst.buildbin-libdir && C:\Users\biocbuild\bbs-3.14-bioc\R\bin\R.exe CMD INSTALL --merge-multiarch --build --library=IntEREst.buildbin-libdir IntEREst_1.18.0.tar.gz
###
##############################################################################
##############################################################################
install for i386
* installing *source* package 'IntEREst' ...
** using staged installation
** R
** data
*** moving datasets to lazyload DB
** inst
** byte-compile and prepare package for lazy loading
** help
*** installing help indices
converting help for package 'IntEREst'
finding HTML links ... done
DEXSeqIntEREst html
IntEREst-package html
addAnnotation html
annotateU12 html
applyOverlap html
attributes html
boxplot-method html
buildSsTypePwms html
counts-method html
deseqInterest html
exactTestInterest html
getRepeatTable html
glmInterest html
interest html
REDIRECT:topic Previous alias or file overwritten by alias: C:/Users/biocbuild/bbs-3.14-bioc/meat/IntEREst.buildbin-libdir/00LOCK-IntEREst/00new/IntEREst/help/interest.html
interest.sequential html
interestResult html
interestResultIntEx html
intexIndex html
lfc html
mdsChr22ExObj html
mdsChr22IntSpObj html
mdsChr22Obj html
mergeInterestResult html
plot-method html
psi html
pwmU12db html
qlfInterest html
readInterestResults html
referencePrepare html
subInterestResult html
treatInterest html
u12 html
u12Boxplot html
u12BoxplotNb html
u12DensityPlot html
u12Index html
u12NbIndex html
unionRefTr html
updateRowDataCol html
** building package indices
** installing vignettes
** testing if installed package can be loaded from temporary location
** testing if installed package can be loaded from final location
** testing if installed package keeps a record of temporary installation path
install for x64
* installing *source* package 'IntEREst' ...
** testing if installed package can be loaded
* MD5 sums
packaged installation of 'IntEREst' as IntEREst_1.18.0.zip
* DONE (IntEREst)