| Back to Multiple platform build/check report for BioC 3.14 |
|
This page was generated on 2022-04-13 12:08:12 -0400 (Wed, 13 Apr 2022).
| Hostname | OS | Arch (*) | R version | Installed pkgs |
|---|---|---|---|---|
| nebbiolo2 | Linux (Ubuntu 20.04.4 LTS) | x86_64 | 4.1.3 (2022-03-10) -- "One Push-Up" | 4324 |
| tokay2 | Windows Server 2012 R2 Standard | x64 | 4.1.3 (2022-03-10) -- "One Push-Up" | 4077 |
| machv2 | macOS 10.14.6 Mojave | x86_64 | 4.1.3 (2022-03-10) -- "One Push-Up" | 4137 |
| Click on any hostname to see more info about the system (e.g. compilers) (*) as reported by 'uname -p', except on Windows and Mac OS X | ||||
|
To the developers/maintainers of the IntEREst package: - Please allow up to 24 hours (and sometimes 48 hours) for your latest push to git@git.bioconductor.org:packages/IntEREst.git to reflect on this report. See How and When does the builder pull? When will my changes propagate? for more information. - Make sure to use the following settings in order to reproduce any error or warning you see on this page. |
| Package 945/2083 | Hostname | OS / Arch | INSTALL | BUILD | CHECK | BUILD BIN | ||||||||
| IntEREst 1.18.0 (landing page) Ali Oghabian
| nebbiolo2 | Linux (Ubuntu 20.04.4 LTS) / x86_64 | OK | OK | OK | |||||||||
| tokay2 | Windows Server 2012 R2 Standard / x64 | OK | OK | OK | OK | |||||||||
| machv2 | macOS 10.14.6 Mojave / x86_64 | OK | OK | OK | OK | |||||||||
| Package: IntEREst |
| Version: 1.18.0 |
| Command: /Library/Frameworks/R.framework/Resources/bin/R CMD check --install=check:IntEREst.install-out.txt --library=/Library/Frameworks/R.framework/Resources/library --no-vignettes --timings IntEREst_1.18.0.tar.gz |
| StartedAt: 2022-04-12 14:32:27 -0400 (Tue, 12 Apr 2022) |
| EndedAt: 2022-04-12 14:40:47 -0400 (Tue, 12 Apr 2022) |
| EllapsedTime: 500.2 seconds |
| RetCode: 0 |
| Status: OK |
| CheckDir: IntEREst.Rcheck |
| Warnings: 0 |
##############################################################################
##############################################################################
###
### Running command:
###
### /Library/Frameworks/R.framework/Resources/bin/R CMD check --install=check:IntEREst.install-out.txt --library=/Library/Frameworks/R.framework/Resources/library --no-vignettes --timings IntEREst_1.18.0.tar.gz
###
##############################################################################
##############################################################################
* using log directory ‘/Users/biocbuild/bbs-3.14-bioc/meat/IntEREst.Rcheck’
* using R version 4.1.3 (2022-03-10)
* using platform: x86_64-apple-darwin17.0 (64-bit)
* using session charset: UTF-8
* using option ‘--no-vignettes’
* checking for file ‘IntEREst/DESCRIPTION’ ... OK
* this is package ‘IntEREst’ version ‘1.18.0’
* checking package namespace information ... OK
* checking package dependencies ... OK
* checking if this is a source package ... OK
* checking if there is a namespace ... OK
* checking for hidden files and directories ... OK
* checking for portable file names ... OK
* checking for sufficient/correct file permissions ... OK
* checking whether package ‘IntEREst’ can be installed ... OK
* checking installed package size ... OK
* checking package directory ... OK
* checking ‘build’ directory ... OK
* checking DESCRIPTION meta-information ... OK
* checking top-level files ... OK
* checking for left-over files ... OK
* checking index information ... OK
* checking package subdirectories ... OK
* checking R files for non-ASCII characters ... OK
* checking R files for syntax errors ... OK
* checking whether the package can be loaded ... OK
* checking whether the package can be loaded with stated dependencies ... OK
* checking whether the package can be unloaded cleanly ... OK
* checking whether the namespace can be loaded with stated dependencies ... OK
* checking whether the namespace can be unloaded cleanly ... OK
* checking dependencies in R code ... OK
* checking S3 generic/method consistency ... OK
* checking replacement functions ... OK
* checking foreign function calls ... OK
* checking R code for possible problems ... OK
* checking Rd files ... OK
* checking Rd metadata ... OK
* checking Rd cross-references ... OK
* checking for missing documentation entries ... OK
* checking for code/documentation mismatches ... OK
* checking Rd \usage sections ... OK
* checking Rd contents ... OK
* checking for unstated dependencies in examples ... OK
* checking contents of ‘data’ directory ... OK
* checking data for non-ASCII characters ... OK
* checking LazyData ... OK
* checking data for ASCII and uncompressed saves ... OK
* checking files in ‘vignettes’ ... OK
* checking examples ... OK
Examples with CPU (user + system) or elapsed time > 5s
user system elapsed
DEXSeqIntEREst 55.371 0.368 55.802
deseqInterest 15.019 0.181 15.212
annotateU12 5.427 0.104 5.540
* checking for unstated dependencies in vignettes ... OK
* checking package vignettes in ‘inst/doc’ ... OK
* checking running R code from vignettes ... SKIPPED
* checking re-building of vignette outputs ... SKIPPED
* checking PDF version of manual ... OK
* DONE
Status: OK
IntEREst.Rcheck/00install.out
############################################################################## ############################################################################## ### ### Running command: ### ### /Library/Frameworks/R.framework/Resources/bin/R CMD INSTALL IntEREst ### ############################################################################## ############################################################################## * installing to library ‘/Library/Frameworks/R.framework/Versions/4.1/Resources/library’ * installing *source* package ‘IntEREst’ ... ** using staged installation ** R ** data *** moving datasets to lazyload DB ** inst ** byte-compile and prepare package for lazy loading ** help *** installing help indices ** building package indices ** installing vignettes ** testing if installed package can be loaded from temporary location ** testing if installed package can be loaded from final location ** testing if installed package keeps a record of temporary installation path * DONE (IntEREst)
IntEREst.Rcheck/IntEREst-Ex.timings
| name | user | system | elapsed | |
| DEXSeqIntEREst | 55.371 | 0.368 | 55.802 | |
| addAnnotation | 0.064 | 0.002 | 0.065 | |
| annotateU12 | 5.427 | 0.104 | 5.540 | |
| applyOverlap | 0.389 | 0.002 | 0.390 | |
| attributes | 0.046 | 0.003 | 0.049 | |
| boxplot-method | 0.142 | 0.001 | 0.143 | |
| buildSsTypePwms | 0.001 | 0.000 | 0.001 | |
| counts-method | 0.070 | 0.003 | 0.073 | |
| deseqInterest | 15.019 | 0.181 | 15.212 | |
| exactTestInterest | 0.194 | 0.005 | 0.199 | |
| getRepeatTable | 0.000 | 0.000 | 0.001 | |
| glmInterest | 0.211 | 0.005 | 0.217 | |
| interest | 2.761 | 0.023 | 2.786 | |
| interest.sequential | 2.741 | 0.026 | 2.777 | |
| interestResult | 0.052 | 0.002 | 0.054 | |
| interestResultIntEx | 0.356 | 0.002 | 0.358 | |
| intexIndex | 0.011 | 0.000 | 0.011 | |
| lfc | 0.329 | 0.012 | 0.342 | |
| mergeInterestResult | 0.176 | 0.002 | 0.179 | |
| plot-method | 0.617 | 0.006 | 0.625 | |
| psi | 1.585 | 0.024 | 1.611 | |
| qlfInterest | 0.252 | 0.011 | 0.263 | |
| readInterestResults | 0.059 | 0.004 | 0.063 | |
| referencePrepare | 1.899 | 0.008 | 1.909 | |
| subInterestResult | 0.084 | 0.002 | 0.086 | |
| treatInterest | 0.190 | 0.010 | 0.201 | |
| u12Boxplot | 0.203 | 0.002 | 0.205 | |
| u12BoxplotNb | 0.256 | 0.003 | 0.260 | |
| u12DensityPlot | 0.421 | 0.013 | 0.434 | |
| u12Index | 0.014 | 0.000 | 0.014 | |
| u12NbIndex | 0.111 | 0.001 | 0.113 | |
| unionRefTr | 0.016 | 0.001 | 0.017 | |
| updateRowDataCol | 0.062 | 0.001 | 0.063 | |