| Back to Multiple platform build/check report for BioC 3.14 |
|
This page was generated on 2022-04-13 12:06:36 -0400 (Wed, 13 Apr 2022).
| Hostname | OS | Arch (*) | R version | Installed pkgs |
|---|---|---|---|---|
| nebbiolo2 | Linux (Ubuntu 20.04.4 LTS) | x86_64 | 4.1.3 (2022-03-10) -- "One Push-Up" | 4324 |
| tokay2 | Windows Server 2012 R2 Standard | x64 | 4.1.3 (2022-03-10) -- "One Push-Up" | 4077 |
| machv2 | macOS 10.14.6 Mojave | x86_64 | 4.1.3 (2022-03-10) -- "One Push-Up" | 4137 |
| Click on any hostname to see more info about the system (e.g. compilers) (*) as reported by 'uname -p', except on Windows and Mac OS X | ||||
|
To the developers/maintainers of the GeneAnswers package: - Please allow up to 24 hours (and sometimes 48 hours) for your latest push to git@git.bioconductor.org:packages/GeneAnswers.git to reflect on this report. See How and When does the builder pull? When will my changes propagate? for more information. - Make sure to use the following settings in order to reproduce any error or warning you see on this page. |
| Package 717/2083 | Hostname | OS / Arch | INSTALL | BUILD | CHECK | BUILD BIN | ||||||||
Lei Huang
| nebbiolo2 | Linux (Ubuntu 20.04.4 LTS) / x86_64 | OK | OK | WARNINGS | |||||||||
| tokay2 | Windows Server 2012 R2 Standard / x64 | OK | OK | WARNINGS | OK | |||||||||
| machv2 | macOS 10.14.6 Mojave / x86_64 | OK | OK | TIMEOUT | OK | |||||||||
| Package: GeneAnswers |
| Version: 2.36.0 |
| Command: rm -rf GeneAnswers.buildbin-libdir && mkdir GeneAnswers.buildbin-libdir && C:\Users\biocbuild\bbs-3.14-bioc\R\bin\R.exe CMD INSTALL --merge-multiarch --build --library=GeneAnswers.buildbin-libdir GeneAnswers_2.36.0.tar.gz |
| StartedAt: 2022-04-13 06:16:46 -0400 (Wed, 13 Apr 2022) |
| EndedAt: 2022-04-13 06:17:59 -0400 (Wed, 13 Apr 2022) |
| EllapsedTime: 72.2 seconds |
| RetCode: 0 |
| Status: OK |
| PackageFile: GeneAnswers_2.36.0.zip |
| PackageFileSize: 32.34 MiB |
##############################################################################
##############################################################################
###
### Running command:
###
### rm -rf GeneAnswers.buildbin-libdir && mkdir GeneAnswers.buildbin-libdir && C:\Users\biocbuild\bbs-3.14-bioc\R\bin\R.exe CMD INSTALL --merge-multiarch --build --library=GeneAnswers.buildbin-libdir GeneAnswers_2.36.0.tar.gz
###
##############################################################################
##############################################################################
install for i386
* installing *source* package 'GeneAnswers' ...
** using staged installation
** R
** data
** inst
** byte-compile and prepare package for lazy loading
Warning: replacing previous import 'stats::decompose' by 'igraph::decompose' when loading 'GeneAnswers'
Warning: replacing previous import 'stats::spectrum' by 'igraph::spectrum' when loading 'GeneAnswers'
** help
*** installing help indices
converting help for package 'GeneAnswers'
finding HTML links ... done
DO html
DOLite html
DOLiteTerm html
DmIALite html
GeneAnswers-class html
GeneAnswers-package html
HsIALite html
MmIALite html
RnIALite html
buildNet html
caBIO.PATHGenes html
caBIO2entrez html
categoryNet html
chartPlots html
drawTable html
entrez2caBIO html
geneAnnotationHeatmap html
geneAnswersBuilder html
geneAnswersChartPlots html
geneAnswersConceptNet html
geneAnswersConceptRelation html
geneAnswersConcepts html
geneAnswersHeatmap html
geneAnswersHomoMapping html
geneAnswersReadable html
geneAnswersSort html
geneConceptNet html
getCategoryList html
getCategoryTerms html
getConceptTable html
getConnectedGraph html
getDOLiteTerms html
getGOList html
getHomoGeneIDs html
getListGIF html
getMultiLayerGraphIDs html
getNextGOIDs html
getPATHList html
getPATHTerms html
getREACTOMEPATHList html
getREACTOMEPATHTerms html
getSingleLayerGraphIDs html
getSymbols html
getTotalGeneNumber html
getcaBIOPATHList html
getcaBIOPATHTerms html
groupReport html
humanExpr html
humanGeneInput html
mouseExpr html
mouseGeneInput html
sampleGroupsData html
searchEntrez html
topCategory html
topCategoryGenes html
topDOLITE html
topDOLITEGenes html
topGO html
topGOGenes html
topPATH html
topPATHGenes html
topREACTOME.PATH html
topREACTOME.PATHGenes html
topcaBIO.PATH html
** building package indices
** installing vignettes
** testing if installed package can be loaded from temporary location
Warning: replacing previous import 'stats::decompose' by 'igraph::decompose' when loading 'GeneAnswers'
Warning: replacing previous import 'stats::spectrum' by 'igraph::spectrum' when loading 'GeneAnswers'
Warning: Package 'GeneAnswers' is deprecated and will be removed from
Bioconductor version 3.15
** testing if installed package can be loaded from final location
Warning: replacing previous import 'stats::decompose' by 'igraph::decompose' when loading 'GeneAnswers'
Warning: replacing previous import 'stats::spectrum' by 'igraph::spectrum' when loading 'GeneAnswers'
Warning: Package 'GeneAnswers' is deprecated and will be removed from
Bioconductor version 3.15
** testing if installed package keeps a record of temporary installation path
install for x64
* installing *source* package 'GeneAnswers' ...
** testing if installed package can be loaded
Warning: replacing previous import 'stats::decompose' by 'igraph::decompose' when loading 'GeneAnswers'
Warning: replacing previous import 'stats::spectrum' by 'igraph::spectrum' when loading 'GeneAnswers'
Warning: Package 'GeneAnswers' is deprecated and will be removed from
Bioconductor version 3.15
* MD5 sums
packaged installation of 'GeneAnswers' as GeneAnswers_2.36.0.zip
* DONE (GeneAnswers)