| Back to Multiple platform build/check report for BioC 3.14 |
|
This page was generated on 2022-04-13 12:05:15 -0400 (Wed, 13 Apr 2022).
| Hostname | OS | Arch (*) | R version | Installed pkgs |
|---|---|---|---|---|
| nebbiolo2 | Linux (Ubuntu 20.04.4 LTS) | x86_64 | 4.1.3 (2022-03-10) -- "One Push-Up" | 4324 |
| tokay2 | Windows Server 2012 R2 Standard | x64 | 4.1.3 (2022-03-10) -- "One Push-Up" | 4077 |
| machv2 | macOS 10.14.6 Mojave | x86_64 | 4.1.3 (2022-03-10) -- "One Push-Up" | 4137 |
| Click on any hostname to see more info about the system (e.g. compilers) (*) as reported by 'uname -p', except on Windows and Mac OS X | ||||
|
To the developers/maintainers of the DAPAR package: - Please allow up to 24 hours (and sometimes 48 hours) for your latest push to git@git.bioconductor.org:packages/DAPAR.git to reflect on this report. See How and When does the builder pull? When will my changes propagate? for more information. - Make sure to use the following settings in order to reproduce any error or warning you see on this page. |
| Package 450/2083 | Hostname | OS / Arch | INSTALL | BUILD | CHECK | BUILD BIN | ||||||||
| DAPAR 1.26.1 (landing page) Samuel Wieczorek
| nebbiolo2 | Linux (Ubuntu 20.04.4 LTS) / x86_64 | OK | OK | OK | |||||||||
| tokay2 | Windows Server 2012 R2 Standard / x64 | OK | OK | OK | OK | |||||||||
| machv2 | macOS 10.14.6 Mojave / x86_64 | OK | OK | OK | OK | |||||||||
| Package: DAPAR |
| Version: 1.26.1 |
| Command: /home/biocbuild/bbs-3.14-bioc/R/bin/R CMD check --install=check:DAPAR.install-out.txt --library=/home/biocbuild/bbs-3.14-bioc/R/library --no-vignettes --timings DAPAR_1.26.1.tar.gz |
| StartedAt: 2022-04-12 07:03:05 -0400 (Tue, 12 Apr 2022) |
| EndedAt: 2022-04-12 07:07:28 -0400 (Tue, 12 Apr 2022) |
| EllapsedTime: 262.5 seconds |
| RetCode: 0 |
| Status: OK |
| CheckDir: DAPAR.Rcheck |
| Warnings: 0 |
##############################################################################
##############################################################################
###
### Running command:
###
### /home/biocbuild/bbs-3.14-bioc/R/bin/R CMD check --install=check:DAPAR.install-out.txt --library=/home/biocbuild/bbs-3.14-bioc/R/library --no-vignettes --timings DAPAR_1.26.1.tar.gz
###
##############################################################################
##############################################################################
* using log directory ‘/home/biocbuild/bbs-3.14-bioc/meat/DAPAR.Rcheck’
* using R version 4.1.3 (2022-03-10)
* using platform: x86_64-pc-linux-gnu (64-bit)
* using session charset: UTF-8
* using option ‘--no-vignettes’
* checking for file ‘DAPAR/DESCRIPTION’ ... OK
* checking extension type ... Package
* this is package ‘DAPAR’ version ‘1.26.1’
* package encoding: UTF-8
* checking package namespace information ... OK
* checking package dependencies ... OK
* checking if this is a source package ... OK
* checking if there is a namespace ... OK
* checking for hidden files and directories ... OK
* checking for portable file names ... OK
* checking for sufficient/correct file permissions ... OK
* checking whether package ‘DAPAR’ can be installed ... OK
* checking installed package size ... OK
* checking package directory ... OK
* checking ‘build’ directory ... OK
* checking DESCRIPTION meta-information ... OK
* checking top-level files ... OK
* checking for left-over files ... OK
* checking index information ... OK
* checking package subdirectories ... OK
* checking R files for non-ASCII characters ... OK
* checking R files for syntax errors ... OK
* checking whether the package can be loaded ... OK
* checking whether the package can be loaded with stated dependencies ... OK
* checking whether the package can be unloaded cleanly ... OK
* checking whether the namespace can be loaded with stated dependencies ... OK
* checking whether the namespace can be unloaded cleanly ... OK
* checking dependencies in R code ... NOTE
Namespaces in Imports field not imported from:
‘Cairo’ ‘DAPARdata’ ‘clusterProfiler’ ‘igraph’ ‘knitr’ ‘lattice’
‘norm’ ‘pcaMethods’ ‘png’ ‘scales’ ‘siggenes’ ‘tidyverse’ ‘tmvtnorm’
All declared Imports should be used.
* checking S3 generic/method consistency ... OK
* checking replacement functions ... OK
* checking foreign function calls ... OK
* checking R code for possible problems ... NOTE
heatmapForMissingValues: warning in axis(1, 1:nc, label = labCol, las =
2, line = -0.5 + offsetCol, tick = 0, cex.axis = cexCol, hadj = NA,
padj = 0): partial argument match of 'label' to 'labels'
heatmapForMissingValues: warning in axis(1, 1:nc, label = rep("", nc),
las = 2, tick = 0): partial argument match of 'label' to 'labels'
heatmapForMissingValues: warning in axis(4, iy, label = labRow, las =
5, line = -0.5 + offsetRow, tick = 0, cex.axis = cexRow, hadj = 0,
padj = NA): partial argument match of 'label' to 'labels'
heatmapForMissingValues: warning in axis(4, iy, label = rep("", nr),
las = 2, line = -0.5, tick = 0): partial argument match of 'label' to
'labels'
GetIndices_MetacellFiltering: no visible global function definition for
‘tsop’
aggregateIterParallel: no visible binding for global variable ‘cond’
averageIntensities: no visible binding for global variable ‘condition’
averageIntensities: no visible binding for global variable ‘feature’
averageIntensities: no visible binding for global variable ‘intensity’
barplotEnrichGO_HC : <anonymous>: no visible global function definition
for ‘last’
diffAnaVolcanoplot_rCharts: no visible binding for global variable ‘x’
diffAnaVolcanoplot_rCharts: no visible binding for global variable ‘y’
diffAnaVolcanoplot_rCharts: no visible binding for global variable ‘g’
display.CC.visNet: no visible binding for global variable
‘layout_nicely’
enrich_GO: no visible global function definition for ‘bitr’
enrich_GO: no visible global function definition for ‘enrichGO’
getTextForGOAnalysis: no visible binding for global variable
‘textGOParams’
getTextForGOAnalysis: no visible binding for global variable ‘input’
group_GO: no visible global function definition for ‘bitr’
group_GO: no visible global function definition for ‘groupGO’
limmaCompleteTest: no visible binding for global variable ‘A’
limmaCompleteTest: no visible binding for global variable ‘B’
limmaCompleteTest: no visible binding for global variable ‘P.Value’
pepa.test: no visible global function definition for ‘nodes<-’
visualizeClusters: no visible global function definition for ‘desc’
visualizeClusters: no visible binding for global variable
‘adjusted_pvalues’
visualizeClusters: no visible binding for global variable ‘Condition’
visualizeClusters: no visible binding for global variable ‘intensity’
visualizeClusters: no visible binding for global variable
‘FDR_threshold’
visualizeClusters: no visible binding for global variable ‘feature’
wrapperClassic1wayAnova: no visible binding for global variable
‘Pr(>F)1’
wrapperClassic1wayAnova: no visible binding for global variable
‘post_hoc’
wrapperRunClustering: no visible global function definition for ‘str_c’
Undefined global functions or variables:
A B Condition FDR_threshold P.Value Pr(>F)1 adjusted_pvalues bitr
cond condition desc enrichGO feature g groupGO input intensity last
layout_nicely nodes<- post_hoc str_c textGOParams tsop x y
* checking Rd files ... OK
* checking Rd metadata ... OK
* checking Rd cross-references ... OK
* checking for missing documentation entries ... OK
* checking for code/documentation mismatches ... OK
* checking Rd \usage sections ... OK
* checking Rd contents ... OK
* checking for unstated dependencies in examples ... OK
* checking files in ‘vignettes’ ... OK
* checking examples ... OK
Examples with CPU (user + system) or elapsed time > 5s
user system elapsed
AggregateMetacell 7.347 1.455 8.387
CVDistD_HC 3.666 1.502 4.710
* checking for unstated dependencies in ‘tests’ ... OK
* checking tests ...
Running ‘testthat.R’
OK
* checking for unstated dependencies in vignettes ... OK
* checking package vignettes in ‘inst/doc’ ... OK
* checking running R code from vignettes ... SKIPPED
* checking re-building of vignette outputs ... SKIPPED
* checking PDF version of manual ... OK
* DONE
Status: 2 NOTEs
See
‘/home/biocbuild/bbs-3.14-bioc/meat/DAPAR.Rcheck/00check.log’
for details.
DAPAR.Rcheck/00install.out
############################################################################## ############################################################################## ### ### Running command: ### ### /home/biocbuild/bbs-3.14-bioc/R/bin/R CMD INSTALL DAPAR ### ############################################################################## ############################################################################## * installing to library ‘/home/biocbuild/bbs-3.14-bioc/R/library’ * installing *source* package ‘DAPAR’ ... ** using staged installation ** R ** inst ** byte-compile and prepare package for lazy loading ** help *** installing help indices ** building package indices ** installing vignettes ** testing if installed package can be loaded from temporary location ** testing if installed package can be loaded from final location ** testing if installed package keeps a record of temporary installation path * DONE (DAPAR)
DAPAR.Rcheck/tests/testthat.Rout
R version 4.1.3 (2022-03-10) -- "One Push-Up"
Copyright (C) 2022 The R Foundation for Statistical Computing
Platform: x86_64-pc-linux-gnu (64-bit)
R is free software and comes with ABSOLUTELY NO WARRANTY.
You are welcome to redistribute it under certain conditions.
Type 'license()' or 'licence()' for distribution details.
R is a collaborative project with many contributors.
Type 'contributors()' for more information and
'citation()' on how to cite R or R packages in publications.
Type 'demo()' for some demos, 'help()' for on-line help, or
'help.start()' for an HTML browser interface to help.
Type 'q()' to quit R.
> library(testthat)
> library(DAPAR)
>
> test_check("DAPAR")
[ FAIL 0 | WARN 0 | SKIP 0 | PASS 0 ]
>
> proc.time()
user system elapsed
9.176 0.628 9.777
DAPAR.Rcheck/DAPAR-Ex.timings
| name | user | system | elapsed | |
| AggregateMetacell | 7.347 | 1.455 | 8.387 | |
| BuildAdjacencyMatrix | 0.278 | 0.011 | 0.288 | |
| BuildColumnToProteinDataset | 0.941 | 0.170 | 1.073 | |
| BuildColumnToProteinDataset_par | 0 | 0 | 0 | |
| BuildMetaCell | 0.642 | 0.039 | 0.675 | |
| CVDistD_HC | 3.666 | 1.502 | 4.710 | |
| CountPep | 0.336 | 0.010 | 0.347 | |
| ExtendPalette | 0.025 | 0.012 | 0.036 | |
| GetCC | 1.905 | 0.060 | 1.958 | |
| GetColorsForConditions | 0.243 | 0.003 | 0.245 | |
| GetDetailedNbPeptides | 0.258 | 0.000 | 0.258 | |
| GetIndices_MetacellFiltering | 0.263 | 0.001 | 0.263 | |
| GetIndices_WholeLine | 0.267 | 0.000 | 0.267 | |
| GetIndices_WholeMatrix | 0.268 | 0.002 | 0.269 | |
| GetMatAdj | 0.341 | 0.015 | 0.353 | |
| Get_AllComparisons | 0.208 | 0.016 | 0.221 | |
| GlobalQuantileAlignment | 0.306 | 0.015 | 0.320 | |
| GraphPepProt | 0.272 | 0.000 | 0.271 | |
| LOESS | 1.017 | 0.001 | 1.017 | |
| MeanCentering | 0.267 | 0.001 | 0.266 | |
| MetaCellFiltering | 0.292 | 0.000 | 0.291 | |
| Metacell_generic | 0.467 | 0.009 | 0.471 | |
| Metacell_maxquant | 0.425 | 0.025 | 0.442 | |
| Metacell_proline | 0.001 | 0.000 | 0.000 | |
| NumericalFiltering | 0.324 | 0.003 | 0.326 | |
| NumericalgetIndicesOfLinesToRemove | 0.246 | 0.011 | 0.256 | |
| QuantileCentering | 0.240 | 0.003 | 0.243 | |
| SetCC | 2.520 | 0.062 | 2.574 | |
| SetMatAdj | 0.319 | 0.003 | 0.321 | |
| Set_POV_MEC_tags | 0.284 | 0.000 | 0.282 | |
| StringBasedFiltering | 0.290 | 0.000 | 0.289 | |
| StringBasedFiltering2 | 0.279 | 0.000 | 0.278 | |
| SumByColumns | 1.148 | 0.065 | 1.195 | |
| aggregateIter | 1.019 | 0.151 | 1.121 | |
| aggregateIterParallel | 0.000 | 0.000 | 0.001 | |
| aggregateMean | 0.995 | 0.099 | 1.058 | |
| aggregateSum | 1.736 | 0.286 | 1.933 | |
| aggregateTopn | 0 | 0 | 0 | |
| averageIntensities | 0.200 | 0.008 | 0.206 | |
| boxPlotD_HC | 0.463 | 0.049 | 0.501 | |
| buildGraph | 1.067 | 0.079 | 1.143 | |
| check.conditions | 0.235 | 0.000 | 0.235 | |
| check.design | 0.243 | 0.000 | 0.244 | |
| checkClusterability | 2.311 | 0.722 | 2.794 | |
| classic1wayAnova | 1.110 | 0.102 | 1.180 | |
| compareNormalizationD_HC | 2.701 | 0.609 | 3.128 | |
| compute_t_tests | 0.875 | 0.106 | 0.947 | |
| corrMatrixD_HC | 0.354 | 0.006 | 0.358 | |
| createMSnset | 1.728 | 0.061 | 1.775 | |
| dapar_hc_ExportMenu | 0.123 | 0.021 | 0.140 | |
| dapar_hc_chart | 0.052 | 0.004 | 0.054 | |
| deleteLinesFromIndices | 0.279 | 0.000 | 0.279 | |
| densityPlotD_HC | 2.589 | 0.486 | 2.912 | |
| diffAnaComputeFDR | 0.340 | 0.008 | 0.343 | |
| diffAnaGetSignificant | 0.247 | 0.007 | 0.251 | |
| diffAnaSave | 0.200 | 0.000 | 0.196 | |
| diffAnaVolcanoplot | 0.132 | 0.004 | 0.134 | |
| diffAnaVolcanoplot_rCharts | 0 | 0 | 0 | |
| display.CC.visNet | 1.377 | 0.106 | 1.475 | |
| enrich_GO | 0 | 0 | 0 | |
| findMECBlock | 0.263 | 0.003 | 0.265 | |
| formatLimmaResult | 0.107 | 0.013 | 0.118 | |
| formatPHResults | 2.944 | 0.248 | 3.092 | |
| get.pep.prot.cc | 4.063 | 0.668 | 4.714 | |
| getIndicesConditions | 0.249 | 0.003 | 0.252 | |
| getIndicesOfLinesToRemove | 0.275 | 0.000 | 0.275 | |
| getListNbValuesInLines | 0.289 | 0.002 | 0.292 | |
| getNumberOf | 0.259 | 0.007 | 0.265 | |
| getNumberOfEmptyLines | 0.252 | 0.000 | 0.251 | |
| getPourcentageOfMV | 0.249 | 0.000 | 0.248 | |
| getProcessingInfo | 0.239 | 0.000 | 0.240 | |
| getProteinsStats | 0.256 | 0.017 | 0.272 | |
| getQuantile4Imp | 0.244 | 0.000 | 0.243 | |
| getTextForAggregation | 0.000 | 0.000 | 0.001 | |
| getTextForAnaDiff | 0.000 | 0.000 | 0.001 | |
| getTextForGOAnalysis | 0 | 0 | 0 | |
| getTextForHypothesisTest | 0.001 | 0.000 | 0.000 | |
| getTextForNewDataset | 0.002 | 0.000 | 0.003 | |
| getTextForNormalization | 0 | 0 | 0 | |
| getTextForpeptideImputation | 0 | 0 | 0 | |
| getTextForproteinImputation | 0.000 | 0.000 | 0.001 | |
| group_GO | 0 | 0 | 0 | |
| hc_logFC_DensityPlot | 1.021 | 0.161 | 1.117 | |
| hc_mvTypePlot2 | 1.132 | 0.197 | 1.266 | |
| heatmapD | 0 | 0 | 0 | |
| heatmapForMissingValues | 0.165 | 0.003 | 0.168 | |
| histPValue_HC | 0.182 | 0.016 | 0.194 | |
| impute.pa2 | 0.316 | 0.016 | 0.329 | |
| limmaCompleteTest | 1.212 | 0.026 | 1.227 | |
| make.contrast | 0.248 | 0.000 | 0.248 | |
| make.design.1 | 0.242 | 0.000 | 0.242 | |
| make.design.2 | 0 | 0 | 0 | |
| make.design.3 | 0.245 | 0.000 | 0.244 | |
| make.design | 0.241 | 0.001 | 0.242 | |
| match.metacell | 0.255 | 0.007 | 0.261 | |
| metacellHisto_HC | 0.306 | 0.007 | 0.311 | |
| metacellPerLinesHistoPerCondition_HC | 0.428 | 0.028 | 0.452 | |
| metacellPerLinesHisto_HC | 0.304 | 0.003 | 0.305 | |
| metacombine | 0 | 0 | 0 | |
| mvImage | 1.868 | 0.091 | 1.935 | |
| my_hc_ExportMenu | 0.137 | 0.016 | 0.151 | |
| my_hc_chart | 0.093 | 0.041 | 0.131 | |
| nonzero | 0.016 | 0.000 | 0.016 | |
| plotJitter | 1.109 | 0.042 | 1.148 | |
| plotPCA_Eigen | 0.233 | 0.000 | 0.233 | |
| plotPCA_Eigen_hc | 0.231 | 0.002 | 0.233 | |
| plotPCA_Ind | 0.234 | 0.000 | 0.235 | |
| plotPCA_Var | 0.237 | 0.000 | 0.238 | |
| postHocTest | 2.704 | 0.267 | 2.870 | |
| proportionConRev_HC | 0.041 | 0.004 | 0.044 | |
| rbindMSnset | 0.322 | 0.011 | 0.332 | |
| reIntroduceMEC | 0.311 | 0.021 | 0.328 | |
| removeLines | 0.271 | 0.011 | 0.282 | |
| saveParameters | 0.271 | 0.000 | 0.272 | |
| search.metacell.tags | 0.004 | 0.003 | 0.008 | |
| test.design | 0.238 | 0.000 | 0.238 | |
| translatedRandomBeta | 0.000 | 0.003 | 0.003 | |
| violinPlotD | 0.263 | 0.020 | 0.283 | |
| visualizeClusters | 1.017 | 0.078 | 1.066 | |
| vsn | 0.452 | 0.000 | 0.451 | |
| wrapper.CVDistD_HC | 1.649 | 0.648 | 2.087 | |
| wrapper.compareNormalizationD_HC | 0.248 | 0.000 | 0.247 | |
| wrapper.corrMatrixD_HC | 0.335 | 0.003 | 0.333 | |
| wrapper.dapar.impute.mi | 0.001 | 0.000 | 0.000 | |
| wrapper.heatmapD | 0 | 0 | 0 | |
| wrapper.impute.KNN | 0.262 | 0.003 | 0.264 | |
| wrapper.impute.detQuant | 0.411 | 0.012 | 0.417 | |
| wrapper.impute.fixedValue | 0.396 | 0.024 | 0.417 | |
| wrapper.impute.mle | 0.275 | 0.003 | 0.278 | |
| wrapper.impute.pa | 0.287 | 0.000 | 0.286 | |
| wrapper.impute.pa2 | 0.290 | 0.007 | 0.294 | |
| wrapper.impute.slsa | 0.404 | 0.032 | 0.432 | |
| wrapper.mvImage | 0.112 | 0.008 | 0.119 | |
| wrapper.normalizeD | 0.244 | 0.012 | 0.255 | |
| wrapper.pca | 0.108 | 0.008 | 0.115 | |
| wrapperCalibrationPlot | 0.153 | 0.012 | 0.163 | |
| wrapperClassic1wayAnova | 1.549 | 0.177 | 1.671 | |
| wrapperRunClustering | 1.733 | 0.255 | 1.903 | |
| write.excel | 0.503 | 0.050 | 0.540 | |
| writeMSnsetToCSV | 0.000 | 0.000 | 0.001 | |
| writeMSnsetToExcel | 0 | 0 | 0 | |