| Back to Multiple platform build/check report for BioC 3.14 |
|
This page was generated on 2022-04-13 12:07:52 -0400 (Wed, 13 Apr 2022).
| Hostname | OS | Arch (*) | R version | Installed pkgs |
|---|---|---|---|---|
| nebbiolo2 | Linux (Ubuntu 20.04.4 LTS) | x86_64 | 4.1.3 (2022-03-10) -- "One Push-Up" | 4324 |
| tokay2 | Windows Server 2012 R2 Standard | x64 | 4.1.3 (2022-03-10) -- "One Push-Up" | 4077 |
| machv2 | macOS 10.14.6 Mojave | x86_64 | 4.1.3 (2022-03-10) -- "One Push-Up" | 4137 |
| Click on any hostname to see more info about the system (e.g. compilers) (*) as reported by 'uname -p', except on Windows and Mac OS X | ||||
|
To the developers/maintainers of the DAPAR package: - Please allow up to 24 hours (and sometimes 48 hours) for your latest push to git@git.bioconductor.org:packages/DAPAR.git to reflect on this report. See How and When does the builder pull? When will my changes propagate? for more information. - Make sure to use the following settings in order to reproduce any error or warning you see on this page. |
| Package 450/2083 | Hostname | OS / Arch | INSTALL | BUILD | CHECK | BUILD BIN | ||||||||
| DAPAR 1.26.1 (landing page) Samuel Wieczorek
| nebbiolo2 | Linux (Ubuntu 20.04.4 LTS) / x86_64 | OK | OK | OK | |||||||||
| tokay2 | Windows Server 2012 R2 Standard / x64 | OK | OK | OK | OK | |||||||||
| machv2 | macOS 10.14.6 Mojave / x86_64 | OK | OK | OK | OK | |||||||||
| Package: DAPAR |
| Version: 1.26.1 |
| Command: /Library/Frameworks/R.framework/Resources/bin/R CMD check --install=check:DAPAR.install-out.txt --library=/Library/Frameworks/R.framework/Resources/library --no-vignettes --timings DAPAR_1.26.1.tar.gz |
| StartedAt: 2022-04-12 12:13:40 -0400 (Tue, 12 Apr 2022) |
| EndedAt: 2022-04-12 12:22:11 -0400 (Tue, 12 Apr 2022) |
| EllapsedTime: 511.3 seconds |
| RetCode: 0 |
| Status: OK |
| CheckDir: DAPAR.Rcheck |
| Warnings: 0 |
##############################################################################
##############################################################################
###
### Running command:
###
### /Library/Frameworks/R.framework/Resources/bin/R CMD check --install=check:DAPAR.install-out.txt --library=/Library/Frameworks/R.framework/Resources/library --no-vignettes --timings DAPAR_1.26.1.tar.gz
###
##############################################################################
##############################################################################
* using log directory ‘/Users/biocbuild/bbs-3.14-bioc/meat/DAPAR.Rcheck’
* using R version 4.1.3 (2022-03-10)
* using platform: x86_64-apple-darwin17.0 (64-bit)
* using session charset: UTF-8
* using option ‘--no-vignettes’
* checking for file ‘DAPAR/DESCRIPTION’ ... OK
* checking extension type ... Package
* this is package ‘DAPAR’ version ‘1.26.1’
* package encoding: UTF-8
* checking package namespace information ... OK
* checking package dependencies ... OK
* checking if this is a source package ... OK
* checking if there is a namespace ... OK
* checking for hidden files and directories ... OK
* checking for portable file names ... OK
* checking for sufficient/correct file permissions ... OK
* checking whether package ‘DAPAR’ can be installed ... OK
* checking installed package size ... OK
* checking package directory ... OK
* checking ‘build’ directory ... OK
* checking DESCRIPTION meta-information ... OK
* checking top-level files ... OK
* checking for left-over files ... OK
* checking index information ... OK
* checking package subdirectories ... OK
* checking R files for non-ASCII characters ... OK
* checking R files for syntax errors ... OK
* checking whether the package can be loaded ... OK
* checking whether the package can be loaded with stated dependencies ... OK
* checking whether the package can be unloaded cleanly ... OK
* checking whether the namespace can be loaded with stated dependencies ... OK
* checking whether the namespace can be unloaded cleanly ... OK
* checking dependencies in R code ... NOTE
Namespaces in Imports field not imported from:
‘Cairo’ ‘DAPARdata’ ‘clusterProfiler’ ‘igraph’ ‘knitr’ ‘lattice’
‘norm’ ‘pcaMethods’ ‘png’ ‘scales’ ‘siggenes’ ‘tidyverse’ ‘tmvtnorm’
All declared Imports should be used.
* checking S3 generic/method consistency ... OK
* checking replacement functions ... OK
* checking foreign function calls ... OK
* checking R code for possible problems ... NOTE
heatmapForMissingValues: warning in axis(1, 1:nc, label = labCol, las =
2, line = -0.5 + offsetCol, tick = 0, cex.axis = cexCol, hadj = NA,
padj = 0): partial argument match of 'label' to 'labels'
heatmapForMissingValues: warning in axis(1, 1:nc, label = rep("", nc),
las = 2, tick = 0): partial argument match of 'label' to 'labels'
heatmapForMissingValues: warning in axis(4, iy, label = labRow, las =
5, line = -0.5 + offsetRow, tick = 0, cex.axis = cexRow, hadj = 0,
padj = NA): partial argument match of 'label' to 'labels'
heatmapForMissingValues: warning in axis(4, iy, label = rep("", nr),
las = 2, line = -0.5, tick = 0): partial argument match of 'label' to
'labels'
GetIndices_MetacellFiltering: no visible global function definition for
‘tsop’
aggregateIterParallel: no visible binding for global variable ‘cond’
averageIntensities: no visible binding for global variable ‘condition’
averageIntensities: no visible binding for global variable ‘feature’
averageIntensities: no visible binding for global variable ‘intensity’
barplotEnrichGO_HC : <anonymous>: no visible global function definition
for ‘last’
diffAnaVolcanoplot_rCharts: no visible binding for global variable ‘x’
diffAnaVolcanoplot_rCharts: no visible binding for global variable ‘y’
diffAnaVolcanoplot_rCharts: no visible binding for global variable ‘g’
display.CC.visNet: no visible binding for global variable
‘layout_nicely’
enrich_GO: no visible global function definition for ‘bitr’
enrich_GO: no visible global function definition for ‘enrichGO’
getTextForGOAnalysis: no visible binding for global variable
‘textGOParams’
getTextForGOAnalysis: no visible binding for global variable ‘input’
group_GO: no visible global function definition for ‘bitr’
group_GO: no visible global function definition for ‘groupGO’
limmaCompleteTest: no visible binding for global variable ‘A’
limmaCompleteTest: no visible binding for global variable ‘B’
limmaCompleteTest: no visible binding for global variable ‘P.Value’
pepa.test: no visible global function definition for ‘nodes<-’
visualizeClusters: no visible global function definition for ‘desc’
visualizeClusters: no visible binding for global variable
‘adjusted_pvalues’
visualizeClusters: no visible binding for global variable ‘Condition’
visualizeClusters: no visible binding for global variable ‘intensity’
visualizeClusters: no visible binding for global variable
‘FDR_threshold’
visualizeClusters: no visible binding for global variable ‘feature’
wrapperClassic1wayAnova: no visible binding for global variable
‘Pr(>F)1’
wrapperClassic1wayAnova: no visible binding for global variable
‘post_hoc’
wrapperRunClustering: no visible global function definition for ‘str_c’
Undefined global functions or variables:
A B Condition FDR_threshold P.Value Pr(>F)1 adjusted_pvalues bitr
cond condition desc enrichGO feature g groupGO input intensity last
layout_nicely nodes<- post_hoc str_c textGOParams tsop x y
* checking Rd files ... OK
* checking Rd metadata ... OK
* checking Rd cross-references ... OK
* checking for missing documentation entries ... OK
* checking for code/documentation mismatches ... OK
* checking Rd \usage sections ... OK
* checking Rd contents ... OK
* checking for unstated dependencies in examples ... OK
* checking sizes of PDF files under ‘inst/doc’ ... OK
* checking files in ‘vignettes’ ... OK
* checking examples ... OK
Examples with CPU (user + system) or elapsed time > 5s
user system elapsed
AggregateMetacell 16.672 4.052 20.409
CVDistD_HC 8.998 5.437 13.834
checkClusterability 5.140 2.570 7.409
compareNormalizationD_HC 5.681 1.832 7.320
densityPlotD_HC 5.675 1.793 7.251
wrapper.CVDistD_HC 4.572 2.802 7.163
formatPHResults 6.233 0.995 7.124
postHocTest 6.203 1.009 7.113
get.pep.prot.cc 5.808 0.670 6.478
* checking for unstated dependencies in ‘tests’ ... OK
* checking tests ...
Running ‘testthat.R’
OK
* checking for unstated dependencies in vignettes ... OK
* checking package vignettes in ‘inst/doc’ ... OK
* checking running R code from vignettes ... SKIPPED
* checking re-building of vignette outputs ... SKIPPED
* checking PDF version of manual ... OK
* DONE
Status: 2 NOTEs
See
‘/Users/biocbuild/bbs-3.14-bioc/meat/DAPAR.Rcheck/00check.log’
for details.
DAPAR.Rcheck/00install.out
############################################################################## ############################################################################## ### ### Running command: ### ### /Library/Frameworks/R.framework/Resources/bin/R CMD INSTALL DAPAR ### ############################################################################## ############################################################################## * installing to library ‘/Library/Frameworks/R.framework/Versions/4.1/Resources/library’ * installing *source* package ‘DAPAR’ ... ** using staged installation ** R ** inst ** byte-compile and prepare package for lazy loading ** help *** installing help indices ** building package indices ** installing vignettes ** testing if installed package can be loaded from temporary location ** testing if installed package can be loaded from final location ** testing if installed package keeps a record of temporary installation path * DONE (DAPAR)
DAPAR.Rcheck/tests/testthat.Rout
R version 4.1.3 (2022-03-10) -- "One Push-Up"
Copyright (C) 2022 The R Foundation for Statistical Computing
Platform: x86_64-apple-darwin17.0 (64-bit)
R is free software and comes with ABSOLUTELY NO WARRANTY.
You are welcome to redistribute it under certain conditions.
Type 'license()' or 'licence()' for distribution details.
R is a collaborative project with many contributors.
Type 'contributors()' for more information and
'citation()' on how to cite R or R packages in publications.
Type 'demo()' for some demos, 'help()' for on-line help, or
'help.start()' for an HTML browser interface to help.
Type 'q()' to quit R.
> library(testthat)
> library(DAPAR)
>
> test_check("DAPAR")
[ FAIL 0 | WARN 0 | SKIP 0 | PASS 0 ]
>
> proc.time()
user system elapsed
15.131 0.834 15.952
DAPAR.Rcheck/DAPAR-Ex.timings
| name | user | system | elapsed | |
| AggregateMetacell | 16.672 | 4.052 | 20.409 | |
| BuildAdjacencyMatrix | 0.515 | 0.020 | 0.537 | |
| BuildColumnToProteinDataset | 1.919 | 0.459 | 2.404 | |
| BuildColumnToProteinDataset_par | 0.001 | 0.001 | 0.001 | |
| BuildMetaCell | 1.043 | 0.114 | 1.160 | |
| CVDistD_HC | 8.998 | 5.437 | 13.834 | |
| CountPep | 0.605 | 0.025 | 0.630 | |
| ExtendPalette | 0.062 | 0.017 | 0.077 | |
| GetCC | 2.556 | 0.129 | 2.683 | |
| GetColorsForConditions | 0.426 | 0.004 | 0.430 | |
| GetDetailedNbPeptides | 0.427 | 0.007 | 0.434 | |
| GetIndices_MetacellFiltering | 0.467 | 0.012 | 0.479 | |
| GetIndices_WholeLine | 0.483 | 0.015 | 0.502 | |
| GetIndices_WholeMatrix | 0.422 | 0.013 | 0.434 | |
| GetMatAdj | 0.620 | 0.027 | 0.646 | |
| Get_AllComparisons | 0.386 | 0.035 | 0.418 | |
| GlobalQuantileAlignment | 0.546 | 0.011 | 0.556 | |
| GraphPepProt | 0.411 | 0.007 | 0.418 | |
| LOESS | 1.609 | 0.016 | 1.625 | |
| MeanCentering | 0.488 | 0.007 | 0.494 | |
| MetaCellFiltering | 0.521 | 0.015 | 0.535 | |
| Metacell_generic | 0.828 | 0.059 | 0.881 | |
| Metacell_maxquant | 1.320 | 0.067 | 1.382 | |
| Metacell_proline | 0 | 0 | 0 | |
| NumericalFiltering | 0.596 | 0.017 | 0.612 | |
| NumericalgetIndicesOfLinesToRemove | 0.449 | 0.006 | 0.455 | |
| QuantileCentering | 0.556 | 0.009 | 0.565 | |
| SetCC | 2.477 | 0.110 | 2.615 | |
| SetMatAdj | 0.642 | 0.032 | 0.673 | |
| Set_POV_MEC_tags | 0.486 | 0.018 | 0.503 | |
| StringBasedFiltering | 0.512 | 0.015 | 0.526 | |
| StringBasedFiltering2 | 0.558 | 0.014 | 0.570 | |
| SumByColumns | 3.140 | 0.204 | 3.325 | |
| aggregateIter | 2.308 | 0.436 | 2.701 | |
| aggregateIterParallel | 0.000 | 0.000 | 0.001 | |
| aggregateMean | 2.174 | 0.422 | 2.554 | |
| aggregateSum | 3.934 | 0.873 | 4.730 | |
| aggregateTopn | 0.000 | 0.000 | 0.001 | |
| averageIntensities | 0.343 | 0.059 | 0.400 | |
| boxPlotD_HC | 0.680 | 0.219 | 0.891 | |
| buildGraph | 1.478 | 0.057 | 1.532 | |
| check.conditions | 0.474 | 0.006 | 0.480 | |
| check.design | 0.476 | 0.007 | 0.484 | |
| checkClusterability | 5.140 | 2.570 | 7.409 | |
| classic1wayAnova | 2.414 | 0.322 | 2.702 | |
| compareNormalizationD_HC | 5.681 | 1.832 | 7.320 | |
| compute_t_tests | 1.790 | 0.388 | 2.158 | |
| corrMatrixD_HC | 0.688 | 0.085 | 0.769 | |
| createMSnset | 3.025 | 0.176 | 3.199 | |
| dapar_hc_ExportMenu | 0.237 | 0.174 | 0.409 | |
| dapar_hc_chart | 0.095 | 0.060 | 0.153 | |
| deleteLinesFromIndices | 0.492 | 0.010 | 0.502 | |
| densityPlotD_HC | 5.675 | 1.793 | 7.251 | |
| diffAnaComputeFDR | 0.606 | 0.077 | 0.679 | |
| diffAnaGetSignificant | 0.454 | 0.035 | 0.485 | |
| diffAnaSave | 0.371 | 0.034 | 0.401 | |
| diffAnaVolcanoplot | 0.236 | 0.018 | 0.252 | |
| diffAnaVolcanoplot_rCharts | 0.001 | 0.000 | 0.000 | |
| display.CC.visNet | 1.829 | 0.116 | 1.937 | |
| enrich_GO | 0.000 | 0.000 | 0.001 | |
| findMECBlock | 0.502 | 0.009 | 0.511 | |
| formatLimmaResult | 0.216 | 0.017 | 0.230 | |
| formatPHResults | 6.233 | 0.995 | 7.124 | |
| get.pep.prot.cc | 5.808 | 0.670 | 6.478 | |
| getIndicesConditions | 0.360 | 0.003 | 0.363 | |
| getIndicesOfLinesToRemove | 0.490 | 0.007 | 0.497 | |
| getListNbValuesInLines | 0.484 | 0.004 | 0.488 | |
| getNumberOf | 0.446 | 0.008 | 0.454 | |
| getNumberOfEmptyLines | 0.524 | 0.008 | 0.532 | |
| getPourcentageOfMV | 0.465 | 0.006 | 0.471 | |
| getProcessingInfo | 0.474 | 0.004 | 0.478 | |
| getProteinsStats | 0.461 | 0.011 | 0.471 | |
| getQuantile4Imp | 0.469 | 0.004 | 0.474 | |
| getTextForAggregation | 0.000 | 0.000 | 0.001 | |
| getTextForAnaDiff | 0.000 | 0.001 | 0.001 | |
| getTextForGOAnalysis | 0.000 | 0.000 | 0.001 | |
| getTextForHypothesisTest | 0.000 | 0.000 | 0.001 | |
| getTextForNewDataset | 0.003 | 0.001 | 0.004 | |
| getTextForNormalization | 0.000 | 0.001 | 0.001 | |
| getTextForpeptideImputation | 0.001 | 0.000 | 0.001 | |
| getTextForproteinImputation | 0 | 0 | 0 | |
| group_GO | 0 | 0 | 0 | |
| hc_logFC_DensityPlot | 2.078 | 0.747 | 2.745 | |
| hc_mvTypePlot2 | 2.402 | 0.708 | 3.032 | |
| heatmapD | 0.000 | 0.001 | 0.001 | |
| heatmapForMissingValues | 0.258 | 0.022 | 0.278 | |
| histPValue_HC | 0.319 | 0.080 | 0.398 | |
| impute.pa2 | 0.485 | 0.029 | 0.511 | |
| limmaCompleteTest | 2.799 | 0.112 | 2.900 | |
| make.contrast | 0.467 | 0.005 | 0.473 | |
| make.design.1 | 0.462 | 0.004 | 0.467 | |
| make.design.2 | 0.001 | 0.001 | 0.001 | |
| make.design.3 | 0.413 | 0.005 | 0.418 | |
| make.design | 0.359 | 0.005 | 0.365 | |
| match.metacell | 0.492 | 0.010 | 0.502 | |
| metacellHisto_HC | 0.564 | 0.076 | 0.639 | |
| metacellPerLinesHistoPerCondition_HC | 0.761 | 0.140 | 0.898 | |
| metacellPerLinesHisto_HC | 0.534 | 0.072 | 0.604 | |
| metacombine | 0 | 0 | 0 | |
| mvImage | 4.587 | 0.323 | 4.916 | |
| my_hc_ExportMenu | 0.268 | 0.174 | 0.441 | |
| my_hc_chart | 0.246 | 0.173 | 0.416 | |
| nonzero | 0.023 | 0.001 | 0.024 | |
| plotJitter | 1.605 | 0.063 | 1.670 | |
| plotPCA_Eigen | 0.445 | 0.004 | 0.449 | |
| plotPCA_Eigen_hc | 0.461 | 0.004 | 0.466 | |
| plotPCA_Ind | 0.450 | 0.004 | 0.454 | |
| plotPCA_Var | 0.462 | 0.005 | 0.468 | |
| postHocTest | 6.203 | 1.009 | 7.113 | |
| proportionConRev_HC | 0.082 | 0.060 | 0.140 | |
| rbindMSnset | 0.626 | 0.020 | 0.644 | |
| reIntroduceMEC | 0.613 | 0.035 | 0.645 | |
| removeLines | 0.511 | 0.013 | 0.523 | |
| saveParameters | 0.449 | 0.004 | 0.453 | |
| search.metacell.tags | 0.014 | 0.004 | 0.019 | |
| test.design | 0.452 | 0.004 | 0.456 | |
| translatedRandomBeta | 0.004 | 0.010 | 0.014 | |
| violinPlotD | 0.442 | 0.021 | 0.461 | |
| visualizeClusters | 2.154 | 0.384 | 2.493 | |
| vsn | 0.700 | 0.016 | 0.715 | |
| wrapper.CVDistD_HC | 4.572 | 2.802 | 7.163 | |
| wrapper.compareNormalizationD_HC | 0.483 | 0.006 | 0.490 | |
| wrapper.corrMatrixD_HC | 0.618 | 0.083 | 0.698 | |
| wrapper.dapar.impute.mi | 0 | 0 | 0 | |
| wrapper.heatmapD | 0 | 0 | 0 | |
| wrapper.impute.KNN | 0.542 | 0.012 | 0.554 | |
| wrapper.impute.detQuant | 0.818 | 0.083 | 0.893 | |
| wrapper.impute.fixedValue | 0.698 | 0.038 | 0.732 | |
| wrapper.impute.mle | 0.550 | 0.016 | 0.566 | |
| wrapper.impute.pa | 0.547 | 0.021 | 0.566 | |
| wrapper.impute.pa2 | 0.555 | 0.031 | 0.583 | |
| wrapper.impute.slsa | 0.838 | 0.043 | 0.878 | |
| wrapper.mvImage | 0.224 | 0.018 | 0.240 | |
| wrapper.normalizeD | 0.467 | 0.004 | 0.472 | |
| wrapper.pca | 0.210 | 0.015 | 0.223 | |
| wrapperCalibrationPlot | 0.263 | 0.027 | 0.288 | |
| wrapperClassic1wayAnova | 3.363 | 0.495 | 3.801 | |
| wrapperRunClustering | 3.869 | 0.756 | 4.565 | |
| write.excel | 1.016 | 0.138 | 1.141 | |
| writeMSnsetToCSV | 0.000 | 0.001 | 0.000 | |
| writeMSnsetToExcel | 0.000 | 0.000 | 0.001 | |