| Back to Multiple platform build/check report for BioC 3.14 |
|
This page was generated on 2022-04-13 12:06:23 -0400 (Wed, 13 Apr 2022).
| Hostname | OS | Arch (*) | R version | Installed pkgs |
|---|---|---|---|---|
| nebbiolo2 | Linux (Ubuntu 20.04.4 LTS) | x86_64 | 4.1.3 (2022-03-10) -- "One Push-Up" | 4324 |
| tokay2 | Windows Server 2012 R2 Standard | x64 | 4.1.3 (2022-03-10) -- "One Push-Up" | 4077 |
| machv2 | macOS 10.14.6 Mojave | x86_64 | 4.1.3 (2022-03-10) -- "One Push-Up" | 4137 |
| Click on any hostname to see more info about the system (e.g. compilers) (*) as reported by 'uname -p', except on Windows and Mac OS X | ||||
|
To the developers/maintainers of the CoreGx package: - Please allow up to 24 hours (and sometimes 48 hours) for your latest push to git@git.bioconductor.org:packages/CoreGx.git to reflect on this report. See How and When does the builder pull? When will my changes propagate? for more information. - Make sure to use the following settings in order to reproduce any error or warning you see on this page. |
| Package 400/2083 | Hostname | OS / Arch | INSTALL | BUILD | CHECK | BUILD BIN | ||||||||
| CoreGx 1.6.0 (landing page) Benjamin Haibe-Kains
| nebbiolo2 | Linux (Ubuntu 20.04.4 LTS) / x86_64 | OK | OK | OK | |||||||||
| tokay2 | Windows Server 2012 R2 Standard / x64 | OK | OK | OK | OK | |||||||||
| machv2 | macOS 10.14.6 Mojave / x86_64 | OK | OK | OK | OK | |||||||||
| Package: CoreGx |
| Version: 1.6.0 |
| Command: C:\Users\biocbuild\bbs-3.14-bioc\R\bin\R.exe CMD check --force-multiarch --install=check:CoreGx.install-out.txt --library=C:\Users\biocbuild\bbs-3.14-bioc\R\library --no-vignettes --timings CoreGx_1.6.0.tar.gz |
| StartedAt: 2022-04-12 17:55:13 -0400 (Tue, 12 Apr 2022) |
| EndedAt: 2022-04-12 18:02:54 -0400 (Tue, 12 Apr 2022) |
| EllapsedTime: 461.0 seconds |
| RetCode: 0 |
| Status: OK |
| CheckDir: CoreGx.Rcheck |
| Warnings: 0 |
##############################################################################
##############################################################################
###
### Running command:
###
### C:\Users\biocbuild\bbs-3.14-bioc\R\bin\R.exe CMD check --force-multiarch --install=check:CoreGx.install-out.txt --library=C:\Users\biocbuild\bbs-3.14-bioc\R\library --no-vignettes --timings CoreGx_1.6.0.tar.gz
###
##############################################################################
##############################################################################
* using log directory 'C:/Users/biocbuild/bbs-3.14-bioc/meat/CoreGx.Rcheck'
* using R version 4.1.3 (2022-03-10)
* using platform: x86_64-w64-mingw32 (64-bit)
* using session charset: ISO8859-1
* using option '--no-vignettes'
* checking for file 'CoreGx/DESCRIPTION' ... OK
* checking extension type ... Package
* this is package 'CoreGx' version '1.6.0'
* package encoding: UTF-8
* checking package namespace information ... OK
* checking package dependencies ... OK
* checking if this is a source package ... OK
* checking if there is a namespace ... OK
* checking for hidden files and directories ... OK
* checking for portable file names ... OK
* checking whether package 'CoreGx' can be installed ... OK
* checking installed package size ... OK
* checking package directory ... OK
* checking 'build' directory ... OK
* checking DESCRIPTION meta-information ... OK
* checking top-level files ... OK
* checking for left-over files ... OK
* checking index information ... OK
* checking package subdirectories ... OK
* checking R files for non-ASCII characters ... OK
* checking R files for syntax errors ... OK
* loading checks for arch 'i386'
** checking whether the package can be loaded ... OK
** checking whether the package can be loaded with stated dependencies ... OK
** checking whether the package can be unloaded cleanly ... OK
** checking whether the namespace can be loaded with stated dependencies ... OK
** checking whether the namespace can be unloaded cleanly ... OK
* loading checks for arch 'x64'
** checking whether the package can be loaded ... OK
** checking whether the package can be loaded with stated dependencies ... OK
** checking whether the package can be unloaded cleanly ... OK
** checking whether the namespace can be loaded with stated dependencies ... OK
** checking whether the namespace can be unloaded cleanly ... OK
* checking dependencies in R code ... OK
* checking S3 generic/method consistency ... OK
* checking replacement functions ... OK
* checking foreign function calls ... OK
* checking R code for possible problems ... NOTE
.paste_slashes: no visible binding for global variable '..'
.rebuildInfo: no visible global function definition for 'patterns'
.rebuildInfo: no visible binding for global variable '..keepCols'
.rebuildInfo: no visible binding for global variable 'drugid'
.rebuildInfo: no visible binding for global variable 'drug1id'
.rebuildInfo: no visible binding for global variable 'drug_uid'
.rebuildInfo: no visible binding for global variable '..rowIDcols'
.rebuildInfo: no visible binding for global variable 'cell_uid'
.rebuildInfo: no visible binding for global variable '..colIDcols'
.rebuildInfo: no visible binding for global variable 'exp_id'
.rebuildProfiles: no visible binding for global variable 'cell_uid'
.rebuildProfiles: no visible binding for global variable 'drug_uid'
.rebuildProfiles: no visible binding for global variable 'exp_id'
.rebuildRaw: no visible binding for global variable '.NATURAL'
.rebuildRaw: no visible binding for global variable 'cellid'
.rebuildRaw: no visible binding for global variable 'exp_id'
.rebuildRaw: no visible binding for global variable 'drug1id'
.rebuildRaw: no visible binding for global variable 'row_ids'
.rebuildRaw: no visible binding for global variable 'col_ids'
.rebuildRaw: no visible binding for global variable 'dose'
.rebuildRaw: no visible global function definition for 'patterns'
.rebuildSensNumber: no visible global function definition for
'patterns'
.rebuildSensNumber: no visible binding for global variable '.drugCombo'
.rebuildSensNumber: no visible binding for global variable '.cellCombo'
.sensitivityToLongTable: no visible binding for global variable 'dose'
.sensitivityToLongTable: no visible binding for global variable
'viability'
.sensitivityToLongTable: no visible binding for global variable
'replicate_id'
.summarizePerturbationNumbers: no visible global function definition
for 'drugInfo'
.summarizeSensitivityNumbers: no visible global function definition for
'drugInfo'
assay<-,LongTable-character: no visible binding for global variable
'..missingRowCols'
assay<-,LongTable-character: no visible binding for global variable
'..missingColCols'
coerce,SummarizedExperiment-data.table: no visible binding for global
variable '.sample'
coerce,SummarizedExperiment-data.table: no visible binding for global
variable '.feature'
colData<-,LongTable-ANY: no visible binding for global variable
'.NATURAL'
colData<-,LongTable-ANY: no visible binding for global variable
'.colnames'
metaConstruct,LongTableDataMapper: no visible binding for global
variable '..rowIDs'
metaConstruct,LongTableDataMapper: no visible binding for global
variable '..colIDs'
rowData<-,LongTable: no visible binding for global variable '.NATURAL'
rowData<-,LongTable: no visible binding for global variable '.rownames'
sensitivityRaw<-,CoreSet-array: no visible binding for global variable
'V2'
sensitivityRaw<-,CoreSet-array: no visible binding for global variable
'V1'
sensitivityRaw<-,CoreSet-array: no visible binding for global variable
'cell_uid'
sensitivityRaw<-,CoreSet-array: no visible binding for global variable
'rn'
sensitivityRaw<-,CoreSet-array: no visible binding for global variable
'row_id'
sensitivityRaw<-,CoreSet-array: no visible binding for global variable
'col_id'
sensitivitySlot<-,CoreSet-list_or_LongTable: no visible binding for
global variable 'funContext'
updateObject,CoreSet: no visible global function definition for
'isValid'
Undefined global functions or variables:
.. ..colIDcols ..colIDs ..keepCols ..missingColCols ..missingRowCols
..rowIDcols ..rowIDs .NATURAL .cellCombo .colnames .drugCombo
.feature .rownames .sample V1 V2 cell_uid cellid col_id col_ids dose
drug1id drugInfo drug_uid drugid exp_id funContext isValid patterns
replicate_id rn row_id row_ids viability
* checking Rd files ... OK
* checking Rd metadata ... OK
* checking Rd cross-references ... OK
* checking for missing documentation entries ... OK
* checking for code/documentation mismatches ... OK
* checking Rd \usage sections ... OK
* checking Rd contents ... OK
* checking for unstated dependencies in examples ... OK
* checking contents of 'data' directory ... OK
* checking data for non-ASCII characters ... NOTE
Note: found 8 marked UTF-8 strings
* checking LazyData ... OK
* checking data for ASCII and uncompressed saves ... OK
* checking files in 'vignettes' ... OK
* checking examples ...
** running examples for arch 'i386' ... OK
Examples with CPU (user + system) or elapsed time > 5s
user system elapsed
amcc 1.70 0.02 23.01
cosinePerm 0.69 0.02 10.67
gwc 0.65 0.00 12.19
connectivityScore 0.60 0.00 10.67
mcc 0.57 0.00 12.80
** running examples for arch 'x64' ... OK
Examples with CPU (user + system) or elapsed time > 5s
user system elapsed
amcc 2.50 0.04 26.11
cosinePerm 0.80 0.00 13.10
gwc 0.79 0.01 13.41
mcc 0.76 0.00 13.45
connectivityScore 0.67 0.02 12.06
* checking for unstated dependencies in 'tests' ... OK
* checking tests ...
** running tests for arch 'i386' ...
Running 'testthat.R'
OK
** running tests for arch 'x64' ...
Running 'testthat.R'
OK
* checking for unstated dependencies in vignettes ... OK
* checking package vignettes in 'inst/doc' ... OK
* checking running R code from vignettes ... SKIPPED
* checking re-building of vignette outputs ... SKIPPED
* checking PDF version of manual ... OK
* DONE
Status: 2 NOTEs
See
'C:/Users/biocbuild/bbs-3.14-bioc/meat/CoreGx.Rcheck/00check.log'
for details.
CoreGx.Rcheck/00install.out
##############################################################################
##############################################################################
###
### Running command:
###
### C:\cygwin\bin\curl.exe -O http://155.52.207.166/BBS/3.14/bioc/src/contrib/CoreGx_1.6.0.tar.gz && rm -rf CoreGx.buildbin-libdir && mkdir CoreGx.buildbin-libdir && C:\Users\biocbuild\bbs-3.14-bioc\R\bin\R.exe CMD INSTALL --merge-multiarch --build --library=CoreGx.buildbin-libdir CoreGx_1.6.0.tar.gz && C:\Users\biocbuild\bbs-3.14-bioc\R\bin\R.exe CMD INSTALL CoreGx_1.6.0.zip && rm CoreGx_1.6.0.tar.gz CoreGx_1.6.0.zip
###
##############################################################################
##############################################################################
% Total % Received % Xferd Average Speed Time Time Time Current
Dload Upload Total Spent Left Speed
0 0 0 0 0 0 0 0 --:--:-- --:--:-- --:--:-- 0
0 0 0 0 0 0 0 0 --:--:-- --:--:-- --:--:-- 0
100 1210k 100 1210k 0 0 2138k 0 --:--:-- --:--:-- --:--:-- 2138k
install for i386
* installing *source* package 'CoreGx' ...
** using staged installation
** R
** data
*** moving datasets to lazyload DB
Creating a generic function for 'colnames' from package 'base' in package 'CoreGx'
Creating a generic function for 'rownames' from package 'base' in package 'CoreGx'
** inst
** byte-compile and prepare package for lazy loading
** help
*** installing help indices
converting help for package 'CoreGx'
finding HTML links ... done
CoreSet-accessors html
CoreSet-class html
CoreSet-utils html
CoreSet html
CoreSet2 html
Create html
DataMapper-accessors html
DataMapper-class html
LongTable-accessors html
LongTable-class html
LongTable html
LongTableDataMapper-accessors html
REDIRECT:topic Previous alias or file overwritten by alias: C:/Users/biocbuild/bbs-3.14-bioc/meat/CoreGx.buildbin-libdir/00LOCK-CoreGx/00new/CoreGx/help/assayMap+2CLongTableDataMapper+2CList-method.html
LongTableDataMapper-class html
LongTableDataMapper html
TREDataMapper-class html
TREDataMapper html
TreatmentResponseExperiment-class html
TreatmentResponseExperiment html
amcc html
as html
as.long.table html
assayCols html
buildLongTable html
callingWaterfall html
cash-LongTable-method html
cash-set-LongTable-method html
checkColumnCardinality html
checkCsetStructure html
clevelandSmall_cSet html
colIDs html
colMeta html
connectivityScore html
cosinePerm html
dot- html
dot-assayToBumpyMatrix html
dot-convertCSetMolecularProfilesToSE html
dot-distancePointLine html
dot-distancePointSegment html
dot-intersectList html
dot-longTableToSummarizedExperiment html
dot-sensitivityToLongTable html
dot-symSetDiffList html
dot-unionList html
drugSensitivitySig html
exampleDataMapper html
getIntern html
guessMapping-LongTableDataMapper-method
html
guessMapping html
gwc html
idCols-LongTable-method html
idCols html
is.items html
lapply-MultiAssayExperiment-method html
list_or_LongTable-class html
mcc html
merckLongTable html
metaConstruct html
metadata-LongTable-method html
metadata-set-LongTable-method html
reindex-LongTable-method html
reindex html
rowIDs html
rowMeta html
sensitivityInfo-set html
sensitivityInfo html
sensitivityMeasures-set html
sensitivityMeasures html
sensitivityProfiles-set html
sensitivityProfiles html
sensitivityRaw-set html
sensitivityRaw html
sensitivitySlotToLongTable html
show-CoreSet-method html
show-LongTable-method html
showSigAnnot html
sub-LongTable-ANY-ANY-ANY-method html
sub-subset-LongTable-ANY-ANY-method html
subset-LongTable-method html
subsetTo html
summarizeMolecularProfiles html
summarizeSensitivityProfiles html
updateCellId html
** building package indices
** installing vignettes
** testing if installed package can be loaded from temporary location
** testing if installed package can be loaded from final location
** testing if installed package keeps a record of temporary installation path
install for x64
* installing *source* package 'CoreGx' ...
** testing if installed package can be loaded
* MD5 sums
packaged installation of 'CoreGx' as CoreGx_1.6.0.zip
* DONE (CoreGx)
* installing to library 'C:/Users/biocbuild/bbs-3.14-bioc/R/library'
package 'CoreGx' successfully unpacked and MD5 sums checked
|
CoreGx.Rcheck/tests_i386/testthat.Rout
R version 4.1.3 (2022-03-10) -- "One Push-Up"
Copyright (C) 2022 The R Foundation for Statistical Computing
Platform: i386-w64-mingw32/i386 (32-bit)
R is free software and comes with ABSOLUTELY NO WARRANTY.
You are welcome to redistribute it under certain conditions.
Type 'license()' or 'licence()' for distribution details.
R is a collaborative project with many contributors.
Type 'contributors()' for more information and
'citation()' on how to cite R or R packages in publications.
Type 'demo()' for some demos, 'help()' for on-line help, or
'help.start()' for an HTML browser interface to help.
Type 'q()' to quit R.
> library(testthat)
> library(CoreGx)
Loading required package: BiocGenerics
Attaching package: 'BiocGenerics'
The following objects are masked from 'package:stats':
IQR, mad, sd, var, xtabs
The following objects are masked from 'package:base':
Filter, Find, Map, Position, Reduce, anyDuplicated, append,
as.data.frame, basename, cbind, colnames, dirname, do.call,
duplicated, eval, evalq, get, grep, grepl, intersect, is.unsorted,
lapply, mapply, match, mget, order, paste, pmax, pmax.int, pmin,
pmin.int, rank, rbind, rownames, sapply, setdiff, sort, table,
tapply, union, unique, unsplit, which.max, which.min
Loading required package: SummarizedExperiment
Loading required package: MatrixGenerics
Loading required package: matrixStats
Attaching package: 'MatrixGenerics'
The following objects are masked from 'package:matrixStats':
colAlls, colAnyNAs, colAnys, colAvgsPerRowSet, colCollapse,
colCounts, colCummaxs, colCummins, colCumprods, colCumsums,
colDiffs, colIQRDiffs, colIQRs, colLogSumExps, colMadDiffs,
colMads, colMaxs, colMeans2, colMedians, colMins, colOrderStats,
colProds, colQuantiles, colRanges, colRanks, colSdDiffs, colSds,
colSums2, colTabulates, colVarDiffs, colVars, colWeightedMads,
colWeightedMeans, colWeightedMedians, colWeightedSds,
colWeightedVars, rowAlls, rowAnyNAs, rowAnys, rowAvgsPerColSet,
rowCollapse, rowCounts, rowCummaxs, rowCummins, rowCumprods,
rowCumsums, rowDiffs, rowIQRDiffs, rowIQRs, rowLogSumExps,
rowMadDiffs, rowMads, rowMaxs, rowMeans2, rowMedians, rowMins,
rowOrderStats, rowProds, rowQuantiles, rowRanges, rowRanks,
rowSdDiffs, rowSds, rowSums2, rowTabulates, rowVarDiffs, rowVars,
rowWeightedMads, rowWeightedMeans, rowWeightedMedians,
rowWeightedSds, rowWeightedVars
Loading required package: GenomicRanges
Loading required package: stats4
Loading required package: S4Vectors
Attaching package: 'S4Vectors'
The following objects are masked from 'package:base':
I, expand.grid, unname
Loading required package: IRanges
Attaching package: 'IRanges'
The following object is masked from 'package:grDevices':
windows
Loading required package: GenomeInfoDb
Loading required package: Biobase
Welcome to Bioconductor
Vignettes contain introductory material; view with
'browseVignettes()'. To cite Bioconductor, see
'citation("Biobase")', and for packages 'citation("pkgname")'.
Attaching package: 'Biobase'
The following object is masked from 'package:MatrixGenerics':
rowMedians
The following objects are masked from 'package:matrixStats':
anyMissing, rowMedians
>
> test_check("CoreGx")
[ FAIL 0 | WARN 0 | SKIP 0 | PASS 0 ]
>
> proc.time()
user system elapsed
8.37 0.79 9.15
|
CoreGx.Rcheck/tests_x64/testthat.Rout
R version 4.1.3 (2022-03-10) -- "One Push-Up"
Copyright (C) 2022 The R Foundation for Statistical Computing
Platform: x86_64-w64-mingw32/x64 (64-bit)
R is free software and comes with ABSOLUTELY NO WARRANTY.
You are welcome to redistribute it under certain conditions.
Type 'license()' or 'licence()' for distribution details.
R is a collaborative project with many contributors.
Type 'contributors()' for more information and
'citation()' on how to cite R or R packages in publications.
Type 'demo()' for some demos, 'help()' for on-line help, or
'help.start()' for an HTML browser interface to help.
Type 'q()' to quit R.
> library(testthat)
> library(CoreGx)
Loading required package: BiocGenerics
Attaching package: 'BiocGenerics'
The following objects are masked from 'package:stats':
IQR, mad, sd, var, xtabs
The following objects are masked from 'package:base':
Filter, Find, Map, Position, Reduce, anyDuplicated, append,
as.data.frame, basename, cbind, colnames, dirname, do.call,
duplicated, eval, evalq, get, grep, grepl, intersect, is.unsorted,
lapply, mapply, match, mget, order, paste, pmax, pmax.int, pmin,
pmin.int, rank, rbind, rownames, sapply, setdiff, sort, table,
tapply, union, unique, unsplit, which.max, which.min
Loading required package: SummarizedExperiment
Loading required package: MatrixGenerics
Loading required package: matrixStats
Attaching package: 'MatrixGenerics'
The following objects are masked from 'package:matrixStats':
colAlls, colAnyNAs, colAnys, colAvgsPerRowSet, colCollapse,
colCounts, colCummaxs, colCummins, colCumprods, colCumsums,
colDiffs, colIQRDiffs, colIQRs, colLogSumExps, colMadDiffs,
colMads, colMaxs, colMeans2, colMedians, colMins, colOrderStats,
colProds, colQuantiles, colRanges, colRanks, colSdDiffs, colSds,
colSums2, colTabulates, colVarDiffs, colVars, colWeightedMads,
colWeightedMeans, colWeightedMedians, colWeightedSds,
colWeightedVars, rowAlls, rowAnyNAs, rowAnys, rowAvgsPerColSet,
rowCollapse, rowCounts, rowCummaxs, rowCummins, rowCumprods,
rowCumsums, rowDiffs, rowIQRDiffs, rowIQRs, rowLogSumExps,
rowMadDiffs, rowMads, rowMaxs, rowMeans2, rowMedians, rowMins,
rowOrderStats, rowProds, rowQuantiles, rowRanges, rowRanks,
rowSdDiffs, rowSds, rowSums2, rowTabulates, rowVarDiffs, rowVars,
rowWeightedMads, rowWeightedMeans, rowWeightedMedians,
rowWeightedSds, rowWeightedVars
Loading required package: GenomicRanges
Loading required package: stats4
Loading required package: S4Vectors
Attaching package: 'S4Vectors'
The following objects are masked from 'package:base':
I, expand.grid, unname
Loading required package: IRanges
Attaching package: 'IRanges'
The following object is masked from 'package:grDevices':
windows
Loading required package: GenomeInfoDb
Loading required package: Biobase
Welcome to Bioconductor
Vignettes contain introductory material; view with
'browseVignettes()'. To cite Bioconductor, see
'citation("Biobase")', and for packages 'citation("pkgname")'.
Attaching package: 'Biobase'
The following object is masked from 'package:MatrixGenerics':
rowMedians
The following objects are masked from 'package:matrixStats':
anyMissing, rowMedians
>
> test_check("CoreGx")
[ FAIL 0 | WARN 0 | SKIP 0 | PASS 0 ]
>
> proc.time()
user system elapsed
11.32 0.65 11.98
|
|
CoreGx.Rcheck/examples_i386/CoreGx-Ex.timings
|
CoreGx.Rcheck/examples_x64/CoreGx-Ex.timings
|