| Back to Multiple platform build/check report for BioC 3.14 |
|
This page was generated on 2022-04-13 12:05:13 -0400 (Wed, 13 Apr 2022).
| Hostname | OS | Arch (*) | R version | Installed pkgs |
|---|---|---|---|---|
| nebbiolo2 | Linux (Ubuntu 20.04.4 LTS) | x86_64 | 4.1.3 (2022-03-10) -- "One Push-Up" | 4324 |
| tokay2 | Windows Server 2012 R2 Standard | x64 | 4.1.3 (2022-03-10) -- "One Push-Up" | 4077 |
| machv2 | macOS 10.14.6 Mojave | x86_64 | 4.1.3 (2022-03-10) -- "One Push-Up" | 4137 |
| Click on any hostname to see more info about the system (e.g. compilers) (*) as reported by 'uname -p', except on Windows and Mac OS X | ||||
|
To the developers/maintainers of the CoreGx package: - Please allow up to 24 hours (and sometimes 48 hours) for your latest push to git@git.bioconductor.org:packages/CoreGx.git to reflect on this report. See How and When does the builder pull? When will my changes propagate? for more information. - Make sure to use the following settings in order to reproduce any error or warning you see on this page. |
| Package 400/2083 | Hostname | OS / Arch | INSTALL | BUILD | CHECK | BUILD BIN | ||||||||
| CoreGx 1.6.0 (landing page) Benjamin Haibe-Kains
| nebbiolo2 | Linux (Ubuntu 20.04.4 LTS) / x86_64 | OK | OK | OK | |||||||||
| tokay2 | Windows Server 2012 R2 Standard / x64 | OK | OK | OK | OK | |||||||||
| machv2 | macOS 10.14.6 Mojave / x86_64 | OK | OK | OK | OK | |||||||||
| Package: CoreGx |
| Version: 1.6.0 |
| Command: /home/biocbuild/bbs-3.14-bioc/R/bin/R CMD check --install=check:CoreGx.install-out.txt --library=/home/biocbuild/bbs-3.14-bioc/R/library --no-vignettes --timings CoreGx_1.6.0.tar.gz |
| StartedAt: 2022-04-12 06:57:55 -0400 (Tue, 12 Apr 2022) |
| EndedAt: 2022-04-12 07:01:26 -0400 (Tue, 12 Apr 2022) |
| EllapsedTime: 211.6 seconds |
| RetCode: 0 |
| Status: OK |
| CheckDir: CoreGx.Rcheck |
| Warnings: 0 |
############################################################################## ############################################################################## ### ### Running command: ### ### /home/biocbuild/bbs-3.14-bioc/R/bin/R CMD check --install=check:CoreGx.install-out.txt --library=/home/biocbuild/bbs-3.14-bioc/R/library --no-vignettes --timings CoreGx_1.6.0.tar.gz ### ############################################################################## ############################################################################## * using log directory ‘/home/biocbuild/bbs-3.14-bioc/meat/CoreGx.Rcheck’ * using R version 4.1.3 (2022-03-10) * using platform: x86_64-pc-linux-gnu (64-bit) * using session charset: UTF-8 * using option ‘--no-vignettes’ * checking for file ‘CoreGx/DESCRIPTION’ ... OK * checking extension type ... Package * this is package ‘CoreGx’ version ‘1.6.0’ * package encoding: UTF-8 * checking package namespace information ... OK * checking package dependencies ... OK * checking if this is a source package ... OK * checking if there is a namespace ... OK * checking for hidden files and directories ... OK * checking for portable file names ... OK * checking for sufficient/correct file permissions ... OK * checking whether package ‘CoreGx’ can be installed ... OK * checking installed package size ... OK * checking package directory ... OK * checking ‘build’ directory ... OK * checking DESCRIPTION meta-information ... OK * checking top-level files ... OK * checking for left-over files ... OK * checking index information ... OK * checking package subdirectories ... OK * checking R files for non-ASCII characters ... OK * checking R files for syntax errors ... OK * checking whether the package can be loaded ... OK * checking whether the package can be loaded with stated dependencies ... OK * checking whether the package can be unloaded cleanly ... OK * checking whether the namespace can be loaded with stated dependencies ... OK * checking whether the namespace can be unloaded cleanly ... OK * checking dependencies in R code ... OK * checking S3 generic/method consistency ... OK * checking replacement functions ... OK * checking foreign function calls ... OK * checking R code for possible problems ... NOTE .paste_slashes: no visible binding for global variable ‘..’ .rebuildInfo: no visible global function definition for ‘patterns’ .rebuildInfo: no visible binding for global variable ‘..keepCols’ .rebuildInfo: no visible binding for global variable ‘drugid’ .rebuildInfo: no visible binding for global variable ‘drug1id’ .rebuildInfo: no visible binding for global variable ‘drug_uid’ .rebuildInfo: no visible binding for global variable ‘..rowIDcols’ .rebuildInfo: no visible binding for global variable ‘cell_uid’ .rebuildInfo: no visible binding for global variable ‘..colIDcols’ .rebuildInfo: no visible binding for global variable ‘exp_id’ .rebuildProfiles: no visible binding for global variable ‘cell_uid’ .rebuildProfiles: no visible binding for global variable ‘drug_uid’ .rebuildProfiles: no visible binding for global variable ‘exp_id’ .rebuildRaw: no visible binding for global variable ‘.NATURAL’ .rebuildRaw: no visible binding for global variable ‘cellid’ .rebuildRaw: no visible binding for global variable ‘exp_id’ .rebuildRaw: no visible binding for global variable ‘drug1id’ .rebuildRaw: no visible binding for global variable ‘row_ids’ .rebuildRaw: no visible binding for global variable ‘col_ids’ .rebuildRaw: no visible binding for global variable ‘dose’ .rebuildRaw: no visible global function definition for ‘patterns’ .rebuildSensNumber: no visible global function definition for ‘patterns’ .rebuildSensNumber: no visible binding for global variable ‘.drugCombo’ .rebuildSensNumber: no visible binding for global variable ‘.cellCombo’ .sensitivityToLongTable: no visible binding for global variable ‘dose’ .sensitivityToLongTable: no visible binding for global variable ‘viability’ .sensitivityToLongTable: no visible binding for global variable ‘replicate_id’ .summarizePerturbationNumbers: no visible global function definition for ‘drugInfo’ .summarizeSensitivityNumbers: no visible global function definition for ‘drugInfo’ assay<-,LongTable-character: no visible binding for global variable ‘..missingRowCols’ assay<-,LongTable-character: no visible binding for global variable ‘..missingColCols’ coerce,SummarizedExperiment-data.table: no visible binding for global variable ‘.sample’ coerce,SummarizedExperiment-data.table: no visible binding for global variable ‘.feature’ colData<-,LongTable-ANY: no visible binding for global variable ‘.NATURAL’ colData<-,LongTable-ANY: no visible binding for global variable ‘.colnames’ metaConstruct,LongTableDataMapper: no visible binding for global variable ‘..rowIDs’ metaConstruct,LongTableDataMapper: no visible binding for global variable ‘..colIDs’ rowData<-,LongTable: no visible binding for global variable ‘.NATURAL’ rowData<-,LongTable: no visible binding for global variable ‘.rownames’ sensitivityRaw<-,CoreSet-array: no visible binding for global variable ‘V2’ sensitivityRaw<-,CoreSet-array: no visible binding for global variable ‘V1’ sensitivityRaw<-,CoreSet-array: no visible binding for global variable ‘cell_uid’ sensitivityRaw<-,CoreSet-array: no visible binding for global variable ‘rn’ sensitivityRaw<-,CoreSet-array: no visible binding for global variable ‘row_id’ sensitivityRaw<-,CoreSet-array: no visible binding for global variable ‘col_id’ sensitivitySlot<-,CoreSet-list_or_LongTable: no visible binding for global variable ‘funContext’ updateObject,CoreSet: no visible global function definition for ‘isValid’ Undefined global functions or variables: .. ..colIDcols ..colIDs ..keepCols ..missingColCols ..missingRowCols ..rowIDcols ..rowIDs .NATURAL .cellCombo .colnames .drugCombo .feature .rownames .sample V1 V2 cell_uid cellid col_id col_ids dose drug1id drugInfo drug_uid drugid exp_id funContext isValid patterns replicate_id rn row_id row_ids viability * checking Rd files ... OK * checking Rd metadata ... OK * checking Rd cross-references ... OK * checking for missing documentation entries ... OK * checking for code/documentation mismatches ... OK * checking Rd \usage sections ... OK * checking Rd contents ... OK * checking for unstated dependencies in examples ... OK * checking contents of ‘data’ directory ... OK * checking data for non-ASCII characters ... NOTE Note: found 8 marked UTF-8 strings * checking LazyData ... OK * checking data for ASCII and uncompressed saves ... OK * checking files in ‘vignettes’ ... OK * checking examples ... OK * checking for unstated dependencies in ‘tests’ ... OK * checking tests ... Running ‘testthat.R’ OK * checking for unstated dependencies in vignettes ... OK * checking package vignettes in ‘inst/doc’ ... OK * checking running R code from vignettes ... SKIPPED * checking re-building of vignette outputs ... SKIPPED * checking PDF version of manual ... OK * DONE Status: 2 NOTEs See ‘/home/biocbuild/bbs-3.14-bioc/meat/CoreGx.Rcheck/00check.log’ for details.
CoreGx.Rcheck/00install.out
############################################################################## ############################################################################## ### ### Running command: ### ### /home/biocbuild/bbs-3.14-bioc/R/bin/R CMD INSTALL CoreGx ### ############################################################################## ############################################################################## * installing to library ‘/home/biocbuild/bbs-3.14-bioc/R/library’ * installing *source* package ‘CoreGx’ ... ** using staged installation ** R ** data *** moving datasets to lazyload DB Creating a generic function for ‘colnames’ from package ‘base’ in package ‘CoreGx’ Creating a generic function for ‘rownames’ from package ‘base’ in package ‘CoreGx’ ** inst ** byte-compile and prepare package for lazy loading ** help *** installing help indices ** building package indices ** installing vignettes ** testing if installed package can be loaded from temporary location ** testing if installed package can be loaded from final location ** testing if installed package keeps a record of temporary installation path * DONE (CoreGx)
CoreGx.Rcheck/tests/testthat.Rout
R version 4.1.3 (2022-03-10) -- "One Push-Up"
Copyright (C) 2022 The R Foundation for Statistical Computing
Platform: x86_64-pc-linux-gnu (64-bit)
R is free software and comes with ABSOLUTELY NO WARRANTY.
You are welcome to redistribute it under certain conditions.
Type 'license()' or 'licence()' for distribution details.
R is a collaborative project with many contributors.
Type 'contributors()' for more information and
'citation()' on how to cite R or R packages in publications.
Type 'demo()' for some demos, 'help()' for on-line help, or
'help.start()' for an HTML browser interface to help.
Type 'q()' to quit R.
> library(testthat)
> library(CoreGx)
Loading required package: BiocGenerics
Attaching package: 'BiocGenerics'
The following objects are masked from 'package:stats':
IQR, mad, sd, var, xtabs
The following objects are masked from 'package:base':
Filter, Find, Map, Position, Reduce, anyDuplicated, append,
as.data.frame, basename, cbind, colnames, dirname, do.call,
duplicated, eval, evalq, get, grep, grepl, intersect, is.unsorted,
lapply, mapply, match, mget, order, paste, pmax, pmax.int, pmin,
pmin.int, rank, rbind, rownames, sapply, setdiff, sort, table,
tapply, union, unique, unsplit, which.max, which.min
Loading required package: SummarizedExperiment
Loading required package: MatrixGenerics
Loading required package: matrixStats
Attaching package: 'MatrixGenerics'
The following objects are masked from 'package:matrixStats':
colAlls, colAnyNAs, colAnys, colAvgsPerRowSet, colCollapse,
colCounts, colCummaxs, colCummins, colCumprods, colCumsums,
colDiffs, colIQRDiffs, colIQRs, colLogSumExps, colMadDiffs,
colMads, colMaxs, colMeans2, colMedians, colMins, colOrderStats,
colProds, colQuantiles, colRanges, colRanks, colSdDiffs, colSds,
colSums2, colTabulates, colVarDiffs, colVars, colWeightedMads,
colWeightedMeans, colWeightedMedians, colWeightedSds,
colWeightedVars, rowAlls, rowAnyNAs, rowAnys, rowAvgsPerColSet,
rowCollapse, rowCounts, rowCummaxs, rowCummins, rowCumprods,
rowCumsums, rowDiffs, rowIQRDiffs, rowIQRs, rowLogSumExps,
rowMadDiffs, rowMads, rowMaxs, rowMeans2, rowMedians, rowMins,
rowOrderStats, rowProds, rowQuantiles, rowRanges, rowRanks,
rowSdDiffs, rowSds, rowSums2, rowTabulates, rowVarDiffs, rowVars,
rowWeightedMads, rowWeightedMeans, rowWeightedMedians,
rowWeightedSds, rowWeightedVars
Loading required package: GenomicRanges
Loading required package: stats4
Loading required package: S4Vectors
Attaching package: 'S4Vectors'
The following objects are masked from 'package:base':
I, expand.grid, unname
Loading required package: IRanges
Loading required package: GenomeInfoDb
Loading required package: Biobase
Welcome to Bioconductor
Vignettes contain introductory material; view with
'browseVignettes()'. To cite Bioconductor, see
'citation("Biobase")', and for packages 'citation("pkgname")'.
Attaching package: 'Biobase'
The following object is masked from 'package:MatrixGenerics':
rowMedians
The following objects are masked from 'package:matrixStats':
anyMissing, rowMedians
>
> test_check("CoreGx")
[ FAIL 0 | WARN 0 | SKIP 0 | PASS 0 ]
>
> proc.time()
user system elapsed
8.680 0.547 9.210
CoreGx.Rcheck/CoreGx-Ex.timings
| name | user | system | elapsed | |
| CoreSet-accessors | 2.051 | 0.012 | 2.036 | |
| CoreSet-utils | 0.425 | 0.044 | 0.469 | |
| CoreSet | 0.024 | 0.000 | 0.024 | |
| CoreSet2 | 0.020 | 0.004 | 0.025 | |
| Create | 0.080 | 0.020 | 0.059 | |
| LongTable-accessors | 0.001 | 0.000 | 0.001 | |
| LongTable-class | 0.378 | 0.001 | 0.234 | |
| LongTable | 0.026 | 0.000 | 0.016 | |
| LongTableDataMapper-accessors | 0.007 | 0.000 | 0.002 | |
| LongTableDataMapper-class | 0.004 | 0.000 | 0.003 | |
| LongTableDataMapper | 0.004 | 0.000 | 0.004 | |
| amcc | 1.426 | 0.097 | 2.286 | |
| as | 0.934 | 0.427 | 0.424 | |
| as.long.table | 0.146 | 0.012 | 0.105 | |
| assayCols | 0 | 0 | 0 | |
| buildLongTable | 0 | 0 | 0 | |
| callingWaterfall | 0 | 0 | 0 | |
| cash-LongTable-method | 0.013 | 0.000 | 0.009 | |
| cash-set-LongTable-method | 0.059 | 0.000 | 0.033 | |
| checkColumnCardinality | 0.002 | 0.000 | 0.002 | |
| checkCsetStructure | 0.047 | 0.000 | 0.043 | |
| colIDs | 0 | 0 | 0 | |
| colMeta | 0 | 0 | 0 | |
| connectivityScore | 0.009 | 0.017 | 0.132 | |
| cosinePerm | 0.045 | 0.111 | 0.106 | |
| dot- | 0 | 0 | 0 | |
| dot-distancePointLine | 0 | 0 | 0 | |
| dot-distancePointSegment | 0.000 | 0.000 | 0.001 | |
| dot-intersectList | 0.000 | 0.001 | 0.001 | |
| dot-symSetDiffList | 0.000 | 0.001 | 0.000 | |
| dot-unionList | 0 | 0 | 0 | |
| getIntern | 0.000 | 0.001 | 0.000 | |
| guessMapping-LongTableDataMapper-method | 0.006 | 0.003 | 0.008 | |
| gwc | 0.055 | 0.096 | 0.182 | |
| idCols-LongTable-method | 0.001 | 0.001 | 0.001 | |
| idCols | 0.000 | 0.000 | 0.001 | |
| is.items | 0 | 0 | 0 | |
| mcc | 0.094 | 0.111 | 1.639 | |
| metaConstruct | 1.380 | 0.369 | 0.099 | |
| reindex | 0 | 0 | 0 | |
| rowIDs | 0.001 | 0.000 | 0.000 | |
| rowMeta | 0 | 0 | 0 | |
| sensitivityInfo-set | 0.001 | 0.000 | 0.000 | |
| sensitivityInfo | 0 | 0 | 0 | |
| sensitivityMeasures-set | 0 | 0 | 0 | |
| sensitivityMeasures | 0.007 | 0.000 | 0.007 | |
| sensitivityProfiles | 0 | 0 | 0 | |
| sensitivityRaw | 0.000 | 0.000 | 0.001 | |
| sensitivitySlotToLongTable | 0 | 0 | 0 | |
| show-CoreSet-method | 0.016 | 0.000 | 0.016 | |
| show-LongTable-method | 0.022 | 0.000 | 0.014 | |
| showSigAnnot | 0 | 0 | 0 | |
| sub-LongTable-ANY-ANY-ANY-method | 0.278 | 0.040 | 0.302 | |
| sub-subset-LongTable-ANY-ANY-method | 0.050 | 0.000 | 0.029 | |
| subset-LongTable-method | 0.205 | 0.004 | 0.190 | |
| summarizeMolecularProfiles | 0.001 | 0.000 | 0.000 | |
| summarizeSensitivityProfiles | 0 | 0 | 0 | |
| updateCellId | 0.165 | 0.012 | 0.170 | |