| Back to Multiple platform build/check report for BioC 3.14 |
|
This page was generated on 2022-04-13 12:06:09 -0400 (Wed, 13 Apr 2022).
| Hostname | OS | Arch (*) | R version | Installed pkgs |
|---|---|---|---|---|
| nebbiolo2 | Linux (Ubuntu 20.04.4 LTS) | x86_64 | 4.1.3 (2022-03-10) -- "One Push-Up" | 4324 |
| tokay2 | Windows Server 2012 R2 Standard | x64 | 4.1.3 (2022-03-10) -- "One Push-Up" | 4077 |
| machv2 | macOS 10.14.6 Mojave | x86_64 | 4.1.3 (2022-03-10) -- "One Push-Up" | 4137 |
| Click on any hostname to see more info about the system (e.g. compilers) (*) as reported by 'uname -p', except on Windows and Mac OS X | ||||
|
To the developers/maintainers of the AllelicImbalance package: - Please allow up to 24 hours (and sometimes 48 hours) for your latest push to git@git.bioconductor.org:packages/AllelicImbalance.git to reflect on this report. See How and When does the builder pull? When will my changes propagate? for more information. - Make sure to use the following settings in order to reproduce any error or warning you see on this page. |
| Package 42/2083 | Hostname | OS / Arch | INSTALL | BUILD | CHECK | BUILD BIN | ||||||||
| AllelicImbalance 1.32.0 (landing page) Jesper R Gadin
| nebbiolo2 | Linux (Ubuntu 20.04.4 LTS) / x86_64 | OK | OK | OK | |||||||||
| tokay2 | Windows Server 2012 R2 Standard / x64 | OK | OK | OK | OK | |||||||||
| machv2 | macOS 10.14.6 Mojave / x86_64 | OK | OK | OK | OK | |||||||||
| Package: AllelicImbalance |
| Version: 1.32.0 |
| Command: rm -rf AllelicImbalance.buildbin-libdir && mkdir AllelicImbalance.buildbin-libdir && C:\Users\biocbuild\bbs-3.14-bioc\R\bin\R.exe CMD INSTALL --merge-multiarch --build --library=AllelicImbalance.buildbin-libdir AllelicImbalance_1.32.0.tar.gz |
| StartedAt: 2022-04-13 05:34:21 -0400 (Wed, 13 Apr 2022) |
| EndedAt: 2022-04-13 05:36:30 -0400 (Wed, 13 Apr 2022) |
| EllapsedTime: 129.2 seconds |
| RetCode: 0 |
| Status: OK |
| PackageFile: AllelicImbalance_1.32.0.zip |
| PackageFileSize: 1.4 MiB |
##############################################################################
##############################################################################
###
### Running command:
###
### rm -rf AllelicImbalance.buildbin-libdir && mkdir AllelicImbalance.buildbin-libdir && C:\Users\biocbuild\bbs-3.14-bioc\R\bin\R.exe CMD INSTALL --merge-multiarch --build --library=AllelicImbalance.buildbin-libdir AllelicImbalance_1.32.0.tar.gz
###
##############################################################################
##############################################################################
install for i386
* installing *source* package 'AllelicImbalance' ...
** using staged installation
** R
** data
*** moving datasets to lazyload DB
** inst
** byte-compile and prepare package for lazy loading
Creating a generic function for 'chisq.test' from package 'stats' in package 'AllelicImbalance'
Creating a generic function for 'binom.test' from package 'stats' in package 'AllelicImbalance'
** help
*** installing help indices
converting help for package 'AllelicImbalance'
finding HTML links ... done
ASEset-barplot html
ASEset-class html
ASEset-filters html
ASEset-gbarplot html
ASEset-glocationplot html
ASEset-gviztrack html
ASEset-scanForHeterozygotes html
ASEset.old html
ASEset.sim html
ASEsetFromBam html
AllelicImbalance-package html
DetectedAI-class html
DetectedAI-plot html
DetectedAI-summary html
GRvariants html
GlobalAnalysis-class html
LinkVariantAlmlof-class html
LinkVariantAlmlof-plot html
RegionSummary-class html
RiskVariant-class html
annotation-wrappers html
annotationBarplot html
barplot-lattice-support html
binom.test html
chisq.test html
cigar-utilities html
countAllelesFromBam html
coverageMatrixListFromGAL html
decorateWithExons html
decorateWithGenes html
defaultMapBias html
defaultPhase html
detectAI html
fractionPlotDf html
gba html
genomatrix html
genotype2phase html
getAlleleCounts html
getAlleleQuality html
getAreaFromGeneNames html
getDefaultMapBiasExpMean html
getSnpIdFromLocation html
histplot html
implodeList-old html
import-bam-2 html
import-bam html
import-bcf html
inferAlleles html
inferAltAllele html
inferGenotypes html
initialize-ASEset html
initialize-DetectedAI html
initialize-GlobalAnalysis html
initialize-RiskVariant html
legendBarplot html
locationplot html
lva html
lva.internal html
makeMaskedFasta html
mapBiasRef html
minCountFilt html
minFreqFilt html
REDIRECT:topic Previous alias or file overwritten by alias: C:/Users/biocbuild/bbs-3.14-bioc/meat/AllelicImbalance.buildbin-libdir/00LOCK-AllelicImbalance/00new/AllelicImbalance/help/minfreqFilt.html
multiAllelicFilt html
phase2genotype html
phaseArray2phaseMatrix html
phaseMatrix2Array html
randomRef html
reads html
refAllele html
regionSummary html
REDIRECT:topic Previous alias or file overwritten by alias: C:/Users/biocbuild/bbs-3.14-bioc/meat/AllelicImbalance.buildbin-libdir/00LOCK-AllelicImbalance/00new/AllelicImbalance/help/regionSummary.html
scanForHeterozygotes-old html
** building package indices
** installing vignettes
** testing if installed package can be loaded from temporary location
** testing if installed package can be loaded from final location
** testing if installed package keeps a record of temporary installation path
install for x64
* installing *source* package 'AllelicImbalance' ...
** testing if installed package can be loaded
* MD5 sums
packaged installation of 'AllelicImbalance' as AllelicImbalance_1.32.0.zip
* DONE (AllelicImbalance)