| Back to Multiple platform build/check report for BioC 3.14 |
|
This page was generated on 2022-04-13 12:05:03 -0400 (Wed, 13 Apr 2022).
| Hostname | OS | Arch (*) | R version | Installed pkgs |
|---|---|---|---|---|
| nebbiolo2 | Linux (Ubuntu 20.04.4 LTS) | x86_64 | 4.1.3 (2022-03-10) -- "One Push-Up" | 4324 |
| tokay2 | Windows Server 2012 R2 Standard | x64 | 4.1.3 (2022-03-10) -- "One Push-Up" | 4077 |
| machv2 | macOS 10.14.6 Mojave | x86_64 | 4.1.3 (2022-03-10) -- "One Push-Up" | 4137 |
| Click on any hostname to see more info about the system (e.g. compilers) (*) as reported by 'uname -p', except on Windows and Mac OS X | ||||
|
To the developers/maintainers of the AllelicImbalance package: - Please allow up to 24 hours (and sometimes 48 hours) for your latest push to git@git.bioconductor.org:packages/AllelicImbalance.git to reflect on this report. See How and When does the builder pull? When will my changes propagate? for more information. - Make sure to use the following settings in order to reproduce any error or warning you see on this page. |
| Package 42/2083 | Hostname | OS / Arch | INSTALL | BUILD | CHECK | BUILD BIN | ||||||||
| AllelicImbalance 1.32.0 (landing page) Jesper R Gadin
| nebbiolo2 | Linux (Ubuntu 20.04.4 LTS) / x86_64 | OK | OK | OK | |||||||||
| tokay2 | Windows Server 2012 R2 Standard / x64 | OK | OK | OK | OK | |||||||||
| machv2 | macOS 10.14.6 Mojave / x86_64 | OK | OK | OK | OK | |||||||||
| Package: AllelicImbalance |
| Version: 1.32.0 |
| Command: /home/biocbuild/bbs-3.14-bioc/R/bin/R CMD check --install=check:AllelicImbalance.install-out.txt --library=/home/biocbuild/bbs-3.14-bioc/R/library --no-vignettes --timings AllelicImbalance_1.32.0.tar.gz |
| StartedAt: 2022-04-12 06:20:57 -0400 (Tue, 12 Apr 2022) |
| EndedAt: 2022-04-12 06:28:59 -0400 (Tue, 12 Apr 2022) |
| EllapsedTime: 481.7 seconds |
| RetCode: 0 |
| Status: OK |
| CheckDir: AllelicImbalance.Rcheck |
| Warnings: 0 |
##############################################################################
##############################################################################
###
### Running command:
###
### /home/biocbuild/bbs-3.14-bioc/R/bin/R CMD check --install=check:AllelicImbalance.install-out.txt --library=/home/biocbuild/bbs-3.14-bioc/R/library --no-vignettes --timings AllelicImbalance_1.32.0.tar.gz
###
##############################################################################
##############################################################################
* using log directory ‘/home/biocbuild/bbs-3.14-bioc/meat/AllelicImbalance.Rcheck’
* using R version 4.1.3 (2022-03-10)
* using platform: x86_64-pc-linux-gnu (64-bit)
* using session charset: UTF-8
* using option ‘--no-vignettes’
* checking for file ‘AllelicImbalance/DESCRIPTION’ ... OK
* checking extension type ... Package
* this is package ‘AllelicImbalance’ version ‘1.32.0’
* package encoding: UTF-8
* checking package namespace information ... OK
* checking package dependencies ... OK
* checking if this is a source package ... OK
* checking if there is a namespace ... OK
* checking for hidden files and directories ... OK
* checking for portable file names ... OK
* checking for sufficient/correct file permissions ... OK
* checking whether package ‘AllelicImbalance’ can be installed ... OK
* checking installed package size ... OK
* checking package directory ... OK
* checking ‘build’ directory ... OK
* checking DESCRIPTION meta-information ... OK
* checking top-level files ... OK
* checking for left-over files ... OK
* checking index information ... OK
* checking package subdirectories ... OK
* checking R files for non-ASCII characters ... OK
* checking R files for syntax errors ... OK
* checking whether the package can be loaded ... OK
* checking whether the package can be loaded with stated dependencies ... OK
* checking whether the package can be unloaded cleanly ... OK
* checking whether the namespace can be loaded with stated dependencies ... OK
* checking whether the namespace can be unloaded cleanly ... OK
* checking dependencies in R code ... OK
* checking S3 generic/method consistency ... OK
* checking replacement functions ... OK
* checking foreign function calls ... OK
* checking R code for possible problems ... OK
* checking Rd files ... OK
* checking Rd metadata ... OK
* checking Rd cross-references ... OK
* checking for missing documentation entries ... OK
* checking for code/documentation mismatches ... OK
* checking Rd \usage sections ... OK
* checking Rd contents ... OK
* checking for unstated dependencies in examples ... OK
* checking contents of ‘data’ directory ... OK
* checking data for non-ASCII characters ... OK
* checking LazyData ... OK
* checking data for ASCII and uncompressed saves ... OK
* checking files in ‘vignettes’ ... OK
* checking examples ... OK
Examples with CPU (user + system) or elapsed time > 5s
user system elapsed
lva 74.865 0.320 75.184
import-bam 24.080 0.272 24.362
getSnpIdFromLocation 17.686 1.624 19.311
LinkVariantAlmlof-plot 15.704 0.236 15.940
scanForHeterozygotes-old 5.060 0.012 5.071
* checking for unstated dependencies in ‘tests’ ... OK
* checking tests ...
Running ‘test-all.R’
OK
* checking for unstated dependencies in vignettes ... OK
* checking package vignettes in ‘inst/doc’ ... OK
* checking running R code from vignettes ... SKIPPED
* checking re-building of vignette outputs ... SKIPPED
* checking PDF version of manual ... OK
* DONE
Status: OK
AllelicImbalance.Rcheck/00install.out
############################################################################## ############################################################################## ### ### Running command: ### ### /home/biocbuild/bbs-3.14-bioc/R/bin/R CMD INSTALL AllelicImbalance ### ############################################################################## ############################################################################## * installing to library ‘/home/biocbuild/bbs-3.14-bioc/R/library’ * installing *source* package ‘AllelicImbalance’ ... ** using staged installation ** R ** data *** moving datasets to lazyload DB ** inst ** byte-compile and prepare package for lazy loading Creating a generic function for 'chisq.test' from package 'stats' in package 'AllelicImbalance' Creating a generic function for 'binom.test' from package 'stats' in package 'AllelicImbalance' ** help *** installing help indices ** building package indices ** installing vignettes ** testing if installed package can be loaded from temporary location ** testing if installed package can be loaded from final location ** testing if installed package keeps a record of temporary installation path * DONE (AllelicImbalance)
AllelicImbalance.Rcheck/tests/test-all.Rout
R version 4.1.3 (2022-03-10) -- "One Push-Up"
Copyright (C) 2022 The R Foundation for Statistical Computing
Platform: x86_64-pc-linux-gnu (64-bit)
R is free software and comes with ABSOLUTELY NO WARRANTY.
You are welcome to redistribute it under certain conditions.
Type 'license()' or 'licence()' for distribution details.
R is a collaborative project with many contributors.
Type 'contributors()' for more information and
'citation()' on how to cite R or R packages in publications.
Type 'demo()' for some demos, 'help()' for on-line help, or
'help.start()' for an HTML browser interface to help.
Type 'q()' to quit R.
> library(testthat)
> test_check("AllelicImbalance")
Loading required package: AllelicImbalance
Loading required package: grid
Loading required package: GenomicRanges
Loading required package: stats4
Loading required package: BiocGenerics
Attaching package: 'BiocGenerics'
The following objects are masked from 'package:stats':
IQR, mad, sd, var, xtabs
The following objects are masked from 'package:base':
Filter, Find, Map, Position, Reduce, anyDuplicated, append,
as.data.frame, basename, cbind, colnames, dirname, do.call,
duplicated, eval, evalq, get, grep, grepl, intersect, is.unsorted,
lapply, mapply, match, mget, order, paste, pmax, pmax.int, pmin,
pmin.int, rank, rbind, rownames, sapply, setdiff, sort, table,
tapply, union, unique, unsplit, which.max, which.min
Loading required package: S4Vectors
Attaching package: 'S4Vectors'
The following objects are masked from 'package:base':
I, expand.grid, unname
Loading required package: IRanges
Loading required package: GenomeInfoDb
Loading required package: SummarizedExperiment
Loading required package: MatrixGenerics
Loading required package: matrixStats
Attaching package: 'MatrixGenerics'
The following objects are masked from 'package:matrixStats':
colAlls, colAnyNAs, colAnys, colAvgsPerRowSet, colCollapse,
colCounts, colCummaxs, colCummins, colCumprods, colCumsums,
colDiffs, colIQRDiffs, colIQRs, colLogSumExps, colMadDiffs,
colMads, colMaxs, colMeans2, colMedians, colMins, colOrderStats,
colProds, colQuantiles, colRanges, colRanks, colSdDiffs, colSds,
colSums2, colTabulates, colVarDiffs, colVars, colWeightedMads,
colWeightedMeans, colWeightedMedians, colWeightedSds,
colWeightedVars, rowAlls, rowAnyNAs, rowAnys, rowAvgsPerColSet,
rowCollapse, rowCounts, rowCummaxs, rowCummins, rowCumprods,
rowCumsums, rowDiffs, rowIQRDiffs, rowIQRs, rowLogSumExps,
rowMadDiffs, rowMads, rowMaxs, rowMeans2, rowMedians, rowMins,
rowOrderStats, rowProds, rowQuantiles, rowRanges, rowRanks,
rowSdDiffs, rowSds, rowSums2, rowTabulates, rowVarDiffs, rowVars,
rowWeightedMads, rowWeightedMeans, rowWeightedMedians,
rowWeightedSds, rowWeightedVars
Loading required package: Biobase
Welcome to Bioconductor
Vignettes contain introductory material; view with
'browseVignettes()'. To cite Bioconductor, see
'citation("Biobase")', and for packages 'citation("pkgname")'.
Attaching package: 'Biobase'
The following object is masked from 'package:MatrixGenerics':
rowMedians
The following objects are masked from 'package:matrixStats':
anyMissing, rowMedians
Loading required package: GenomicAlignments
Loading required package: Biostrings
Loading required package: XVector
Attaching package: 'Biostrings'
The following object is masked from 'package:grid':
pattern
The following object is masked from 'package:base':
strsplit
Loading required package: Rsamtools
[ FAIL 0 | WARN 0 | SKIP 1 | PASS 96 ]
══ Skipped tests ═══════════════════════════════════════════════════════════════
• empty test (1)
[ FAIL 0 | WARN 0 | SKIP 1 | PASS 96 ]
>
>
>
> proc.time()
user system elapsed
17.195 0.869 18.050
AllelicImbalance.Rcheck/AllelicImbalance-Ex.timings
| name | user | system | elapsed | |
| ASEset-barplot | 0.249 | 0.048 | 0.297 | |
| ASEset-class | 0.496 | 0.004 | 0.500 | |
| ASEset-filters | 0.091 | 0.000 | 0.091 | |
| ASEset-gbarplot | 0.068 | 0.000 | 0.068 | |
| ASEset-glocationplot | 4.712 | 0.180 | 4.892 | |
| ASEset-gviztrack | 0.556 | 0.040 | 0.597 | |
| ASEset-scanForHeterozygotes | 1.536 | 0.024 | 1.560 | |
| ASEset.old | 0 | 0 | 0 | |
| ASEset.sim | 0 | 0 | 0 | |
| ASEsetFromBam | 0.001 | 0.000 | 0.001 | |
| DetectedAI-class | 0.198 | 0.000 | 0.198 | |
| DetectedAI-plot | 1.393 | 0.008 | 1.401 | |
| DetectedAI-summary | 0.241 | 0.008 | 0.249 | |
| GRvariants | 0.001 | 0.000 | 0.001 | |
| GlobalAnalysis-class | 0.001 | 0.000 | 0.001 | |
| LinkVariantAlmlof-class | 0 | 0 | 0 | |
| LinkVariantAlmlof-plot | 15.704 | 0.236 | 15.940 | |
| RegionSummary-class | 0 | 0 | 0 | |
| RiskVariant-class | 0.001 | 0.000 | 0.000 | |
| annotation-wrappers | 3.660 | 0.172 | 3.832 | |
| annotationBarplot | 0 | 0 | 0 | |
| barplot-lattice-support | 0.154 | 0.000 | 0.154 | |
| binom.test | 0.104 | 0.000 | 0.104 | |
| chisq.test | 0.221 | 0.000 | 0.220 | |
| cigar-utilities | 0.01 | 0.00 | 0.01 | |
| countAllelesFromBam | 0.001 | 0.000 | 0.002 | |
| coverageMatrixListFromGAL | 2.056 | 0.104 | 2.161 | |
| decorateWithExons | 0.001 | 0.000 | 0.001 | |
| decorateWithGenes | 0.001 | 0.000 | 0.001 | |
| defaultMapBias | 0.040 | 0.000 | 0.041 | |
| defaultPhase | 0.001 | 0.000 | 0.001 | |
| detectAI | 0.184 | 0.000 | 0.184 | |
| fractionPlotDf | 0.05 | 0.00 | 0.05 | |
| gba | 0 | 0 | 0 | |
| genomatrix | 0 | 0 | 0 | |
| genotype2phase | 0.027 | 0.000 | 0.026 | |
| getAlleleCounts | 3.247 | 0.028 | 3.275 | |
| getAlleleQuality | 3.175 | 0.012 | 3.187 | |
| getAreaFromGeneNames | 0.312 | 0.008 | 0.319 | |
| getDefaultMapBiasExpMean | 0.041 | 0.000 | 0.041 | |
| getSnpIdFromLocation | 17.686 | 1.624 | 19.311 | |
| histplot | 0 | 0 | 0 | |
| implodeList-old | 0.004 | 0.000 | 0.005 | |
| import-bam-2 | 0.012 | 0.000 | 0.013 | |
| import-bam | 24.080 | 0.272 | 24.362 | |
| import-bcf | 1.277 | 0.064 | 1.342 | |
| inferAlleles | 0.016 | 0.000 | 0.016 | |
| inferAltAllele | 0.028 | 0.000 | 0.028 | |
| inferGenotypes | 0.052 | 0.000 | 0.052 | |
| initialize-ASEset | 0.09 | 0.00 | 0.09 | |
| initialize-DetectedAI | 0.183 | 0.000 | 0.183 | |
| initialize-GlobalAnalysis | 0.003 | 0.000 | 0.003 | |
| initialize-RiskVariant | 0.001 | 0.000 | 0.001 | |
| legendBarplot | 0 | 0 | 0 | |
| locationplot | 1.644 | 0.012 | 1.656 | |
| lva | 74.865 | 0.320 | 75.184 | |
| lva.internal | 0.63 | 0.00 | 0.63 | |
| makeMaskedFasta | 1.201 | 0.108 | 1.309 | |
| mapBiasRef | 0.033 | 0.000 | 0.033 | |
| minCountFilt | 0.096 | 0.000 | 0.096 | |
| minFreqFilt | 0.092 | 0.004 | 0.095 | |
| multiAllelicFilt | 0.017 | 0.000 | 0.017 | |
| phase2genotype | 0.037 | 0.000 | 0.037 | |
| phaseArray2phaseMatrix | 0.020 | 0.000 | 0.019 | |
| phaseMatrix2Array | 0.015 | 0.004 | 0.019 | |
| randomRef | 0.029 | 0.000 | 0.029 | |
| reads | 0 | 0 | 0 | |
| refAllele | 0.018 | 0.000 | 0.018 | |
| regionSummary | 1.146 | 0.004 | 1.150 | |
| scanForHeterozygotes-old | 5.060 | 0.012 | 5.071 | |