| Back to Multiple platform build/check report for BioC 3.14 |
|
This page was generated on 2022-04-13 12:06:09 -0400 (Wed, 13 Apr 2022).
| Hostname | OS | Arch (*) | R version | Installed pkgs |
|---|---|---|---|---|
| nebbiolo2 | Linux (Ubuntu 20.04.4 LTS) | x86_64 | 4.1.3 (2022-03-10) -- "One Push-Up" | 4324 |
| tokay2 | Windows Server 2012 R2 Standard | x64 | 4.1.3 (2022-03-10) -- "One Push-Up" | 4077 |
| machv2 | macOS 10.14.6 Mojave | x86_64 | 4.1.3 (2022-03-10) -- "One Push-Up" | 4137 |
| Click on any hostname to see more info about the system (e.g. compilers) (*) as reported by 'uname -p', except on Windows and Mac OS X | ||||
|
To the developers/maintainers of the AgiMicroRna package: - Please allow up to 24 hours (and sometimes 48 hours) for your latest push to git@git.bioconductor.org:packages/AgiMicroRna.git to reflect on this report. See How and When does the builder pull? When will my changes propagate? for more information. - Make sure to use the following settings in order to reproduce any error or warning you see on this page. |
| Package 37/2083 | Hostname | OS / Arch | INSTALL | BUILD | CHECK | BUILD BIN | ||||||||
| AgiMicroRna 2.44.0 (landing page) Pedro Lopez-Romero
| nebbiolo2 | Linux (Ubuntu 20.04.4 LTS) / x86_64 | OK | OK | OK | |||||||||
| tokay2 | Windows Server 2012 R2 Standard / x64 | ERROR | OK | ERROR | ERROR | |||||||||
| machv2 | macOS 10.14.6 Mojave / x86_64 | OK | OK | OK | OK | |||||||||
| Package: AgiMicroRna |
| Version: 2.44.0 |
| Command: rm -rf AgiMicroRna.buildbin-libdir && mkdir AgiMicroRna.buildbin-libdir && C:\Users\biocbuild\bbs-3.14-bioc\R\bin\R.exe CMD INSTALL --merge-multiarch --build --library=AgiMicroRna.buildbin-libdir AgiMicroRna_2.44.0.tar.gz |
| StartedAt: 2022-04-13 05:34:00 -0400 (Wed, 13 Apr 2022) |
| EndedAt: 2022-04-13 05:34:45 -0400 (Wed, 13 Apr 2022) |
| EllapsedTime: 45.4 seconds |
| RetCode: 1 |
| Status: ERROR |
| PackageFile: None |
| PackageFileSize: NA |
##############################################################################
##############################################################################
###
### Running command:
###
### rm -rf AgiMicroRna.buildbin-libdir && mkdir AgiMicroRna.buildbin-libdir && C:\Users\biocbuild\bbs-3.14-bioc\R\bin\R.exe CMD INSTALL --merge-multiarch --build --library=AgiMicroRna.buildbin-libdir AgiMicroRna_2.44.0.tar.gz
###
##############################################################################
##############################################################################
install for i386
* installing *source* package 'AgiMicroRna' ...
** using staged installation
** R
** data
** inst
** byte-compile and prepare package for lazy loading
** help
*** installing help indices
converting help for package 'AgiMicroRna'
finding HTML links ... done
HeatMapMicroRna html
PCAplotMicroRna html
RleMicroRna html
basicLimma html
boxplotMicroRna html
cvArray html
dd.micro html
ddPROC html
dim.uRNAList html
dimnames.uRNAList html
esetMicroRna html
filterMicroRna html
getDecideTests html
hierclusMicroRna html
mvaBASIC html
mvaMicroRna html
plotDensityMicroRna html
pvalHistogram html
qcPlots html
readMicroRnaAFE html
readTargets html
rmaMicroRna html
significantMicroRna html
summary.uRNAList html
targets.micro html
tgsMicroRna html
tgsNormalization html
uRNAList html
writeEset html
** building package indices
** installing vignettes
** testing if installed package can be loaded from temporary location
ERROR: loading failed
* removing 'C:/Users/biocbuild/bbs-3.14-bioc/meat/AgiMicroRna.buildbin-libdir/AgiMicroRna'