| Back to Multiple platform build/check report for BioC 3.13 |
|
This page was generated on 2021-10-15 15:06:27 -0400 (Fri, 15 Oct 2021).
|
To the developers/maintainers of the vidger package: - Please allow up to 24 hours (and sometimes 48 hours) for your latest push to git@git.bioconductor.org:packages/vidger.git to reflect on this report. See How and When does the builder pull? When will my changes propagate? here for more information. - Make sure to use the following settings in order to reproduce any error or warning you see on this page. |
| Package 2006/2041 | Hostname | OS / Arch | INSTALL | BUILD | CHECK | BUILD BIN | ||||||||
| vidger 1.12.0 (landing page) Brandon Monier
| nebbiolo1 | Linux (Ubuntu 20.04.2 LTS) / x86_64 | OK | OK | OK | |||||||||
| tokay2 | Windows Server 2012 R2 Standard / x64 | OK | OK | OK | OK | |||||||||
| machv2 | macOS 10.14.6 Mojave / x86_64 | OK | OK | OK | OK | |||||||||
| Package: vidger |
| Version: 1.12.0 |
| Command: C:\cygwin\bin\curl.exe -O http://155.52.207.165/BBS/3.13/bioc/src/contrib/vidger_1.12.0.tar.gz && rm -rf vidger.buildbin-libdir && mkdir vidger.buildbin-libdir && C:\Users\biocbuild\bbs-3.13-bioc\R\bin\R.exe CMD INSTALL --merge-multiarch --build --library=vidger.buildbin-libdir vidger_1.12.0.tar.gz && C:\Users\biocbuild\bbs-3.13-bioc\R\bin\R.exe CMD INSTALL vidger_1.12.0.zip && rm vidger_1.12.0.tar.gz vidger_1.12.0.zip |
| StartedAt: 2021-10-14 09:33:15 -0400 (Thu, 14 Oct 2021) |
| EndedAt: 2021-10-14 09:34:24 -0400 (Thu, 14 Oct 2021) |
| EllapsedTime: 69.0 seconds |
| RetCode: 0 |
| Status: OK |
##############################################################################
##############################################################################
###
### Running command:
###
### C:\cygwin\bin\curl.exe -O http://155.52.207.165/BBS/3.13/bioc/src/contrib/vidger_1.12.0.tar.gz && rm -rf vidger.buildbin-libdir && mkdir vidger.buildbin-libdir && C:\Users\biocbuild\bbs-3.13-bioc\R\bin\R.exe CMD INSTALL --merge-multiarch --build --library=vidger.buildbin-libdir vidger_1.12.0.tar.gz && C:\Users\biocbuild\bbs-3.13-bioc\R\bin\R.exe CMD INSTALL vidger_1.12.0.zip && rm vidger_1.12.0.tar.gz vidger_1.12.0.zip
###
##############################################################################
##############################################################################
% Total % Received % Xferd Average Speed Time Time Time Current
Dload Upload Total Spent Left Speed
0 0 0 0 0 0 0 0 --:--:-- --:--:-- --:--:-- 0
0 3418k 0 13287 0 0 95017 0 0:00:36 --:--:-- 0:00:36 94907
44 3418k 44 1504k 0 0 1353k 0 0:00:02 0:00:01 0:00:01 1352k
100 3418k 100 3418k 0 0 1790k 0 0:00:01 0:00:01 --:--:-- 1790k
install for i386
* installing *source* package 'vidger' ...
** using staged installation
** R
** data
*** moving datasets to lazyload DB
** byte-compile and prepare package for lazy loading
** help
*** installing help indices
converting help for package 'vidger'
finding HTML links ... done
df.cuff html
df.deseq html
df.edger html
vsBoxPlot html
vsDEGMatrix html
vsFourWay html
vsMAMatrix html
vsMAPlot html
vsScatterMatrix html
vsScatterPlot html
vsVolcano html
vsVolcanoMatrix html
*** copying figures
** building package indices
** installing vignettes
** testing if installed package can be loaded from temporary location
** testing if installed package can be loaded from final location
** testing if installed package keeps a record of temporary installation path
install for x64
* installing *source* package 'vidger' ...
** testing if installed package can be loaded
* MD5 sums
packaged installation of 'vidger' as vidger_1.12.0.zip
* DONE (vidger)
* installing to library 'C:/Users/biocbuild/bbs-3.13-bioc/R/library'
package 'vidger' successfully unpacked and MD5 sums checked