| Back to Multiple platform build/check report for BioC 3.13 |
|
This page was generated on 2021-10-15 15:06:27 -0400 (Fri, 15 Oct 2021).
|
To the developers/maintainers of the vidger package: - Please allow up to 24 hours (and sometimes 48 hours) for your latest push to git@git.bioconductor.org:packages/vidger.git to reflect on this report. See How and When does the builder pull? When will my changes propagate? here for more information. - Make sure to use the following settings in order to reproduce any error or warning you see on this page. |
| Package 2006/2041 | Hostname | OS / Arch | INSTALL | BUILD | CHECK | BUILD BIN | ||||||||
| vidger 1.12.0 (landing page) Brandon Monier
| nebbiolo1 | Linux (Ubuntu 20.04.2 LTS) / x86_64 | OK | OK | OK | |||||||||
| tokay2 | Windows Server 2012 R2 Standard / x64 | OK | OK | OK | OK | |||||||||
| machv2 | macOS 10.14.6 Mojave / x86_64 | OK | OK | OK | OK | |||||||||
| Package: vidger |
| Version: 1.12.0 |
| Command: rm -rf vidger.buildbin-libdir && mkdir vidger.buildbin-libdir && C:\Users\biocbuild\bbs-3.13-bioc\R\bin\R.exe CMD INSTALL --merge-multiarch --build --library=vidger.buildbin-libdir vidger_1.12.0.tar.gz |
| StartedAt: 2021-10-15 12:23:04 -0400 (Fri, 15 Oct 2021) |
| EndedAt: 2021-10-15 12:24:21 -0400 (Fri, 15 Oct 2021) |
| EllapsedTime: 77.5 seconds |
| RetCode: 0 |
| Status: OK |
| PackageFile: vidger_1.12.0.zip |
| PackageFileSize: 6.309 MiB |
##############################################################################
##############################################################################
###
### Running command:
###
### rm -rf vidger.buildbin-libdir && mkdir vidger.buildbin-libdir && C:\Users\biocbuild\bbs-3.13-bioc\R\bin\R.exe CMD INSTALL --merge-multiarch --build --library=vidger.buildbin-libdir vidger_1.12.0.tar.gz
###
##############################################################################
##############################################################################
install for i386
* installing *source* package 'vidger' ...
** using staged installation
** R
** data
*** moving datasets to lazyload DB
** inst
** byte-compile and prepare package for lazy loading
** help
*** installing help indices
converting help for package 'vidger'
finding HTML links ... done
df.cuff html
df.deseq html
df.edger html
vsBoxPlot html
vsDEGMatrix html
vsFourWay html
vsMAMatrix html
vsMAPlot html
vsScatterMatrix html
vsScatterPlot html
vsVolcano html
vsVolcanoMatrix html
*** copying figures
** building package indices
** installing vignettes
** testing if installed package can be loaded from temporary location
** testing if installed package can be loaded from final location
** testing if installed package keeps a record of temporary installation path
install for x64
* installing *source* package 'vidger' ...
** testing if installed package can be loaded
* MD5 sums
packaged installation of 'vidger' as vidger_1.12.0.zip
* DONE (vidger)