| Back to Multiple platform build/check report for BioC 3.13 |
|
This page was generated on 2021-10-15 15:06:26 -0400 (Fri, 15 Oct 2021).
|
To the developers/maintainers of the twoddpcr package: - Please allow up to 24 hours (and sometimes 48 hours) for your latest push to git@git.bioconductor.org:packages/twoddpcr.git to reflect on this report. See How and When does the builder pull? When will my changes propagate? here for more information. - Make sure to use the following settings in order to reproduce any error or warning you see on this page. |
| Package 1979/2041 | Hostname | OS / Arch | INSTALL | BUILD | CHECK | BUILD BIN | ||||||||
| twoddpcr 1.16.0 (landing page) Anthony Chiu
| nebbiolo1 | Linux (Ubuntu 20.04.2 LTS) / x86_64 | OK | OK | OK | |||||||||
| tokay2 | Windows Server 2012 R2 Standard / x64 | OK | OK | OK | OK | |||||||||
| machv2 | macOS 10.14.6 Mojave / x86_64 | OK | OK | OK | OK | |||||||||
| Package: twoddpcr |
| Version: 1.16.0 |
| Command: C:\Users\biocbuild\bbs-3.13-bioc\R\bin\R.exe CMD check --force-multiarch --install=check:twoddpcr.install-out.txt --library=C:\Users\biocbuild\bbs-3.13-bioc\R\library --no-vignettes --timings twoddpcr_1.16.0.tar.gz |
| StartedAt: 2021-10-15 07:03:50 -0400 (Fri, 15 Oct 2021) |
| EndedAt: 2021-10-15 07:07:39 -0400 (Fri, 15 Oct 2021) |
| EllapsedTime: 229.2 seconds |
| RetCode: 0 |
| Status: OK |
| CheckDir: twoddpcr.Rcheck |
| Warnings: 0 |
##############################################################################
##############################################################################
###
### Running command:
###
### C:\Users\biocbuild\bbs-3.13-bioc\R\bin\R.exe CMD check --force-multiarch --install=check:twoddpcr.install-out.txt --library=C:\Users\biocbuild\bbs-3.13-bioc\R\library --no-vignettes --timings twoddpcr_1.16.0.tar.gz
###
##############################################################################
##############################################################################
* using log directory 'C:/Users/biocbuild/bbs-3.13-bioc/meat/twoddpcr.Rcheck'
* using R version 4.1.1 (2021-08-10)
* using platform: x86_64-w64-mingw32 (64-bit)
* using session charset: ISO8859-1
* using option '--no-vignettes'
* checking for file 'twoddpcr/DESCRIPTION' ... OK
* this is package 'twoddpcr' version '1.16.0'
* checking package namespace information ... OK
* checking package dependencies ... OK
* checking if this is a source package ... OK
* checking if there is a namespace ... OK
* checking for hidden files and directories ... OK
* checking for portable file names ... OK
* checking whether package 'twoddpcr' can be installed ... OK
* checking installed package size ... OK
* checking package directory ... OK
* checking 'build' directory ... OK
* checking DESCRIPTION meta-information ... OK
* checking top-level files ... OK
* checking for left-over files ... OK
* checking index information ... OK
* checking package subdirectories ... OK
* checking R files for non-ASCII characters ... OK
* checking R files for syntax errors ... OK
* loading checks for arch 'i386'
** checking whether the package can be loaded ... OK
** checking whether the package can be loaded with stated dependencies ... OK
** checking whether the package can be unloaded cleanly ... OK
** checking whether the namespace can be loaded with stated dependencies ... OK
** checking whether the namespace can be unloaded cleanly ... OK
* loading checks for arch 'x64'
** checking whether the package can be loaded ... OK
** checking whether the package can be loaded with stated dependencies ... OK
** checking whether the package can be unloaded cleanly ... OK
** checking whether the namespace can be loaded with stated dependencies ... OK
** checking whether the namespace can be unloaded cleanly ... OK
* checking dependencies in R code ... OK
* checking S3 generic/method consistency ... OK
* checking replacement functions ... OK
* checking foreign function calls ... OK
* checking R code for possible problems ... OK
* checking Rd files ... OK
* checking Rd metadata ... OK
* checking Rd cross-references ... OK
* checking for missing documentation entries ... OK
* checking for code/documentation mismatches ... OK
* checking Rd \usage sections ... OK
* checking Rd contents ... OK
* checking for unstated dependencies in examples ... OK
* checking contents of 'data' directory ... OK
* checking data for non-ASCII characters ... OK
* checking LazyData ... OK
* checking data for ASCII and uncompressed saves ... OK
* checking files in 'vignettes' ... OK
* checking examples ...
** running examples for arch 'i386' ... OK
Examples with CPU (user + system) or elapsed time > 5s
user system elapsed
ggplot.well 8.92 0.17 9.09
knnClassify 7.72 0.06 7.78
flatPlot 6.34 0.16 6.50
gridClassify 5.45 0.03 5.48
dropletPlot 5.27 0.05 5.32
** running examples for arch 'x64' ... OK
Examples with CPU (user + system) or elapsed time > 5s
user system elapsed
ggplot.well 7.96 0.10 8.04
knnClassify 7.20 0.06 7.26
gridClassify 5.33 0.07 5.40
flatPlot 5.11 0.09 5.20
* checking for unstated dependencies in 'tests' ... OK
* checking tests ...
** running tests for arch 'i386' ...
Running 'testthat.R'
OK
** running tests for arch 'x64' ...
Running 'testthat.R'
OK
* checking for unstated dependencies in vignettes ... OK
* checking package vignettes in 'inst/doc' ... OK
* checking running R code from vignettes ... SKIPPED
* checking re-building of vignette outputs ... SKIPPED
* checking PDF version of manual ... OK
* DONE
Status: OK
twoddpcr.Rcheck/00install.out
##############################################################################
##############################################################################
###
### Running command:
###
### C:\cygwin\bin\curl.exe -O http://155.52.207.165/BBS/3.13/bioc/src/contrib/twoddpcr_1.16.0.tar.gz && rm -rf twoddpcr.buildbin-libdir && mkdir twoddpcr.buildbin-libdir && C:\Users\biocbuild\bbs-3.13-bioc\R\bin\R.exe CMD INSTALL --merge-multiarch --build --library=twoddpcr.buildbin-libdir twoddpcr_1.16.0.tar.gz && C:\Users\biocbuild\bbs-3.13-bioc\R\bin\R.exe CMD INSTALL twoddpcr_1.16.0.zip && rm twoddpcr_1.16.0.tar.gz twoddpcr_1.16.0.zip
###
##############################################################################
##############################################################################
% Total % Received % Xferd Average Speed Time Time Time Current
Dload Upload Total Spent Left Speed
0 0 0 0 0 0 0 0 --:--:-- --:--:-- --:--:-- 0
4 877k 4 40497 0 0 256k 0 0:00:03 --:--:-- 0:00:03 256k
100 877k 100 877k 0 0 2055k 0 --:--:-- --:--:-- --:--:-- 2054k
install for i386
* installing *source* package 'twoddpcr' ...
** using staged installation
** R
** data
*** moving datasets to lazyload DB
** inst
** byte-compile and prepare package for lazy loading
** help
*** installing help indices
converting help for package 'twoddpcr'
finding HTML links ... done
KRAScounts html
KRASdata html
amplitudes html
basicsSummary html
castSummary html
classCov html
classMeans html
classStats html
clusterCentres html
copiesSummary html
ddpcr html
ddpcrPlate-class html
ddpcrWell-class html
ddpcrWell-methods html
dot-classifyDfOnChannel html
dot-classifyOnChannel html
dot-classwiseMahalanobisRain html
dot-cov html
dot-dependentCols html
dot-essentialDependentCols html
dot-extractWellNames html
dot-getAllSummary html
dot-getChannelCentres html
dot-getClassificationData html
dot-getMutCopies html
dot-getWellNames html
dot-getWtCopies html
dot-isTwoDimDataFrame html
dot-isWideForm html
dot-mahDist html
dot-matrixInverse html
dot-numberOfWells html
dot-renormaliseByChannel html
dot-renormaliseWell html
dot-roundIt html
dot-slice html
dot-totalCopies html
drawBlank html
dropletPlot html
elementType-SimpleList-method html
exportTable html
extractPlateName html
extractWellNames html
facetPlot html
flatPlot html
fullCopiesSummary html
fullCountsSummary html
getCutOff html
ggplot.well html
gridClassify html
heatPlot html
kmeansClassify html
knnClassify html
mahalanobisRain html
mutantCopiesSummary html
numDroplets html
numericInputRow html
parseClusterCounts html
plateClassification html
plateClassificationMethod html
plateSummary html
positiveCounts html
readCSVDataFrame html
relabelClasses html
removeDropletClasses html
renormalisePlate html
sdRain html
setChannelNames html
setDropletVolume html
shinyVis html
shinyVisApp html
shinyVisServer html
shinyVisUI html
sortDataFrame html
sortWells html
textInputRow html
thresholdClassify html
twoddpcr-package html
wellClassification html
wellClassificationMethod html
whiteTheme html
wildTypeCopiesSummary html
** building package indices
** installing vignettes
** testing if installed package can be loaded from temporary location
** testing if installed package can be loaded from final location
** testing if installed package keeps a record of temporary installation path
install for x64
* installing *source* package 'twoddpcr' ...
** testing if installed package can be loaded
* MD5 sums
packaged installation of 'twoddpcr' as twoddpcr_1.16.0.zip
* DONE (twoddpcr)
* installing to library 'C:/Users/biocbuild/bbs-3.13-bioc/R/library'
package 'twoddpcr' successfully unpacked and MD5 sums checked
|
twoddpcr.Rcheck/tests_i386/testthat.Rout
R version 4.1.1 (2021-08-10) -- "Kick Things"
Copyright (C) 2021 The R Foundation for Statistical Computing
Platform: i386-w64-mingw32/i386 (32-bit)
R is free software and comes with ABSOLUTELY NO WARRANTY.
You are welcome to redistribute it under certain conditions.
Type 'license()' or 'licence()' for distribution details.
R is a collaborative project with many contributors.
Type 'contributors()' for more information and
'citation()' on how to cite R or R packages in publications.
Type 'demo()' for some demos, 'help()' for on-line help, or
'help.start()' for an HTML browser interface to help.
Type 'q()' to quit R.
> library(testthat)
> library(twoddpcr)
>
> test_check("twoddpcr")
[ FAIL 0 | WARN 0 | SKIP 0 | PASS 155 ]
>
> proc.time()
user system elapsed
6.18 0.31 6.48
|
twoddpcr.Rcheck/tests_x64/testthat.Rout
R version 4.1.1 (2021-08-10) -- "Kick Things"
Copyright (C) 2021 The R Foundation for Statistical Computing
Platform: x86_64-w64-mingw32/x64 (64-bit)
R is free software and comes with ABSOLUTELY NO WARRANTY.
You are welcome to redistribute it under certain conditions.
Type 'license()' or 'licence()' for distribution details.
R is a collaborative project with many contributors.
Type 'contributors()' for more information and
'citation()' on how to cite R or R packages in publications.
Type 'demo()' for some demos, 'help()' for on-line help, or
'help.start()' for an HTML browser interface to help.
Type 'q()' to quit R.
> library(testthat)
> library(twoddpcr)
>
> test_check("twoddpcr")
[ FAIL 0 | WARN 0 | SKIP 0 | PASS 155 ]
>
> proc.time()
user system elapsed
6.82 0.42 7.25
|
|
twoddpcr.Rcheck/examples_i386/twoddpcr-Ex.timings
|
twoddpcr.Rcheck/examples_x64/twoddpcr-Ex.timings
|