| Back to Multiple platform build/check report for BioC 3.13 |
|
This page was generated on 2021-10-15 15:06:23 -0400 (Fri, 15 Oct 2021).
|
To the developers/maintainers of the sparsenetgls package: - Please allow up to 24 hours (and sometimes 48 hours) for your latest push to git@git.bioconductor.org:packages/sparsenetgls.git to reflect on this report. See How and When does the builder pull? When will my changes propagate? here for more information. - Make sure to use the following settings in order to reproduce any error or warning you see on this page. |
| Package 1812/2041 | Hostname | OS / Arch | INSTALL | BUILD | CHECK | BUILD BIN | ||||||||
| sparsenetgls 1.10.0 (landing page) Irene Zeng
| nebbiolo1 | Linux (Ubuntu 20.04.2 LTS) / x86_64 | OK | OK | OK | |||||||||
| tokay2 | Windows Server 2012 R2 Standard / x64 | OK | OK | OK | OK | |||||||||
| machv2 | macOS 10.14.6 Mojave / x86_64 | OK | OK | OK | OK | |||||||||
| Package: sparsenetgls |
| Version: 1.10.0 |
| Command: C:\cygwin\bin\curl.exe -O http://155.52.207.165/BBS/3.13/bioc/src/contrib/sparsenetgls_1.10.0.tar.gz && rm -rf sparsenetgls.buildbin-libdir && mkdir sparsenetgls.buildbin-libdir && C:\Users\biocbuild\bbs-3.13-bioc\R\bin\R.exe CMD INSTALL --merge-multiarch --build --library=sparsenetgls.buildbin-libdir sparsenetgls_1.10.0.tar.gz && C:\Users\biocbuild\bbs-3.13-bioc\R\bin\R.exe CMD INSTALL sparsenetgls_1.10.0.zip && rm sparsenetgls_1.10.0.tar.gz sparsenetgls_1.10.0.zip |
| StartedAt: 2021-10-14 07:24:46 -0400 (Thu, 14 Oct 2021) |
| EndedAt: 2021-10-14 07:26:17 -0400 (Thu, 14 Oct 2021) |
| EllapsedTime: 91.3 seconds |
| RetCode: 0 |
| Status: OK |
##############################################################################
##############################################################################
###
### Running command:
###
### C:\cygwin\bin\curl.exe -O http://155.52.207.165/BBS/3.13/bioc/src/contrib/sparsenetgls_1.10.0.tar.gz && rm -rf sparsenetgls.buildbin-libdir && mkdir sparsenetgls.buildbin-libdir && C:\Users\biocbuild\bbs-3.13-bioc\R\bin\R.exe CMD INSTALL --merge-multiarch --build --library=sparsenetgls.buildbin-libdir sparsenetgls_1.10.0.tar.gz && C:\Users\biocbuild\bbs-3.13-bioc\R\bin\R.exe CMD INSTALL sparsenetgls_1.10.0.zip && rm sparsenetgls_1.10.0.tar.gz sparsenetgls_1.10.0.zip
###
##############################################################################
##############################################################################
% Total % Received % Xferd Average Speed Time Time Time Current
Dload Upload Total Spent Left Speed
0 0 0 0 0 0 0 0 --:--:-- --:--:-- --:--:-- 0
100 19169 100 19169 0 0 160k 0 --:--:-- --:--:-- --:--:-- 161k
install for i386
* installing *source* package 'sparsenetgls' ...
** using staged installation
** R
** data
*** moving datasets to lazyload DB
** byte-compile and prepare package for lazy loading
** help
*** installing help indices
converting help for package 'sparsenetgls'
finding HTML links ... done
assess_direct html
bandprec html
convertbeta html
glassonet2 html
lassoglmnet html
path_result_for_roc html
plot_roc html
plotsngls html
sparsenetgls html
** building package indices
** installing vignettes
** testing if installed package can be loaded from temporary location
** testing if installed package can be loaded from final location
** testing if installed package keeps a record of temporary installation path
install for x64
* installing *source* package 'sparsenetgls' ...
** testing if installed package can be loaded
* MD5 sums
packaged installation of 'sparsenetgls' as sparsenetgls_1.10.0.zip
* DONE (sparsenetgls)
* installing to library 'C:/Users/biocbuild/bbs-3.13-bioc/R/library'
package 'sparsenetgls' successfully unpacked and MD5 sums checked