| Back to Multiple platform build/check report for BioC 3.13 |
|
This page was generated on 2021-10-15 15:05:53 -0400 (Fri, 15 Oct 2021).
|
To the developers/maintainers of the sparsenetgls package: - Please allow up to 24 hours (and sometimes 48 hours) for your latest push to git@git.bioconductor.org:packages/sparsenetgls.git to reflect on this report. See How and When does the builder pull? When will my changes propagate? here for more information. - Make sure to use the following settings in order to reproduce any error or warning you see on this page. |
| Package 1812/2041 | Hostname | OS / Arch | INSTALL | BUILD | CHECK | BUILD BIN | ||||||||
| sparsenetgls 1.10.0 (landing page) Irene Zeng
| nebbiolo1 | Linux (Ubuntu 20.04.2 LTS) / x86_64 | OK | OK | OK | |||||||||
| tokay2 | Windows Server 2012 R2 Standard / x64 | OK | OK | OK | OK | |||||||||
| machv2 | macOS 10.14.6 Mojave / x86_64 | OK | OK | OK | OK | |||||||||
| Package: sparsenetgls |
| Version: 1.10.0 |
| Command: /home/biocbuild/bbs-3.13-bioc/R/bin/R CMD check --install=check:sparsenetgls.install-out.txt --library=/home/biocbuild/bbs-3.13-bioc/R/library --no-vignettes --timings sparsenetgls_1.10.0.tar.gz |
| StartedAt: 2021-10-14 11:42:44 -0400 (Thu, 14 Oct 2021) |
| EndedAt: 2021-10-14 11:43:52 -0400 (Thu, 14 Oct 2021) |
| EllapsedTime: 68.3 seconds |
| RetCode: 0 |
| Status: OK |
| CheckDir: sparsenetgls.Rcheck |
| Warnings: 0 |
##############################################################################
##############################################################################
###
### Running command:
###
### /home/biocbuild/bbs-3.13-bioc/R/bin/R CMD check --install=check:sparsenetgls.install-out.txt --library=/home/biocbuild/bbs-3.13-bioc/R/library --no-vignettes --timings sparsenetgls_1.10.0.tar.gz
###
##############################################################################
##############################################################################
* using log directory ‘/home/biocbuild/bbs-3.13-bioc/meat/sparsenetgls.Rcheck’
* using R version 4.1.1 (2021-08-10)
* using platform: x86_64-pc-linux-gnu (64-bit)
* using session charset: UTF-8
* using option ‘--no-vignettes’
* checking for file ‘sparsenetgls/DESCRIPTION’ ... OK
* checking extension type ... Package
* this is package ‘sparsenetgls’ version ‘1.10.0’
* package encoding: UTF-8
* checking package namespace information ... OK
* checking package dependencies ... OK
* checking if this is a source package ... OK
* checking if there is a namespace ... OK
* checking for hidden files and directories ... OK
* checking for portable file names ... OK
* checking for sufficient/correct file permissions ... OK
* checking whether package ‘sparsenetgls’ can be installed ... OK
* checking installed package size ... OK
* checking package directory ... OK
* checking ‘build’ directory ... OK
* checking DESCRIPTION meta-information ... OK
* checking top-level files ... OK
* checking for left-over files ... OK
* checking index information ... OK
* checking package subdirectories ... OK
* checking R files for non-ASCII characters ... OK
* checking R files for syntax errors ... OK
* checking whether the package can be loaded ... OK
* checking whether the package can be loaded with stated dependencies ... OK
* checking whether the package can be unloaded cleanly ... OK
* checking whether the namespace can be loaded with stated dependencies ... OK
* checking whether the namespace can be unloaded cleanly ... OK
* checking dependencies in R code ... OK
* checking S3 generic/method consistency ... OK
* checking replacement functions ... OK
* checking foreign function calls ... OK
* checking R code for possible problems ... OK
* checking Rd files ... OK
* checking Rd metadata ... OK
* checking Rd cross-references ... OK
* checking for missing documentation entries ... OK
* checking for code/documentation mismatches ... OK
* checking Rd \usage sections ... OK
* checking Rd contents ... OK
* checking for unstated dependencies in examples ... OK
* checking contents of ‘data’ directory ... OK
* checking data for non-ASCII characters ... OK
* checking LazyData ... OK
* checking data for ASCII and uncompressed saves ... OK
* checking files in ‘vignettes’ ... OK
* checking examples ... OK
Examples with CPU (user + system) or elapsed time > 5s
user system elapsed
sparsenetgls 10.251 2.356 12.607
* checking for unstated dependencies in ‘tests’ ... OK
* checking tests ...
Running ‘testthat.R’
OK
* checking for unstated dependencies in vignettes ... OK
* checking package vignettes in ‘inst/doc’ ... OK
* checking running R code from vignettes ... SKIPPED
* checking re-building of vignette outputs ... SKIPPED
* checking PDF version of manual ... OK
* DONE
Status: OK
sparsenetgls.Rcheck/00install.out
############################################################################## ############################################################################## ### ### Running command: ### ### /home/biocbuild/bbs-3.13-bioc/R/bin/R CMD INSTALL sparsenetgls ### ############################################################################## ############################################################################## * installing to library ‘/home/biocbuild/bbs-3.13-bioc/R/library’ * installing *source* package ‘sparsenetgls’ ... ** using staged installation ** R ** data *** moving datasets to lazyload DB ** byte-compile and prepare package for lazy loading ** help *** installing help indices ** building package indices ** installing vignettes ** testing if installed package can be loaded from temporary location ** testing if installed package can be loaded from final location ** testing if installed package keeps a record of temporary installation path * DONE (sparsenetgls)
sparsenetgls.Rcheck/tests/testthat.Rout
R version 4.1.1 (2021-08-10) -- "Kick Things"
Copyright (C) 2021 The R Foundation for Statistical Computing
Platform: x86_64-pc-linux-gnu (64-bit)
R is free software and comes with ABSOLUTELY NO WARRANTY.
You are welcome to redistribute it under certain conditions.
Type 'license()' or 'licence()' for distribution details.
R is a collaborative project with many contributors.
Type 'contributors()' for more information and
'citation()' on how to cite R or R packages in publications.
Type 'demo()' for some demos, 'help()' for on-line help, or
'help.start()' for an HTML browser interface to help.
Type 'q()' to quit R.
> library(testthat)
> library(lme4)
Loading required package: Matrix
> library(Matrix)
> library(MASS)
> library(sparsenetgls)
>
> test_check("sparsenetgls")
The input is identified as the covariance matrix.
Conducting the graphical lasso (glasso) wtih lossless screening....in progress: 19%
Conducting the graphical lasso (glasso) wtih lossless screening....in progress: 40%
Conducting the graphical lasso (glasso) wtih lossless screening....in progress: 60%
Conducting the graphical lasso (glasso)....done.
The input is identified as the covariance matrix.
Conducting the graphical lasso (glasso) wtih lossy screening....in progress: 9%
Conducting the graphical lasso (glasso) wtih lossy screening....in progress: 19%
Conducting the graphical lasso (glasso) wtih lossy screening....in progress: 30%
Conducting the graphical lasso (glasso) wtih lossy screening....in progress: 40%
Conducting the graphical lasso (glasso) wtih lossy screening....in progress: 50%
Conducting the graphical lasso (glasso) wtih lossy screening....in progress: 60%
Conducting the graphical lasso (glasso) wtih lossy screening....in progress: 70%
Conducting the graphical lasso (glasso) wtih lossy screening....in progress: 80%
Conducting the graphical lasso (glasso) wtih lossy screening....in progress: 90%
Conducting the graphical lasso (glasso)....done.
[ FAIL 0 | WARN 0 | SKIP 0 | PASS 2 ]
>
> proc.time()
user system elapsed
11.276 3.653 14.916
sparsenetgls.Rcheck/sparsenetgls-Ex.timings
| name | user | system | elapsed | |
| assess_direct | 0 | 0 | 0 | |
| bandprec | 0.014 | 0.000 | 0.014 | |
| convertbeta | 0.213 | 0.000 | 0.214 | |
| glassonet2 | 0.601 | 0.000 | 0.601 | |
| lassoglmnet | 0.010 | 0.000 | 0.011 | |
| path_result_for_roc | 0.000 | 0.001 | 0.001 | |
| plot_roc | 0.004 | 0.002 | 0.005 | |
| plotsngls | 1.141 | 0.027 | 1.169 | |
| sparsenetgls | 10.251 | 2.356 | 12.607 | |