| Back to Multiple platform build/check report for BioC 3.13 |
|
This page was generated on 2021-10-15 15:06:18 -0400 (Fri, 15 Oct 2021).
|
To the developers/maintainers of the regioneR package: - Please allow up to 24 hours (and sometimes 48 hours) for your latest push to git@git.bioconductor.org:packages/regioneR.git to reflect on this report. See How and When does the builder pull? When will my changes propagate? here for more information. - Make sure to use the following settings in order to reproduce any error or warning you see on this page. |
| Package 1549/2041 | Hostname | OS / Arch | INSTALL | BUILD | CHECK | BUILD BIN | ||||||||
| regioneR 1.24.0 (landing page) Bernat Gel
| nebbiolo1 | Linux (Ubuntu 20.04.2 LTS) / x86_64 | OK | OK | OK | |||||||||
| tokay2 | Windows Server 2012 R2 Standard / x64 | OK | OK | OK | OK | |||||||||
| machv2 | macOS 10.14.6 Mojave / x86_64 | OK | OK | OK | OK | |||||||||
| Package: regioneR |
| Version: 1.24.0 |
| Command: rm -rf regioneR.buildbin-libdir && mkdir regioneR.buildbin-libdir && C:\Users\biocbuild\bbs-3.13-bioc\R\bin\R.exe CMD INSTALL --merge-multiarch --build --library=regioneR.buildbin-libdir regioneR_1.24.0.tar.gz |
| StartedAt: 2021-10-15 11:19:57 -0400 (Fri, 15 Oct 2021) |
| EndedAt: 2021-10-15 11:21:31 -0400 (Fri, 15 Oct 2021) |
| EllapsedTime: 93.7 seconds |
| RetCode: 0 |
| Status: OK |
| PackageFile: regioneR_1.24.0.zip |
| PackageFileSize: 1.61 MiB |
##############################################################################
##############################################################################
###
### Running command:
###
### rm -rf regioneR.buildbin-libdir && mkdir regioneR.buildbin-libdir && C:\Users\biocbuild\bbs-3.13-bioc\R\bin\R.exe CMD INSTALL --merge-multiarch --build --library=regioneR.buildbin-libdir regioneR_1.24.0.tar.gz
###
##############################################################################
##############################################################################
install for i386
* installing *source* package 'regioneR' ...
** using staged installation
** R
** inst
** byte-compile and prepare package for lazy loading
** help
*** installing help indices
converting help for package 'regioneR'
finding HTML links ... done
characterToBSGenome html
finding level-2 HTML links ... done
circularRandomizeRegions html
commonRegions html
createFunctionsList html
createRandomRegions html
emptyCacheRegioneR html
extendRegions html
filterChromosomes html
getChromosomesByOrganism html
getGenome html
getGenomeAndMask html
getMask html
joinRegions html
listChrTypes html
localZScore html
maskFromBSGenome html
meanDistance html
meanInRegions html
mergeRegions html
numOverlaps html
overlapGraphicalSummary html
overlapPermTest html
overlapRegions html
permTest html
plot.localZScoreResults html
plot.localZScoreResultsList html
plot.permTestResults html
plot.permTestResultsList html
plotRegions html
print.permTestResults html
randomizeRegions html
recomputePermTest html
resampleRegions html
splitRegions html
subtractRegions html
summary.permTestResults html
summary.permTestResultsList html
toDataframe html
toGRanges html
uniqueRegions html
** building package indices
** installing vignettes
** testing if installed package can be loaded from temporary location
** testing if installed package can be loaded from final location
** testing if installed package keeps a record of temporary installation path
install for x64
* installing *source* package 'regioneR' ...
** testing if installed package can be loaded
* MD5 sums
packaged installation of 'regioneR' as regioneR_1.24.0.zip
* DONE (regioneR)