| Back to Multiple platform build/check report for BioC 3.13 |
|
This page was generated on 2021-10-15 15:06:49 -0400 (Fri, 15 Oct 2021).
|
To the developers/maintainers of the regioneR package: - Please allow up to 24 hours (and sometimes 48 hours) for your latest push to git@git.bioconductor.org:packages/regioneR.git to reflect on this report. See How and When does the builder pull? When will my changes propagate? here for more information. - Make sure to use the following settings in order to reproduce any error or warning you see on this page. |
| Package 1549/2041 | Hostname | OS / Arch | INSTALL | BUILD | CHECK | BUILD BIN | ||||||||
| regioneR 1.24.0 (landing page) Bernat Gel
| nebbiolo1 | Linux (Ubuntu 20.04.2 LTS) / x86_64 | OK | OK | OK | |||||||||
| tokay2 | Windows Server 2012 R2 Standard / x64 | OK | OK | OK | OK | |||||||||
| machv2 | macOS 10.14.6 Mojave / x86_64 | OK | OK | OK | OK | |||||||||
| Package: regioneR |
| Version: 1.24.0 |
| Command: /Library/Frameworks/R.framework/Versions/Current/Resources/bin/R CMD check --install=check:regioneR.install-out.txt --library=/Library/Frameworks/R.framework/Versions/Current/Resources/library --no-vignettes --timings regioneR_1.24.0.tar.gz |
| StartedAt: 2021-10-14 23:00:51 -0400 (Thu, 14 Oct 2021) |
| EndedAt: 2021-10-14 23:10:45 -0400 (Thu, 14 Oct 2021) |
| EllapsedTime: 594.1 seconds |
| RetCode: 0 |
| Status: OK |
| CheckDir: regioneR.Rcheck |
| Warnings: 0 |
##############################################################################
##############################################################################
###
### Running command:
###
### /Library/Frameworks/R.framework/Versions/Current/Resources/bin/R CMD check --install=check:regioneR.install-out.txt --library=/Library/Frameworks/R.framework/Versions/Current/Resources/library --no-vignettes --timings regioneR_1.24.0.tar.gz
###
##############################################################################
##############################################################################
* using log directory ‘/Users/biocbuild/bbs-3.13-bioc/meat/regioneR.Rcheck’
* using R version 4.1.1 (2021-08-10)
* using platform: x86_64-apple-darwin17.0 (64-bit)
* using session charset: UTF-8
* using option ‘--no-vignettes’
* checking for file ‘regioneR/DESCRIPTION’ ... OK
* checking extension type ... Package
* this is package ‘regioneR’ version ‘1.24.0’
* package encoding: UTF-8
* checking package namespace information ... OK
* checking package dependencies ... OK
* checking if this is a source package ... OK
* checking if there is a namespace ... OK
* checking for hidden files and directories ... NOTE
Found the following hidden files and directories:
.git_fetch_output.txt
.git_merge_output.txt
These were most likely included in error. See section ‘Package
structure’ in the ‘Writing R Extensions’ manual.
* checking for portable file names ... OK
* checking for sufficient/correct file permissions ... OK
* checking whether package ‘regioneR’ can be installed ... OK
* checking installed package size ... OK
* checking package directory ... OK
* checking ‘build’ directory ... OK
* checking DESCRIPTION meta-information ... NOTE
Package listed in more than one of Depends, Imports, Suggests, Enhances:
‘GenomicRanges’
A package should be listed in only one of these fields.
* checking top-level files ... OK
* checking for left-over files ... OK
* checking index information ... OK
* checking package subdirectories ... OK
* checking R files for non-ASCII characters ... OK
* checking R files for syntax errors ... OK
* checking whether the package can be loaded ... OK
* checking whether the package can be loaded with stated dependencies ... OK
* checking whether the package can be unloaded cleanly ... OK
* checking whether the namespace can be loaded with stated dependencies ... OK
* checking whether the namespace can be unloaded cleanly ... OK
* checking dependencies in R code ... OK
* checking S3 generic/method consistency ... OK
* checking replacement functions ... OK
* checking foreign function calls ... OK
* checking R code for possible problems ... OK
* checking Rd files ... OK
* checking Rd metadata ... OK
* checking Rd cross-references ... OK
* checking for missing documentation entries ... OK
* checking for code/documentation mismatches ... OK
* checking Rd \usage sections ... OK
* checking Rd contents ... OK
* checking for unstated dependencies in examples ... OK
* checking files in ‘vignettes’ ... OK
* checking examples ... OK
Examples with CPU (user + system) or elapsed time > 5s
user system elapsed
circularRandomizeRegions 58.211 2.770 61.239
filterChromosomes 54.025 1.875 55.951
maskFromBSGenome 52.763 3.090 52.330
getMask 51.983 1.833 53.852
localZScore 6.520 0.496 8.696
* checking for unstated dependencies in ‘tests’ ... OK
* checking tests ...
Running ‘testthat.R’
OK
* checking for unstated dependencies in vignettes ... OK
* checking package vignettes in ‘inst/doc’ ... OK
* checking running R code from vignettes ... SKIPPED
* checking re-building of vignette outputs ... SKIPPED
* checking PDF version of manual ... OK
* DONE
Status: 2 NOTEs
See
‘/Users/biocbuild/bbs-3.13-bioc/meat/regioneR.Rcheck/00check.log’
for details.
regioneR.Rcheck/00install.out
############################################################################## ############################################################################## ### ### Running command: ### ### /Library/Frameworks/R.framework/Versions/Current/Resources/bin/R CMD INSTALL regioneR ### ############################################################################## ############################################################################## * installing to library ‘/Library/Frameworks/R.framework/Versions/4.1/Resources/library’ * installing *source* package ‘regioneR’ ... ** using staged installation ** R ** inst ** byte-compile and prepare package for lazy loading ** help *** installing help indices ** building package indices ** installing vignettes ** testing if installed package can be loaded from temporary location ** testing if installed package can be loaded from final location ** testing if installed package keeps a record of temporary installation path * DONE (regioneR)
regioneR.Rcheck/tests/testthat.Rout
R version 4.1.1 (2021-08-10) -- "Kick Things"
Copyright (C) 2021 The R Foundation for Statistical Computing
Platform: x86_64-apple-darwin17.0 (64-bit)
R is free software and comes with ABSOLUTELY NO WARRANTY.
You are welcome to redistribute it under certain conditions.
Type 'license()' or 'licence()' for distribution details.
R is a collaborative project with many contributors.
Type 'contributors()' for more information and
'citation()' on how to cite R or R packages in publications.
Type 'demo()' for some demos, 'help()' for on-line help, or
'help.start()' for an HTML browser interface to help.
Type 'q()' to quit R.
> library(testthat)
> library(regioneR)
Loading required package: GenomicRanges
Loading required package: stats4
Loading required package: BiocGenerics
Loading required package: parallel
Attaching package: 'BiocGenerics'
The following objects are masked from 'package:parallel':
clusterApply, clusterApplyLB, clusterCall, clusterEvalQ,
clusterExport, clusterMap, parApply, parCapply, parLapply,
parLapplyLB, parRapply, parSapply, parSapplyLB
The following objects are masked from 'package:stats':
IQR, mad, sd, var, xtabs
The following objects are masked from 'package:base':
Filter, Find, Map, Position, Reduce, anyDuplicated, append,
as.data.frame, basename, cbind, colnames, dirname, do.call,
duplicated, eval, evalq, get, grep, grepl, intersect, is.unsorted,
lapply, mapply, match, mget, order, paste, pmax, pmax.int, pmin,
pmin.int, rank, rbind, rownames, sapply, setdiff, sort, table,
tapply, union, unique, unsplit, which.max, which.min
Loading required package: S4Vectors
Attaching package: 'S4Vectors'
The following objects are masked from 'package:base':
I, expand.grid, unname
Loading required package: IRanges
Loading required package: GenomeInfoDb
>
> test_check("regioneR")
[ FAIL 0 | WARN 0 | SKIP 0 | PASS 89 ]
>
> proc.time()
user system elapsed
70.467 3.304 73.848
regioneR.Rcheck/regioneR-Ex.timings
| name | user | system | elapsed | |
| characterToBSGenome | 2.505 | 0.486 | 2.996 | |
| circularRandomizeRegions | 58.211 | 2.770 | 61.239 | |
| commonRegions | 0.520 | 0.001 | 0.521 | |
| createFunctionsList | 0.985 | 0.012 | 0.998 | |
| createRandomRegions | 0.412 | 0.002 | 0.414 | |
| emptyCacheRegioneR | 0.001 | 0.001 | 0.001 | |
| extendRegions | 0.290 | 0.002 | 0.292 | |
| filterChromosomes | 54.025 | 1.875 | 55.951 | |
| getChromosomesByOrganism | 0.002 | 0.001 | 0.003 | |
| getGenome | 0.383 | 0.013 | 0.396 | |
| getGenomeAndMask | 0.167 | 0.001 | 0.169 | |
| getMask | 51.983 | 1.833 | 53.852 | |
| joinRegions | 0.172 | 0.001 | 0.174 | |
| listChrTypes | 0.017 | 0.001 | 0.018 | |
| localZScore | 6.520 | 0.496 | 8.696 | |
| maskFromBSGenome | 52.763 | 3.090 | 52.330 | |
| meanDistance | 0.161 | 0.001 | 0.162 | |
| meanInRegions | 0.261 | 0.001 | 0.263 | |
| mergeRegions | 0.211 | 0.002 | 0.213 | |
| numOverlaps | 0.355 | 0.001 | 0.355 | |
| overlapGraphicalSummary | 0.200 | 0.001 | 0.201 | |
| overlapPermTest | 3.739 | 0.031 | 3.776 | |
| overlapRegions | 0.109 | 0.001 | 0.110 | |
| permTest | 2.783 | 0.006 | 2.791 | |
| plot.localZScoreResults | 2.653 | 0.003 | 2.658 | |
| plot.localZScoreResultsList | 4.517 | 0.005 | 4.526 | |
| plot.permTestResults | 3.554 | 0.008 | 3.566 | |
| plot.permTestResultsList | 4.021 | 0.012 | 4.037 | |
| plotRegions | 0.080 | 0.001 | 0.081 | |
| print.permTestResults | 2.124 | 0.004 | 2.128 | |
| randomizeRegions | 0.563 | 0.002 | 0.564 | |
| recomputePermTest | 1.401 | 0.005 | 1.407 | |
| resampleRegions | 0.119 | 0.001 | 0.119 | |
| splitRegions | 0.152 | 0.001 | 0.153 | |
| subtractRegions | 0.341 | 0.001 | 0.341 | |
| toDataframe | 0.046 | 0.001 | 0.047 | |
| toGRanges | 1.049 | 0.041 | 1.091 | |
| uniqueRegions | 0.599 | 0.009 | 0.609 | |