| Back to Multiple platform build/check report for BioC 3.13 |
|
This page was generated on 2021-10-15 15:06:20 -0400 (Fri, 15 Oct 2021).
|
To the developers/maintainers of the rTRM package: - Please allow up to 24 hours (and sometimes 48 hours) for your latest push to git@git.bioconductor.org:packages/rTRM.git to reflect on this report. See How and When does the builder pull? When will my changes propagate? here for more information. - Make sure to use the following settings in order to reproduce any error or warning you see on this page. |
| Package 1652/2041 | Hostname | OS / Arch | INSTALL | BUILD | CHECK | BUILD BIN | ||||||||
| rTRM 1.30.0 (landing page) Diego Diez
| nebbiolo1 | Linux (Ubuntu 20.04.2 LTS) / x86_64 | OK | OK | OK | |||||||||
| tokay2 | Windows Server 2012 R2 Standard / x64 | OK | OK | OK | OK | |||||||||
| machv2 | macOS 10.14.6 Mojave / x86_64 | OK | OK | OK | OK | |||||||||
| Package: rTRM |
| Version: 1.30.0 |
| Command: chmod a+r rTRM -R && C:\Users\biocbuild\bbs-3.13-bioc\R\bin\R.exe CMD build --keep-empty-dirs --no-resave-data rTRM |
| StartedAt: 2021-10-14 17:50:44 -0400 (Thu, 14 Oct 2021) |
| EndedAt: 2021-10-14 17:52:52 -0400 (Thu, 14 Oct 2021) |
| EllapsedTime: 128.5 seconds |
| RetCode: 0 |
| Status: OK |
| PackageFile: rTRM_1.30.0.tar.gz |
| PackageFileSize: 3.171 MiB |
##############################################################################
##############################################################################
###
### Running command:
###
### chmod a+r rTRM -R && C:\Users\biocbuild\bbs-3.13-bioc\R\bin\R.exe CMD build --keep-empty-dirs --no-resave-data rTRM
###
##############################################################################
##############################################################################
* checking for file 'rTRM/DESCRIPTION' ... OK
* preparing 'rTRM':
* checking DESCRIPTION meta-information ... OK
* installing the package to process help pages
* building the PDF package manual
Hmm ... looks like a package
Converting Rd files to LaTeX Loading required package: igraph
Attaching package: 'igraph'
The following objects are masked from 'package:stats':
decompose, spectrum
The following object is masked from 'package:base':
union
...
Creating pdf output from LaTeX ...
Saving output to 'C:/Users/biocbuild/bbs-3.13-bioc/tmpdir/RtmpMD3nss/Rbuild158071de71f2/rTRM/build/rTRM.pdf' ...
Done
* creating vignettes ... OK
* checking for LF line-endings in source and make files and shell scripts
* checking for empty or unneeded directories
* looking to see if a 'data/datalist' file should be added
* building 'rTRM_1.30.0.tar.gz'