| Back to Multiple platform build/check report for BioC 3.13 |
|
This page was generated on 2021-10-15 15:06:20 -0400 (Fri, 15 Oct 2021).
|
To the developers/maintainers of the rTRM package: - Please allow up to 24 hours (and sometimes 48 hours) for your latest push to git@git.bioconductor.org:packages/rTRM.git to reflect on this report. See How and When does the builder pull? When will my changes propagate? here for more information. - Make sure to use the following settings in order to reproduce any error or warning you see on this page. |
| Package 1652/2041 | Hostname | OS / Arch | INSTALL | BUILD | CHECK | BUILD BIN | ||||||||
| rTRM 1.30.0 (landing page) Diego Diez
| nebbiolo1 | Linux (Ubuntu 20.04.2 LTS) / x86_64 | OK | OK | OK | |||||||||
| tokay2 | Windows Server 2012 R2 Standard / x64 | OK | OK | OK | OK | |||||||||
| machv2 | macOS 10.14.6 Mojave / x86_64 | OK | OK | OK | OK | |||||||||
| Package: rTRM |
| Version: 1.30.0 |
| Command: rm -rf rTRM.buildbin-libdir && mkdir rTRM.buildbin-libdir && C:\Users\biocbuild\bbs-3.13-bioc\R\bin\R.exe CMD INSTALL --merge-multiarch --build --library=rTRM.buildbin-libdir rTRM_1.30.0.tar.gz |
| StartedAt: 2021-10-15 11:33:39 -0400 (Fri, 15 Oct 2021) |
| EndedAt: 2021-10-15 11:34:57 -0400 (Fri, 15 Oct 2021) |
| EllapsedTime: 78.6 seconds |
| RetCode: 0 |
| Status: OK |
| PackageFile: rTRM_1.30.0.zip |
| PackageFileSize: 3.056 MiB |
##############################################################################
##############################################################################
###
### Running command:
###
### rm -rf rTRM.buildbin-libdir && mkdir rTRM.buildbin-libdir && C:\Users\biocbuild\bbs-3.13-bioc\R\bin\R.exe CMD INSTALL --merge-multiarch --build --library=rTRM.buildbin-libdir rTRM_1.30.0.tar.gz
###
##############################################################################
##############################################################################
install for i386
* installing *source* package 'rTRM' ...
** using staged installation
** R
** data
** inst
** byte-compile and prepare package for lazy loading
** help
Loading required package: igraph
Attaching package: 'igraph'
The following objects are masked from 'package:stats':
decompose, spectrum
The following object is masked from 'package:base':
union
*** installing help indices
converting help for package 'rTRM'
finding HTML links ... done
annotateFreq html
annotateModule html
annotateTRM html
biogrid_hs html
biogrid_mm html
findTRM html
getAnnotations html
getBiogridData html
getConcentricList html
getLargestComp html
getMaps html
getMatrices html
getMotifsFromEntrezgene html
getMotifsFromSymbol html
getOrthologFromMatrix html
getOrthologs html
getOrthologsFromBiomart html
getSequencesFromGenome html
getSimilarityMatrix html
getTFclass html
getTFclassFromEntrezgene html
getTFterms html
initBiomart html
layout.arc html
layout.concentric html
plotDegree html
plotGraph html
plotTRM html
plotTRMlegend html
processBiogrid html
rTRM-package html
removeVertices html
writeTRMreport html
** building package indices
** installing vignettes
** testing if installed package can be loaded from temporary location
** testing if installed package can be loaded from final location
** testing if installed package keeps a record of temporary installation path
install for x64
* installing *source* package 'rTRM' ...
** testing if installed package can be loaded
* MD5 sums
packaged installation of 'rTRM' as rTRM_1.30.0.zip
* DONE (rTRM)