| Back to Multiple platform build/check report for BioC 3.13 |
|
This page was generated on 2021-10-15 15:06:17 -0400 (Fri, 15 Oct 2021).
|
To the developers/maintainers of the ptairMS package: - Please allow up to 24 hours (and sometimes 48 hours) for your latest push to git@git.bioconductor.org:packages/ptairMS.git to reflect on this report. See How and When does the builder pull? When will my changes propagate? here for more information. - Make sure to use the following settings in order to reproduce any error or warning you see on this page. |
| Package 1457/2041 | Hostname | OS / Arch | INSTALL | BUILD | CHECK | BUILD BIN | ||||||||
| ptairMS 1.0.1 (landing page) camille Roquencourt
| nebbiolo1 | Linux (Ubuntu 20.04.2 LTS) / x86_64 | OK | OK | OK | |||||||||
| tokay2 | Windows Server 2012 R2 Standard / x64 | OK | OK | OK | OK | |||||||||
| machv2 | macOS 10.14.6 Mojave / x86_64 | OK | OK | OK | OK | |||||||||
| Package: ptairMS |
| Version: 1.0.1 |
| Command: rm -rf ptairMS.buildbin-libdir && mkdir ptairMS.buildbin-libdir && C:\Users\biocbuild\bbs-3.13-bioc\R\bin\R.exe CMD INSTALL --merge-multiarch --build --library=ptairMS.buildbin-libdir ptairMS_1.0.1.tar.gz |
| StartedAt: 2021-10-15 11:07:46 -0400 (Fri, 15 Oct 2021) |
| EndedAt: 2021-10-15 11:09:09 -0400 (Fri, 15 Oct 2021) |
| EllapsedTime: 82.5 seconds |
| RetCode: 0 |
| Status: OK |
| PackageFile: ptairMS_1.0.1.zip |
| PackageFileSize: 2.613 MiB |
##############################################################################
##############################################################################
###
### Running command:
###
### rm -rf ptairMS.buildbin-libdir && mkdir ptairMS.buildbin-libdir && C:\Users\biocbuild\bbs-3.13-bioc\R\bin\R.exe CMD INSTALL --merge-multiarch --build --library=ptairMS.buildbin-libdir ptairMS_1.0.1.tar.gz
###
##############################################################################
##############################################################################
install for i386
* installing *source* package 'ptairMS' ...
** using staged installation
** libs
"C:/rtools40/mingw32/bin/"g++ -std=gnu++11 -I"C:/Users/BIOCBU~1/BBS-3~1.13-/R/include" -DNDEBUG -I'C:/Users/biocbuild/bbs-3.13-bioc/R/library/Rcpp/include' -I"c:/extsoft/include" -O2 -Wall -mfpmath=sse -msse2 -mstackrealign -c RcppExports.cpp -o RcppExports.o
"C:/rtools40/mingw32/bin/"g++ -std=gnu++11 -I"C:/Users/BIOCBU~1/BBS-3~1.13-/R/include" -DNDEBUG -I'C:/Users/biocbuild/bbs-3.13-bioc/R/library/Rcpp/include' -I"c:/extsoft/include" -O2 -Wall -mfpmath=sse -msse2 -mstackrealign -c align.cpp -o align.o
"C:/rtools40/mingw32/bin/"g++ -std=gnu++11 -I"C:/Users/BIOCBU~1/BBS-3~1.13-/R/include" -DNDEBUG -I'C:/Users/biocbuild/bbs-3.13-bioc/R/library/Rcpp/include' -I"c:/extsoft/include" -O2 -Wall -mfpmath=sse -msse2 -mstackrealign -c findEqualGreaterM.cpp -o findEqualGreaterM.o
C:/rtools40/mingw32/bin/g++ -std=gnu++11 -shared -s -static-libgcc -o ptairMS.dll tmp.def RcppExports.o align.o findEqualGreaterM.o -Lc:/extsoft/lib/i386 -Lc:/extsoft/lib -LC:/Users/BIOCBU~1/BBS-3~1.13-/R/bin/i386 -lR
installing to C:/Users/biocbuild/bbs-3.13-bioc/meat/ptairMS.buildbin-libdir/00LOCK-ptairMS/00new/ptairMS/libs/i386
** R
** inst
** byte-compile and prepare package for lazy loading
in method for 'annotateVOC' with signature '"ExpressionSet"': no definition for class "ExpressionSet"
in method for 'writeEset' with signature '"ExpressionSet"': no definition for class "ExpressionSet"
** help
*** installing help indices
converting help for package 'ptairMS'
finding HTML links ... done
LocalMaximaSG html
OptimalWindowsSG html
PeakList html
TransmissionCurve html
aggregate html
align html
alignSamples html
annotation html
calibration html
calibrationFun html
changeTimeLimits html
convert_to_mzML html
createPtrSet html
cumulative_fit_function html
deadTimeCorr html
defineKnots html
detectPeak html
determinePeakShape html
exportSampleMetada html
extractEIC html
fit_averagePeak html
fit_averagePeak_function html
formula2mass html
getDirectory html
getFileNames html
getPeakList html
getSampleMetadata html
importSampleMetadata html
impute html
imputeMat html
initializeFit html
makeSubGroup html
plot html
plotCalib html
plotFeatures html
plotPeakShape html
plotRaw html
plotTIC html
ptairMS-package html
ptrRaw html
ptrSet html
readRaw html
resetSampleMetadata html
rmPeakList html
setSampleMetadata html
show-ptrRaw-method html
show-ptrSet-method html
snipBase html
timeLimits html
updatePtrSet html
width html
writeEset html
** building package indices
** installing vignettes
** testing if installed package can be loaded from temporary location
** testing if installed package can be loaded from final location
** testing if installed package keeps a record of temporary installation path
install for x64
* installing *source* package 'ptairMS' ...
** libs
"C:/rtools40/mingw64/bin/"g++ -std=gnu++11 -I"C:/Users/BIOCBU~1/BBS-3~1.13-/R/include" -DNDEBUG -I'C:/Users/biocbuild/bbs-3.13-bioc/R/library/Rcpp/include' -I"C:/extsoft/include" -O2 -Wall -mfpmath=sse -msse2 -mstackrealign -c RcppExports.cpp -o RcppExports.o
"C:/rtools40/mingw64/bin/"g++ -std=gnu++11 -I"C:/Users/BIOCBU~1/BBS-3~1.13-/R/include" -DNDEBUG -I'C:/Users/biocbuild/bbs-3.13-bioc/R/library/Rcpp/include' -I"C:/extsoft/include" -O2 -Wall -mfpmath=sse -msse2 -mstackrealign -c align.cpp -o align.o
"C:/rtools40/mingw64/bin/"g++ -std=gnu++11 -I"C:/Users/BIOCBU~1/BBS-3~1.13-/R/include" -DNDEBUG -I'C:/Users/biocbuild/bbs-3.13-bioc/R/library/Rcpp/include' -I"C:/extsoft/include" -O2 -Wall -mfpmath=sse -msse2 -mstackrealign -c findEqualGreaterM.cpp -o findEqualGreaterM.o
C:/rtools40/mingw64/bin/g++ -std=gnu++11 -shared -s -static-libgcc -o ptairMS.dll tmp.def RcppExports.o align.o findEqualGreaterM.o -LC:/extsoft/lib/x64 -LC:/extsoft/lib -LC:/Users/BIOCBU~1/BBS-3~1.13-/R/bin/x64 -lR
installing to C:/Users/biocbuild/bbs-3.13-bioc/meat/ptairMS.buildbin-libdir/ptairMS/libs/x64
** testing if installed package can be loaded
* MD5 sums
packaged installation of 'ptairMS' as ptairMS_1.0.1.zip
* DONE (ptairMS)