| Back to Multiple platform build/check report for BioC 3.13 |
|
This page was generated on 2021-10-15 15:06:48 -0400 (Fri, 15 Oct 2021).
|
To the developers/maintainers of the ptairMS package: - Please allow up to 24 hours (and sometimes 48 hours) for your latest push to git@git.bioconductor.org:packages/ptairMS.git to reflect on this report. See How and When does the builder pull? When will my changes propagate? here for more information. - Make sure to use the following settings in order to reproduce any error or warning you see on this page. |
| Package 1457/2041 | Hostname | OS / Arch | INSTALL | BUILD | CHECK | BUILD BIN | ||||||||
| ptairMS 1.0.1 (landing page) camille Roquencourt
| nebbiolo1 | Linux (Ubuntu 20.04.2 LTS) / x86_64 | OK | OK | OK | |||||||||
| tokay2 | Windows Server 2012 R2 Standard / x64 | OK | OK | OK | OK | |||||||||
| machv2 | macOS 10.14.6 Mojave / x86_64 | OK | OK | OK | OK | |||||||||
| Package: ptairMS |
| Version: 1.0.1 |
| Command: /Library/Frameworks/R.framework/Versions/Current/Resources/bin/R CMD check --install=check:ptairMS.install-out.txt --library=/Library/Frameworks/R.framework/Versions/Current/Resources/library --no-vignettes --timings ptairMS_1.0.1.tar.gz |
| StartedAt: 2021-10-14 22:38:54 -0400 (Thu, 14 Oct 2021) |
| EndedAt: 2021-10-14 22:49:49 -0400 (Thu, 14 Oct 2021) |
| EllapsedTime: 655.1 seconds |
| RetCode: 0 |
| Status: OK |
| CheckDir: ptairMS.Rcheck |
| Warnings: 0 |
##############################################################################
##############################################################################
###
### Running command:
###
### /Library/Frameworks/R.framework/Versions/Current/Resources/bin/R CMD check --install=check:ptairMS.install-out.txt --library=/Library/Frameworks/R.framework/Versions/Current/Resources/library --no-vignettes --timings ptairMS_1.0.1.tar.gz
###
##############################################################################
##############################################################################
* using log directory ‘/Users/biocbuild/bbs-3.13-bioc/meat/ptairMS.Rcheck’
* using R version 4.1.1 (2021-08-10)
* using platform: x86_64-apple-darwin17.0 (64-bit)
* using session charset: UTF-8
* using option ‘--no-vignettes’
* checking for file ‘ptairMS/DESCRIPTION’ ... OK
* this is package ‘ptairMS’ version ‘1.0.1’
* package encoding: UTF-8
* checking package namespace information ... OK
* checking package dependencies ... OK
* checking if this is a source package ... OK
* checking if there is a namespace ... OK
* checking for hidden files and directories ... OK
* checking for portable file names ... OK
* checking for sufficient/correct file permissions ... OK
* checking whether package ‘ptairMS’ can be installed ... OK
* checking installed package size ... OK
* checking package directory ... OK
* checking ‘build’ directory ... OK
* checking DESCRIPTION meta-information ... OK
* checking top-level files ... OK
* checking for left-over files ... OK
* checking index information ... OK
* checking package subdirectories ... OK
* checking R files for non-ASCII characters ... OK
* checking R files for syntax errors ... OK
* checking whether the package can be loaded ... OK
* checking whether the package can be loaded with stated dependencies ... OK
* checking whether the package can be unloaded cleanly ... OK
* checking whether the namespace can be loaded with stated dependencies ... OK
* checking whether the namespace can be unloaded cleanly ... OK
* checking dependencies in R code ... OK
* checking S3 generic/method consistency ... OK
* checking replacement functions ... OK
* checking foreign function calls ... OK
* checking R code for possible problems ... OK
* checking Rd files ... OK
* checking Rd metadata ... OK
* checking Rd cross-references ... OK
* checking for missing documentation entries ... OK
* checking for code/documentation mismatches ... OK
* checking Rd \usage sections ... OK
* checking Rd contents ... OK
* checking for unstated dependencies in examples ... OK
* checking line endings in C/C++/Fortran sources/headers ... OK
* checking compiled code ... NOTE
Note: information on .o files is not available
* checking files in ‘vignettes’ ... OK
* checking examples ... OK
Examples with CPU (user + system) or elapsed time > 5s
user system elapsed
detectPeak 113.575 3.933 117.635
alignSamples 23.317 0.921 24.278
writeEset 18.937 0.758 19.703
imputeMat 18.772 0.796 19.589
annotation 17.633 0.810 18.455
impute 17.709 0.714 18.439
getPeakList 16.213 0.624 16.858
plotTIC 15.047 0.486 15.544
plot 14.647 0.479 15.174
plotRaw 14.267 0.601 14.884
plotFeatures 13.834 0.508 14.351
plotCalib 13.176 0.564 13.747
rmPeakList 12.723 0.409 13.146
updatePtrSet 12.539 0.437 12.986
resetSampleMetadata 12.425 0.457 12.891
setSampleMetadata 12.095 0.401 12.517
importSampleMetadata 11.618 0.440 12.070
exportSampleMetada 11.560 0.407 11.974
getSampleMetadata 11.308 0.467 11.782
getFileNames 11.057 0.440 11.539
getDirectory 10.728 0.429 11.171
defineKnots 10.613 0.470 11.098
changeTimeLimits 10.620 0.430 11.060
createPtrSet 10.160 0.525 10.716
convert_to_mzML 7.118 0.257 7.374
* checking for unstated dependencies in ‘tests’ ... OK
* checking tests ...
Running ‘testthat.R’
OK
* checking for unstated dependencies in vignettes ... OK
* checking package vignettes in ‘inst/doc’ ... OK
* checking running R code from vignettes ... SKIPPED
* checking re-building of vignette outputs ... SKIPPED
* checking PDF version of manual ... OK
* DONE
Status: 1 NOTE
See
‘/Users/biocbuild/bbs-3.13-bioc/meat/ptairMS.Rcheck/00check.log’
for details.
ptairMS.Rcheck/00install.out
############################################################################## ############################################################################## ### ### Running command: ### ### /Library/Frameworks/R.framework/Versions/Current/Resources/bin/R CMD INSTALL ptairMS ### ############################################################################## ############################################################################## * installing to library ‘/Library/Frameworks/R.framework/Versions/4.1/Resources/library’ * installing *source* package ‘ptairMS’ ... ** using staged installation ** libs clang++ -mmacosx-version-min=10.13 -std=gnu++14 -I"/Library/Frameworks/R.framework/Resources/include" -DNDEBUG -I'/Library/Frameworks/R.framework/Versions/4.1/Resources/library/Rcpp/include' -I/usr/local/include -fPIC -Wall -g -O2 -c RcppExports.cpp -o RcppExports.o clang++ -mmacosx-version-min=10.13 -std=gnu++14 -I"/Library/Frameworks/R.framework/Resources/include" -DNDEBUG -I'/Library/Frameworks/R.framework/Versions/4.1/Resources/library/Rcpp/include' -I/usr/local/include -fPIC -Wall -g -O2 -c align.cpp -o align.o clang++ -mmacosx-version-min=10.13 -std=gnu++14 -I"/Library/Frameworks/R.framework/Resources/include" -DNDEBUG -I'/Library/Frameworks/R.framework/Versions/4.1/Resources/library/Rcpp/include' -I/usr/local/include -fPIC -Wall -g -O2 -c findEqualGreaterM.cpp -o findEqualGreaterM.o clang++ -mmacosx-version-min=10.13 -std=gnu++14 -dynamiclib -Wl,-headerpad_max_install_names -undefined dynamic_lookup -single_module -multiply_defined suppress -L/Library/Frameworks/R.framework/Resources/lib -L/usr/local/lib -o ptairMS.so RcppExports.o align.o findEqualGreaterM.o -F/Library/Frameworks/R.framework/.. -framework R -Wl,-framework -Wl,CoreFoundation installing to /Library/Frameworks/R.framework/Versions/4.1/Resources/library/00LOCK-ptairMS/00new/ptairMS/libs ** R ** inst ** byte-compile and prepare package for lazy loading in method for ‘annotateVOC’ with signature ‘"ExpressionSet"’: no definition for class “ExpressionSet” in method for ‘writeEset’ with signature ‘"ExpressionSet"’: no definition for class “ExpressionSet” ** help *** installing help indices ** building package indices ** installing vignettes ** testing if installed package can be loaded from temporary location ** checking absolute paths in shared objects and dynamic libraries ** testing if installed package can be loaded from final location ** testing if installed package keeps a record of temporary installation path * DONE (ptairMS)
ptairMS.Rcheck/tests/testthat.Rout
R version 4.1.1 (2021-08-10) -- "Kick Things"
Copyright (C) 2021 The R Foundation for Statistical Computing
Platform: x86_64-apple-darwin17.0 (64-bit)
R is free software and comes with ABSOLUTELY NO WARRANTY.
You are welcome to redistribute it under certain conditions.
Type 'license()' or 'licence()' for distribution details.
R is a collaborative project with many contributors.
Type 'contributors()' for more information and
'citation()' on how to cite R or R packages in publications.
Type 'demo()' for some demos, 'help()' for on-line help, or
'help.start()' for an HTML browser interface to help.
Type 'q()' to quit R.
> library(testthat)
> library(ptairMS)
>
> test_check("ptairMS")
Control1.h5 : 3 peaks detected
Control2.h5 : 4 peaks detected
Specie-a1.h5 : 2 peaks detected
Specie-a2.h5 : 3 peaks detected
specie-b1.h5 : 4 peaks detected
specie-b2.h5 : 3 peaks detected
Control1.h5 : 2 peaks detected
Control2.h5 : 2 peaks detected
Specie-a1.h5 : 3 peaks detected
Specie-a2.h5 : 3 peaks detected
specie-b1.h5 : 2 peaks detected
specie-b2.h5 : 3 peaks detected
Control1.h5 : 4 peaks detected
Control2.h5 : 6 peaks detected
Specie-a1.h5 : 3 peaks detected
Specie-a2.h5 : 4 peaks detected
specie-b1.h5 : 5 peaks detected
specie-b2.h5 : 4 peaks detected
Control1.h5 : 3 peaks detected
Control2.h5 : 2 peaks detected
Specie-a1.h5 : 3 peaks detected
Specie-a2.h5 : 3 peaks detected
specie-b1.h5 : 5 peaks detected
specie-b2.h5 : 4 peaks detected
[ FAIL 0 | WARN 0 | SKIP 0 | PASS 59 ]
>
> proc.time()
user system elapsed
106.271 4.313 110.651
ptairMS.Rcheck/ptairMS-Ex.timings
| name | user | system | elapsed | |
| LocalMaximaSG | 0.045 | 0.008 | 0.053 | |
| PeakList | 0.948 | 0.138 | 1.153 | |
| alignSamples | 23.317 | 0.921 | 24.278 | |
| annotation | 17.633 | 0.810 | 18.455 | |
| calibration | 0.818 | 0.050 | 0.871 | |
| changeTimeLimits | 10.62 | 0.43 | 11.06 | |
| convert_to_mzML | 7.118 | 0.257 | 7.374 | |
| createPtrSet | 10.160 | 0.525 | 10.716 | |
| defineKnots | 10.613 | 0.470 | 11.098 | |
| detectPeak | 113.575 | 3.933 | 117.635 | |
| exportSampleMetada | 11.560 | 0.407 | 11.974 | |
| formula2mass | 0.004 | 0.001 | 0.004 | |
| getDirectory | 10.728 | 0.429 | 11.171 | |
| getFileNames | 11.057 | 0.440 | 11.539 | |
| getPeakList | 16.213 | 0.624 | 16.858 | |
| getSampleMetadata | 11.308 | 0.467 | 11.782 | |
| importSampleMetadata | 11.618 | 0.440 | 12.070 | |
| impute | 17.709 | 0.714 | 18.439 | |
| imputeMat | 18.772 | 0.796 | 19.589 | |
| plot | 14.647 | 0.479 | 15.174 | |
| plotCalib | 13.176 | 0.564 | 13.747 | |
| plotFeatures | 13.834 | 0.508 | 14.351 | |
| plotRaw | 14.267 | 0.601 | 14.884 | |
| plotTIC | 15.047 | 0.486 | 15.544 | |
| readRaw | 0.151 | 0.018 | 0.169 | |
| resetSampleMetadata | 12.425 | 0.457 | 12.891 | |
| rmPeakList | 12.723 | 0.409 | 13.146 | |
| setSampleMetadata | 12.095 | 0.401 | 12.517 | |
| timeLimits | 1.438 | 0.068 | 1.509 | |
| updatePtrSet | 12.539 | 0.437 | 12.986 | |
| writeEset | 18.937 | 0.758 | 19.703 | |