| Back to Multiple platform build/check report for BioC 3.13 |
|
This page was generated on 2021-10-15 15:05:46 -0400 (Fri, 15 Oct 2021).
|
To the developers/maintainers of the ndexr package: - Please allow up to 24 hours (and sometimes 48 hours) for your latest push to git@git.bioconductor.org:packages/ndexr.git to reflect on this report. See How and When does the builder pull? When will my changes propagate? here for more information. - Make sure to use the following settings in order to reproduce any error or warning you see on this page. |
| Package 1255/2041 | Hostname | OS / Arch | INSTALL | BUILD | CHECK | BUILD BIN | ||||||||
| ndexr 1.14.1 (landing page) Florian Auer
| nebbiolo1 | Linux (Ubuntu 20.04.2 LTS) / x86_64 | OK | OK | OK | |||||||||
| tokay2 | Windows Server 2012 R2 Standard / x64 | OK | OK | OK | OK | |||||||||
| machv2 | macOS 10.14.6 Mojave / x86_64 | OK | OK | OK | OK | |||||||||
| Package: ndexr |
| Version: 1.14.1 |
| Command: /home/biocbuild/bbs-3.13-bioc/R/bin/R CMD check --install=check:ndexr.install-out.txt --library=/home/biocbuild/bbs-3.13-bioc/R/library --no-vignettes --timings ndexr_1.14.1.tar.gz |
| StartedAt: 2021-10-14 10:47:23 -0400 (Thu, 14 Oct 2021) |
| EndedAt: 2021-10-14 10:48:28 -0400 (Thu, 14 Oct 2021) |
| EllapsedTime: 64.5 seconds |
| RetCode: 0 |
| Status: OK |
| CheckDir: ndexr.Rcheck |
| Warnings: 0 |
##############################################################################
##############################################################################
###
### Running command:
###
### /home/biocbuild/bbs-3.13-bioc/R/bin/R CMD check --install=check:ndexr.install-out.txt --library=/home/biocbuild/bbs-3.13-bioc/R/library --no-vignettes --timings ndexr_1.14.1.tar.gz
###
##############################################################################
##############################################################################
* using log directory ‘/home/biocbuild/bbs-3.13-bioc/meat/ndexr.Rcheck’
* using R version 4.1.1 (2021-08-10)
* using platform: x86_64-pc-linux-gnu (64-bit)
* using session charset: UTF-8
* using option ‘--no-vignettes’
* checking for file ‘ndexr/DESCRIPTION’ ... OK
* checking extension type ... Package
* this is package ‘ndexr’ version ‘1.14.1’
* package encoding: UTF-8
* checking package namespace information ... OK
* checking package dependencies ... OK
* checking if this is a source package ... OK
* checking if there is a namespace ... OK
* checking for hidden files and directories ... OK
* checking for portable file names ... OK
* checking for sufficient/correct file permissions ... OK
* checking whether package ‘ndexr’ can be installed ... OK
* checking installed package size ... OK
* checking package directory ... OK
* checking ‘build’ directory ... OK
* checking DESCRIPTION meta-information ... NOTE
Deprecated license: BSD
* checking top-level files ... OK
* checking for left-over files ... OK
* checking index information ... OK
* checking package subdirectories ... OK
* checking R files for non-ASCII characters ... OK
* checking R files for syntax errors ... OK
* checking whether the package can be loaded ... OK
* checking whether the package can be loaded with stated dependencies ... OK
* checking whether the package can be unloaded cleanly ... OK
* checking whether the namespace can be loaded with stated dependencies ... OK
* checking whether the namespace can be unloaded cleanly ... OK
* checking dependencies in R code ... NOTE
Package in Depends field not imported from: ‘igraph’
These packages need to be imported from (in the NAMESPACE file)
for when this namespace is loaded but not attached.
Unexported object imported by a ':::' call: ‘httr:::default_ua’
See the note in ?`:::` about the use of this operator.
* checking S3 generic/method consistency ... OK
* checking replacement functions ... OK
* checking foreign function calls ... OK
* checking R code for possible problems ... NOTE
ndex_create_network: no visible global function definition for ‘tail’
ndex_rest_DELETE: no visible global function definition for
‘packageVersion’
ndex_rest_GET: no visible global function definition for
‘packageVersion’
ndex_rest_POST: no visible global function definition for
‘packageVersion’
ndex_rest_PUT: no visible global function definition for
‘packageVersion’
rcx_fromRCXgraph: no visible binding for global variable ‘po’
rcx_toRCXgraph: no visible global function definition for ‘V’
rcx_toRCXgraph: no visible global function definition for ‘V<-’
rcx_toRCXgraph: no visible global function definition for ‘E’
rcx_toRCXgraph: no visible global function definition for ‘E<-’
rcxgraph_fromRCX: no visible global function definition for ‘V’
rcxgraph_fromRCX: no visible global function definition for ‘V<-’
rcxgraph_fromRCX: no visible global function definition for ‘E’
rcxgraph_fromRCX: no visible global function definition for ‘E<-’
rcxgraph_toRCX: no visible binding for global variable ‘po’
Undefined global functions or variables:
E E<- V V<- packageVersion po tail
Consider adding
importFrom("utils", "packageVersion", "tail")
to your NAMESPACE file.
* checking Rd files ... OK
* checking Rd metadata ... OK
* checking Rd cross-references ... OK
* checking for missing documentation entries ... OK
* checking for code/documentation mismatches ... OK
* checking Rd \usage sections ... OK
* checking Rd contents ... OK
* checking for unstated dependencies in examples ... OK
* checking installed files from ‘inst/doc’ ... OK
* checking files in ‘vignettes’ ... OK
* checking examples ... OK
* checking for unstated dependencies in ‘tests’ ... OK
* checking tests ...
Running ‘testthat.R’
OK
* checking for unstated dependencies in vignettes ... OK
* checking package vignettes in ‘inst/doc’ ... OK
* checking running R code from vignettes ... SKIPPED
* checking re-building of vignette outputs ... SKIPPED
* checking PDF version of manual ... OK
* DONE
Status: 3 NOTEs
See
‘/home/biocbuild/bbs-3.13-bioc/meat/ndexr.Rcheck/00check.log’
for details.
ndexr.Rcheck/00install.out
############################################################################## ############################################################################## ### ### Running command: ### ### /home/biocbuild/bbs-3.13-bioc/R/bin/R CMD INSTALL ndexr ### ############################################################################## ############################################################################## * installing to library ‘/home/biocbuild/bbs-3.13-bioc/R/library’ * installing *source* package ‘ndexr’ ... ** using staged installation ** R ** inst ** byte-compile and prepare package for lazy loading ** help *** installing help indices ** building package indices ** installing vignettes ** testing if installed package can be loaded from temporary location ** testing if installed package can be loaded from final location ** testing if installed package keeps a record of temporary installation path * DONE (ndexr)
ndexr.Rcheck/tests/testthat.Rout
R version 4.1.1 (2021-08-10) -- "Kick Things"
Copyright (C) 2021 The R Foundation for Statistical Computing
Platform: x86_64-pc-linux-gnu (64-bit)
R is free software and comes with ABSOLUTELY NO WARRANTY.
You are welcome to redistribute it under certain conditions.
Type 'license()' or 'licence()' for distribution details.
R is a collaborative project with many contributors.
Type 'contributors()' for more information and
'citation()' on how to cite R or R packages in publications.
Type 'demo()' for some demos, 'help()' for on-line help, or
'help.start()' for an HTML browser interface to help.
Type 'q()' to quit R.
> library(testthat)
> library(ndexr)
Loading required package: igraph
Attaching package: 'igraph'
The following object is masked from 'package:testthat':
compare
The following objects are masked from 'package:stats':
decompose, spectrum
The following object is masked from 'package:base':
union
>
> test_check("ndexr")
[ FAIL 0 | WARN 0 | SKIP 0 | PASS 148 ]
>
> proc.time()
user system elapsed
12.509 0.409 30.623
ndexr.Rcheck/ndexr-Ex.timings
| name | user | system | elapsed | |
| listToRCode | 0 | 0 | 0 | |
| ndex_conf_header | 0 | 0 | 0 | |
| ndex_config | 0.001 | 0.000 | 0.001 | |
| ndex_connect | 0.054 | 0.008 | 0.795 | |
| ndex_create_group | 0.001 | 0.000 | 0.000 | |
| ndex_create_network | 0.001 | 0.000 | 0.001 | |
| ndex_create_user | 0.000 | 0.000 | 0.001 | |
| ndex_delete_group | 0 | 0 | 0 | |
| ndex_delete_network | 0.001 | 0.000 | 0.000 | |
| ndex_delete_user | 0.000 | 0.000 | 0.001 | |
| ndex_find_groups | 0.054 | 0.003 | 0.334 | |
| ndex_find_networks | 0.079 | 0.001 | 0.744 | |
| ndex_find_user_byId | 0.034 | 0.000 | 0.265 | |
| ndex_find_user_byName | 0.023 | 0.000 | 0.177 | |
| ndex_find_users | 0.022 | 0.003 | 0.295 | |
| ndex_get_group | 0.042 | 0.000 | 0.393 | |
| ndex_get_network | 0.264 | 0.000 | 0.611 | |
| ndex_group_delete_membership | 0 | 0 | 0 | |
| ndex_group_list_networks | 0.071 | 0.000 | 0.500 | |
| ndex_group_list_users | 0.023 | 0.000 | 0.297 | |
| ndex_group_network_get_permission | 0.031 | 0.000 | 0.395 | |
| ndex_group_set_membership | 0.001 | 0.000 | 0.001 | |
| ndex_helper_encodeParams | 0.002 | 0.000 | 0.003 | |
| ndex_helper_getApi | 0.004 | 0.006 | 0.088 | |
| ndex_helper_httpResponseHandler | 0.015 | 0.004 | 0.095 | |
| ndex_internal_addAspects | 0.000 | 0.000 | 0.001 | |
| ndex_network_aspect_get_metadata | 0.041 | 0.000 | 0.391 | |
| ndex_network_delete_permission | 0.000 | 0.001 | 0.001 | |
| ndex_network_get_aspect | 0.069 | 0.003 | 0.512 | |
| ndex_network_get_metadata | 0.043 | 0.003 | 0.526 | |
| ndex_network_get_permission | 0.000 | 0.001 | 0.001 | |
| ndex_network_get_provenance | 0.077 | 0.000 | 0.435 | |
| ndex_network_get_summary | 0.038 | 0.003 | 0.388 | |
| ndex_network_set_systemProperties | 0.001 | 0.000 | 0.001 | |
| ndex_network_update_aspect | 0 | 0 | 0 | |
| ndex_network_update_permission | 0.000 | 0.001 | 0.001 | |
| ndex_network_update_profile | 0 | 0 | 0 | |
| ndex_rest_DELETE | 0.003 | 0.003 | 0.083 | |
| ndex_rest_GET | 0.004 | 0.003 | 0.083 | |
| ndex_rest_POST | 0.006 | 0.001 | 0.083 | |
| ndex_rest_PUT | 0.006 | 0.000 | 0.083 | |
| ndex_update_group | 0.001 | 0.000 | 0.001 | |
| ndex_update_network | 0.000 | 0.000 | 0.001 | |
| ndex_update_user | 0.001 | 0.000 | 0.000 | |
| ndex_user_change_password | 0.000 | 0.000 | 0.001 | |
| ndex_user_forgot_password | 0.001 | 0.000 | 0.000 | |
| ndex_user_get_networksummary | 0 | 0 | 0 | |
| ndex_user_get_showcase | 0.038 | 0.000 | 0.270 | |
| ndex_user_list_groups | 0.000 | 0.001 | 0.001 | |
| ndex_user_list_permissions | 0.000 | 0.000 | 0.001 | |
| ndex_user_mail_password | 0.001 | 0.000 | 0.001 | |
| ndex_user_show_group | 0.000 | 0.000 | 0.001 | |
| ndex_user_show_permission | 0.001 | 0.000 | 0.000 | |
| ndex_verify_user | 0.000 | 0.001 | 0.001 | |
| ndexr-package | 0.000 | 0.001 | 0.001 | |
| ngraph_toRCX | 0.004 | 0.001 | 0.004 | |
| print.NDExConnection | 0.014 | 0.001 | 0.169 | |
| print.RCX | 0.008 | 0.002 | 0.010 | |
| rcx_asNewNetwork | 0.003 | 0.000 | 0.003 | |
| rcx_aspect_toJSON | 0.004 | 0.000 | 0.004 | |
| rcx_fromJSON | 0.11 | 0.00 | 0.11 | |
| rcx_new | 0.011 | 0.000 | 0.011 | |
| rcx_toJSON | 0.008 | 0.000 | 0.007 | |
| rcx_toNGraph | 0.002 | 0.000 | 0.002 | |
| rcx_toRCXgraph | 0.005 | 0.004 | 0.009 | |
| rcx_updateMetaData | 0.003 | 0.000 | 0.003 | |
| rcxgraph_toRCX | 0.002 | 0.002 | 0.004 | |